BEGIN:VCALENDAR
VERSION:2.0
PRODID:-//Episcopal Church of the Redeemer - ECPv6.15.20//NONSGML v1.0//EN
CALSCALE:GREGORIAN
METHOD:PUBLISH
X-ORIGINAL-URL:https://redeemer-kenmore.org
X-WR-CALDESC:Events for Episcopal Church of the Redeemer
REFRESH-INTERVAL;VALUE=DURATION:PT1H
X-Robots-Tag:noindex
X-PUBLISHED-TTL:PT1H
BEGIN:VTIMEZONE
TZID:America/Los_Angeles
BEGIN:DAYLIGHT
TZOFFSETFROM:-0800
TZOFFSETTO:-0700
TZNAME:PDT
DTSTART:20220313T100000
END:DAYLIGHT
BEGIN:STANDARD
TZOFFSETFROM:-0700
TZOFFSETTO:-0800
TZNAME:PST
DTSTART:20221106T090000
END:STANDARD
BEGIN:DAYLIGHT
TZOFFSETFROM:-0800
TZOFFSETTO:-0700
TZNAME:PDT
DTSTART:20230312T100000
END:DAYLIGHT
BEGIN:STANDARD
TZOFFSETFROM:-0700
TZOFFSETTO:-0800
TZNAME:PST
DTSTART:20231105T090000
END:STANDARD
BEGIN:DAYLIGHT
TZOFFSETFROM:-0800
TZOFFSETTO:-0700
TZNAME:PDT
DTSTART:20240310T100000
END:DAYLIGHT
BEGIN:STANDARD
TZOFFSETFROM:-0700
TZOFFSETTO:-0800
TZNAME:PST
DTSTART:20241103T090000
END:STANDARD
END:VTIMEZONE
BEGIN:VEVENT
DTSTART;TZID=America/Los_Angeles:20231231T000000
DTEND;TZID=America/Los_Angeles:20231231T235959
DTSTAMP:20260419T110330
CREATED:20231207T005711Z
LAST-MODIFIED:20231207T013711Z
UID:10003654-1703980800-1704067199@redeemer-kenmore.org
SUMMARY:The 1st Sunday after Christmas (Year B)
DESCRIPTION:Prayers\n\n\n\nPurify our conscience\, Almighty God\, by your daily visitation\, that your Son Jesus Christ\, at his coming\, may find in us a mansion prepared for himself; who lives and reigns with you\, in the unity of the Holy Spirit\, one God\, now and for ever. Amen. \n\n\n\nAnglican Cycle of Prayer\n\n\n\nThe Most Rev. Justin Welby\, Archbishop of Canterbury \n\n\n\nThe Episcopal Church in the Philippines \n\n\n\nEpiscopal Church\n\n\n\nThe Most Rev. Michael\, Presiding Bishop of the Episcopal ChurchThe Joint Nominating Committee for the Election of the Presiding Bishop \n\n\n\nDiocese of Olympia\n\n\n\nThe Most Rev. Melissa Skelton\, Bishop Provisional of the Diocese of OlympiaThe Bishop Search Committee \n\n\n\nGood Shepherd\, VancouverSt. Luke’s/San Lucas\, Vancouver (Columbia) \n\n\n\nThose in authority\n\n\n\nJoseph R. Biden\, Jr\, President of the United StatesKamala Harris\, Vice President of the United States \n\n\n\nJay Inslee\, Governor of Washington \n\n\n\nTeri Gobin\, Chair of the Tulalip PeoplesCecile Hanson\, Chair of the Duwamish PeopleFawn Sharp\, President of the National Congress of American Indians \n\n\n\nLessons\n\n\n\nLessons appointed for use for this day from the Revised Common Lectionary (Episcopal version). \n\n\n\nIsaiah 61:10—62:3 (NRSV)\n\n\n\nI will greatly rejoice in the Lord\, my whole being shall exult in my God; for he has clothed me with the garments of salvation\, he has covered me with the robe of righteousness\, as a bridegroom decks himself with a garland\, and as a bride adorns herself with her jewels. For as the earth brings forth its shoots\, and as a garden causes what is sown in it to spring up\, so the Lord God will cause righteousness and praise to spring up before all the nations. For Zion’s sake I will not keep silent\, and for Jerusalem’s sake I will not rest\, until her vindication shines out like the dawn\, and her salvation like a burning torch. The nations shall see your vindication\, and all the kings your glory; and you shall be called by a new name that the mouth of the Lord will give. You shall be a crown of beauty in the hand of the Lord\, and a royal diadem in the hand of your God. \n\n\n\nPsalm 147 (BCP)\n\n\n\nLaudate Dominum \n\n\n\n1 Hallelujah! How good it is to sing praises to our God! *    how pleasant it is to honor him with praise! \n\n\n\n2 The Lord rebuilds Jerusalem; *    he gathers the exiles of Israel. \n\n\n\n3 He heals the brokenhearted *    and binds up their wounds. \n\n\n\n4 He counts the number of the stars *    and calls them all by their names. \n\n\n\n5 Great is our Lord and mighty in power; *    there is no limit to his wisdom. \n\n\n\n6 The Lord lifts up the lowly\, *    but casts the wicked to the ground. \n\n\n\n7 Sing to the Lord with thanksgiving; *    make music to our God upon the harp. \n\n\n\n8 He covers the heavens with clouds *    and prepares rain for the earth; \n\n\n\n9 He makes grass to grow upon the mountains *    and green plants to serve mankind. \n\n\n\n10 He provides food for flocks and herds *    and for the young ravens when they cry. \n\n\n\n11 He is not impressed by the might of a horse; *    he has no pleasure in the strength of a man; \n\n\n\n12 But the Lord has pleasure in those who fear him\, *in those who await his gracious favor. \n\n\n\n13 Worship the Lord\, O Jerusalem; *    praise your God\, O Zion; \n\n\n\n14 For he has strengthened the bars of your gates; *    he has blessed your children within you. \n\n\n\n15 He has established peace on your borders; *    he satisfies you with the finest wheat. \n\n\n\n16 He sends out his command to the earth\, *    and his word runs very swiftly. \n\n\n\n17 He gives snow like wool; *    he scatters hoarfrost like ashes. \n\n\n\n18 He scatters his hail like bread crumbs; *    who can stand against his cold? \n\n\n\n19 He sends forth his word and melts them; *    he blows with his wind\, and the waters flow. \n\n\n\n20 He declares his word to Jacob\, *    his statutes and his judgments to Israel. \n\n\n\n21 He has not done so to any other nation; *    to them he has not revealed his judgments. Hallelujah! \n\n\n\nGalatians 3:23-25; 4:4-7 (NRSV)\n\n\n\nNow before faith came\, we were imprisoned and guarded under the law until faith would be revealed. Therefore the law was our disciplinarian until Christ came\, so that we might be justified by faith. But now that faith has come\, we are no longer subject to a disciplinarian. But when the fullness of time had come\, God sent his Son\, born of a woman\, born under the law\, in order to redeem those who were under the law\, so that we might receive adoption as children. And because you are children\, God has sent the Spirit of his Son into our hearts\, crying\, “Abba! Father!” So you are no longer a slave but a child\, and if a child then also an heir\, through God. \n\n\n\nJohn 1:1-18 (NRSV)\n\n\n\nIn the beginning was the Word\, and the Word was with God\, and the Word was God. He was in the beginning with God. All things came into being through him\, and without him not one thing came into being. What has come into being in him was life\, and the life was the light of all people. The light shines in the darkness\, and the darkness did not overcome it. There was a man sent from God\, whose name was John. He came as a witness to testify to the light\, so that all might believe through him. He himself was not the light\, but he came to testify to the light. The true light\, which enlightens everyone\, was coming into the world. He was in the world\, and the world came into being through him; yet the world did not know him. He came to what was his own\, and his own people did not accept him. But to all who received him\, who believed in his name\, he gave power to become children of God\, who were born\, not of blood or of the will of the flesh or of the will of man\, but of God. And the Word became flesh and lived among us\, and we have seen his glory\, the glory as of a father’s only son\, full of grace and truth. (John testified to him and cried out\, “This was he of whom I said\, ‘He who comes after me ranks ahead of me because he was before me.’”) From his fullness we have all received\, grace upon grace. The law indeed was given through Moses; grace and truth came through Jesus Christ. No one has ever seen God. It is God the only Son\, who is close to the Father’s heart\, who has made him known. \n\n\n\n\n\n\n\nThe Old Testament\, New Testament and Gospel readings are from the New Revised Standard Version Bible: Anglicized Edition\, copyright 1989\, 1995\, Division of Christian Education of the National Council of the Churches of Christ in the United States of America. Used by permission. All rights reserved. \n\n\n\nThe Psalm is from the Book of Common Prayer\, 1979.
URL:https://redeemer-kenmore.org/event/the-1st-sunday-after-christmas-year-b/
LOCATION:Church of the Redeemer\, Kenmore\, Washington\, 6220 Northeast 181st Street\, PO Box 82677\, Kenmore\, WA\, 98028\, United States
CATEGORIES:Christmas
ATTACH;FMTTYPE=image/png:https://redeemer-kenmore.org/wp-content/uploads/2023/12/First-Sunday-after-Christmas.png
ORGANIZER;CN="Church Office":MAILTO:office@redeemer-kenmore.org
GEO:47.7594575;-122.2595651
X-APPLE-STRUCTURED-LOCATION;VALUE=URI;X-ADDRESS=Church of the Redeemer Kenmore Washington 6220 Northeast 181st Street PO Box 82677 Kenmore WA 98028 United States;X-APPLE-RADIUS=500;X-TITLE=6220 Northeast 181st Street\, PO Box 82677:geo:-122.2595651,47.7594575
END:VEVENT
BEGIN:VEVENT
DTSTART;TZID=America/Los_Angeles:20231231T080000
DTEND;TZID=America/Los_Angeles:20231231T090000
DTSTAMP:20260419T110330
CREATED:20230906T165657Z
LAST-MODIFIED:20241228T072053Z
UID:10001253-1704009600-1704013200@redeemer-kenmore.org
SUMMARY:In-person Holy Eucharist
DESCRIPTION:Everyone is welcome at Church of the Redeemer. We look forward to seeing you at this 8:00 am Sunday service of Holy Eucharist at Church of the Redeemer. It is in-person only. \n\n\n\nWhile not required\, you may wear a mask when in the building. We have masks available for you\, if you want. \n\n\n\nEucharist\n\n\n\nThe Eucharist is the sacrament of Christ’s body and blood\, and the principal act of Christian worship. The term is from the Greek\, “thanksgiving.” \n\n\n\nJesus instituted the Eucharist “on the night when he was betrayed.” At the Last Supper he shared the bread and cup of wine at a sacred meal with his disciples. He identified the bread with his body and the wine with his blood of the new covenant. Jesus commanded his disciples to “do this” in remembrance of him (see 1 Corinthians 11:23-26; Mark 14:22-25; Matthew 26:26-29; Luke 22:14-20). \n\n\n\nChrist’s sacrifice is made present by the Eucharist\, and in it we are united to his one self-offering (Book of Common Prayer\, p. 859). The Last Supper provides the basis for the fourfold Eucharistic action of taking\, blessing\, breaking\, and sharing. Christ’s body and blood are really present in the sacrament of the Eucharist and received by faith. Christ’s presence is also known in the gathered eucharistic community. \n\n\n\nIn the Book of Common Prayer\, the whole service is entitled the Holy Eucharist. \n\n\n\n\nThe first part of the service is designated the Word of God. It usually includes the entrance rite\, the lessons and gradual psalm\, the gospel\, the sermon\, the Nicene Creed\, the Prayers of the People\, the confession of sin and absolution\, and the Peace.\n\n\n\nThe second portion of the service is designated the Holy Communion. It includes the offertory\, the consecration of the bread and wine in the Great Thanksgiving\, the communion of the people\, and the concluding prayers of thanksgiving and dismissal. A blessing may be given prior to the dismissal.\n\n\n\n\nThe Eucharist is also called the Lord’s Supper\, Holy Communion\, the Divine Liturgy\, the Mass\, and the Great Offertory (BCP\, p. 859). \n\n\n\nThe Hymnal 1982 includes a section with a variety of hymns for the Holy Eucharist (Numbers 300 through 347)\, including “Come\, risen Lord\, and deign to be our guest” (305 and 306)\, “My God\, thy table now is spread” (321)\, “Now\, my tongue\, the mystery telling” (329 through 331)\, and “I am the bread of life” (335). \n\n\n\n(Above taken from Eucharist .)
URL:https://redeemer-kenmore.org/event/in-person-holy-eucharist-17/2023-12-31/
LOCATION:Nave and Sanctuary at Church of the Redeemer\, 6220 Northeast 181st Street\, Kenmore\, WA\, 98028\, United States
CATEGORIES:Liturgy
ATTACH;FMTTYPE=image/png:https://redeemer-kenmore.org/wp-content/uploads/2023/07/Early-Service-Holy-Eucharist.avif
ORGANIZER;CN="Church Office":MAILTO:office@redeemer-kenmore.org
GEO:47.7594575;-122.2595651
X-APPLE-STRUCTURED-LOCATION;VALUE=URI;X-ADDRESS=Nave and Sanctuary at Church of the Redeemer 6220 Northeast 181st Street Kenmore WA 98028 United States;X-APPLE-RADIUS=500;X-TITLE=6220 Northeast 181st Street:geo:-122.2595651,47.7594575
END:VEVENT
BEGIN:VEVENT
DTSTART;TZID=America/Los_Angeles:20231231T103000
DTEND;TZID=America/Los_Angeles:20231231T113000
DTSTAMP:20260419T110330
CREATED:20230906T170035Z
LAST-MODIFIED:20240731T200159Z
UID:10001541-1704018600-1704022200@redeemer-kenmore.org
SUMMARY:In-person and on-line Holy Eucharist
DESCRIPTION:Everyone is welcome at Church of the Redeemer. We look forward to seeing you at this 10:30 am service of Holy Eucharist at Church of the Redeemer. It is in-person and on-line. \n\n\n\nWhile not required\, you may wear a mask when in the building. We have masks available for you\, if you want. \n\n\n\nThe service is broadcast live on the Welcome page of this website. \n\n\n\n\n\nEucharist\n\n\n\nThe Eucharist is the sacrament of Christ’s body and blood\, and the principal act of Christian worship. The term is from the Greek\, “thanksgiving.” \n\n\n\nJesus instituted the Eucharist “on the night when he was betrayed.” At the Last Supper he shared the bread and cup of wine at a sacred meal with his disciples. He identified the bread with his body and the wine with his blood of the new covenant. Jesus commanded his disciples to “do this” in remembrance of him (see 1 Cor 11:23-26; Mk 14:22-25; Mt 26:26-29; Lk 22:14-20). \n\n\n\nChrist’s sacrifice is made present by the Eucharist\, and in it we are united to his one self-offering (Book of Common Prayer\, p. 859). The Last Supper provides the basis for the fourfold Eucharistic action of taking\, blessing\, breaking\, and sharing. Christ’s body and blood are really present in the sacrament of the Eucharist and received by faith. Christ’s presence is also known in the gathered eucharistic community. \n\n\n\nIn the Book of Common Prayer\, the whole service is entitled the Holy Eucharist. \n\n\n\n\nThe first part of the service is designated the Word of God. It usually includes the entrance rite\, the lessons and gradual psalm\, the gospel\, the sermon\, the Nicene Creed\, the Prayers of the People\, the confession of sin and absolution\, and the Peace.\n\n\n\nThe second portion of the service is designated the Holy Communion. It includes the offertory\, the consecration of the bread and wine in the Great Thanksgiving\, the communion of the people\, and the concluding prayers of thanksgiving and dismissal. A blessing may be given prior to the dismissal.\n\n\n\n\nThe Eucharist is also called the Lord’s Supper\, Holy Communion\, the Divine Liturgy\, the Mass\, and the Great Offertory (BCP\, p. 859). \n\n\n\nThe Hymnal 1982 includes a section with a variety of hymns for the Holy Eucharist (Numbers 300 through 347)\, including “Come\, risen Lord\, and deign to be our guest” (305 and 306)\, “My God\, thy table now is spread” (321)\, “Now\, my tongue\, the mystery telling” (329 through 331)\, and “I am the bread of life” (335). \n\n\n\n(Above taken from Eucharist .)
URL:https://redeemer-kenmore.org/event/in-person-and-on-line-holy-eucharist-16/2023-12-31/
LOCATION:Nave and Sanctuary at Church of the Redeemer\, 6220 Northeast 181st Street\, Kenmore\, WA\, 98028\, United States
CATEGORIES:Liturgy
ATTACH;FMTTYPE=image/png:https://redeemer-kenmore.org/wp-content/uploads/2023/06/Late-Service-Holy-Eucharist.avif
ORGANIZER;CN="Church Office":MAILTO:office@redeemer-kenmore.org
GEO:47.7594575;-122.2595651
X-APPLE-STRUCTURED-LOCATION;VALUE=URI;X-ADDRESS=Nave and Sanctuary at Church of the Redeemer 6220 Northeast 181st Street Kenmore WA 98028 United States;X-APPLE-RADIUS=500;X-TITLE=6220 Northeast 181st Street:geo:-122.2595651,47.7594575
END:VEVENT
BEGIN:VEVENT
DTSTART;TZID=America/Los_Angeles:20231231T103000
DTEND;TZID=America/Los_Angeles:20231231T113000
DTSTAMP:20260419T110330
CREATED:20240731T200218Z
LAST-MODIFIED:20241228T073456Z
UID:10004064-1704018600-1704022200@redeemer-kenmore.org
SUMMARY:In-person and on-line Holy Eucharist
DESCRIPTION:Everyone is welcome at Church of the Redeemer. We look forward to seeing you at this 10:30 am service of Holy Eucharist at Church of the Redeemer. It is in-person and on-line. \n\n\n\nWhile not required\, you may wear a mask when in the building. We have masks available for you\, if you want. \n\n\n\nThe service is broadcast live on the Welcome page of this website. \n\n\n\nEucharist\n\n\n\nThe Eucharist is the sacrament of Christ’s body and blood\, and the principal act of Christian worship. The term is from the Greek\, “thanksgiving.” \n\n\n\nJesus instituted the Eucharist “on the night when he was betrayed.” At the Last Supper he shared the bread and cup of wine at a sacred meal with his disciples. He identified the bread with his body and the wine with his blood of the new covenant. Jesus commanded his disciples to “do this” in remembrance of him (see 1 Cor 11:23-26; Mk 14:22-25; Mt 26:26-29; Lk 22:14-20). \n\n\n\nChrist’s sacrifice is made present by the Eucharist\, and in it we are united to his one self-offering (Book of Common Prayer\, p. 859). The Last Supper provides the basis for the fourfold Eucharistic action of taking\, blessing\, breaking\, and sharing. Christ’s body and blood are really present in the sacrament of the Eucharist and received by faith. Christ’s presence is also known in the gathered eucharistic community. \n\n\n\nIn the Book of Common Prayer\, the whole service is entitled the Holy Eucharist. \n\n\n\n\nThe first part of the service is designated the Word of God. It usually includes the entrance rite\, the lessons and gradual psalm\, the gospel\, the sermon\, the Nicene Creed\, the Prayers of the People\, the confession of sin and absolution\, and the Peace.\n\n\n\nThe second portion of the service is designated the Holy Communion. It includes the offertory\, the consecration of the bread and wine in the Great Thanksgiving\, the communion of the people\, and the concluding prayers of thanksgiving and dismissal. A blessing may be given prior to the dismissal.\n\n\n\n\nThe Eucharist is also called the Lord’s Supper\, Holy Communion\, the Divine Liturgy\, the Mass\, and the Great Offertory (BCP\, p. 859). \n\n\n\nThe Hymnal 1982 includes a section with a variety of hymns for the Holy Eucharist (Numbers 300 through 347)\, including “Come\, risen Lord\, and deign to be our guest” (305 and 306)\, “My God\, thy table now is spread” (321)\, “Now\, my tongue\, the mystery telling” (329 through 331)\, and “I am the bread of life” (335). \n\n\n\n(Above taken from Eucharist .)
URL:https://redeemer-kenmore.org/event/in-person-and-on-line-holy-eucharist-21/2023-12-31/
LOCATION:Nave and Sanctuary at Church of the Redeemer\, 6220 Northeast 181st Street\, Kenmore\, WA\, 98028\, United States
CATEGORIES:Liturgy
ATTACH;FMTTYPE=image/png:https://redeemer-kenmore.org/wp-content/uploads/2023/06/Late-Service-Holy-Eucharist.avif
ORGANIZER;CN="Church Office":MAILTO:office@redeemer-kenmore.org
GEO:47.7594575;-122.2595651
X-APPLE-STRUCTURED-LOCATION;VALUE=URI;X-ADDRESS=Nave and Sanctuary at Church of the Redeemer 6220 Northeast 181st Street Kenmore WA 98028 United States;X-APPLE-RADIUS=500;X-TITLE=6220 Northeast 181st Street:geo:-122.2595651,47.7594575
END:VEVENT
END:VCALENDAR