BEGIN:VCALENDAR
VERSION:2.0
PRODID:-//Episcopal Church of the Redeemer - ECPv6.15.20//NONSGML v1.0//EN
CALSCALE:GREGORIAN
METHOD:PUBLISH
X-ORIGINAL-URL:https://redeemer-kenmore.org
X-WR-CALDESC:Events for Episcopal Church of the Redeemer
REFRESH-INTERVAL;VALUE=DURATION:PT1H
X-Robots-Tag:noindex
X-PUBLISHED-TTL:PT1H
BEGIN:VTIMEZONE
TZID:America/Los_Angeles
BEGIN:DAYLIGHT
TZOFFSETFROM:-0800
TZOFFSETTO:-0700
TZNAME:PDT
DTSTART:20230312T100000
END:DAYLIGHT
BEGIN:STANDARD
TZOFFSETFROM:-0700
TZOFFSETTO:-0800
TZNAME:PST
DTSTART:20231105T090000
END:STANDARD
BEGIN:DAYLIGHT
TZOFFSETFROM:-0800
TZOFFSETTO:-0700
TZNAME:PDT
DTSTART:20240310T100000
END:DAYLIGHT
BEGIN:STANDARD
TZOFFSETFROM:-0700
TZOFFSETTO:-0800
TZNAME:PST
DTSTART:20241103T090000
END:STANDARD
BEGIN:DAYLIGHT
TZOFFSETFROM:-0800
TZOFFSETTO:-0700
TZNAME:PDT
DTSTART:20250309T100000
END:DAYLIGHT
BEGIN:STANDARD
TZOFFSETFROM:-0700
TZOFFSETTO:-0800
TZNAME:PST
DTSTART:20251102T090000
END:STANDARD
END:VTIMEZONE
BEGIN:VEVENT
DTSTART;TZID=America/Los_Angeles:20240112T000000
DTEND;TZID=America/Los_Angeles:20240115T235959
DTSTAMP:20260421T105034
CREATED:20231228T212324Z
LAST-MODIFIED:20231228T214338Z
UID:10003671-1705017600-1705363199@redeemer-kenmore.org
SUMMARY:Women's getaway weekend
DESCRIPTION:Registration is open for Women’s Getaway Weekend\, January 12-15\, 2024. It is a weekend for whatever suits you with fellowship and renewal.Women’s Getaway weekend is the perfect time to relax and unwind after the holiday season festivities. Let the Huston staff take care of all the details while you enjoy the scenery\, chat with friends\, read a good book\, let your creativity run wild\, or take a breather. We welcome all. \n\n\n\n\nRegister here
URL:https://redeemer-kenmore.org/event/womens-getaway-weekend/
LOCATION:Camp Huston Episcopal Camp and Conference Center\, Gold Bar\, Washington\, 14725 Ley Road\, PO Box 140\, Gold Bar\, WA\, 98251\, United States
CATEGORIES:Camp Huston
ATTACH;FMTTYPE=image/jpeg:https://redeemer-kenmore.org/wp-content/uploads/2023/12/womens-getaway-weekend-camp-huston.jpg
ORGANIZER;CN="Camp Huston Episcopal Camp and Conference Center":MAILTO:info@huston.org
GEO:47.8650107;-121.6777504
X-APPLE-STRUCTURED-LOCATION;VALUE=URI;X-ADDRESS=Camp Huston Episcopal Camp and Conference Center Gold Bar Washington 14725 Ley Road PO Box 140 Gold Bar WA 98251 United States;X-APPLE-RADIUS=500;X-TITLE=14725 Ley Road\, PO Box 140:geo:-121.6777504,47.8650107
END:VEVENT
BEGIN:VEVENT
DTSTART;TZID=America/Los_Angeles:20240113T140000
DTEND;TZID=America/Los_Angeles:20240113T160000
DTSTAMP:20260421T105034
CREATED:20240106T021302Z
LAST-MODIFIED:20240106T022452Z
UID:10003687-1705154400-1705161600@redeemer-kenmore.org
SUMMARY:Funeral of Susannah Bennett
DESCRIPTION:Susannah was a member at Church of the Redeemer during her youth and was the niece of Liz Mills.  \n\n\n\nBurial of the Dead is a funeral rite for burial of a baptized Christian\, including anthems\, psalms\, scripture readings\, and prayers.  \n\n\n\nThe Book of Common Prayer provides traditional and contemporary liturgies (pp. 469-507). The burial office is an Easter liturgy. The liturgical color is appropriately white\, and the Paschal candle should be lighted as a visible reminder of Jesus’ resurrection and our hope of life everlasting in Christ. At the Burial of the Dead those who mourn may express grief and sorrow as they share in the community’s expression of faith\, hope\, and mutual support in Jesus Christ. \n\n\n\nThe service will be livestreamed on the Welcome page of this website.
URL:https://redeemer-kenmore.org/event/funeral-of-susannah-bennett/
LOCATION:Nave and Sanctuary at Church of the Redeemer\, 6220 Northeast 181st Street\, Kenmore\, WA\, 98028\, United States
CATEGORIES:Liturgy
ATTACH;FMTTYPE=image/jpeg:https://redeemer-kenmore.org/wp-content/uploads/2024/01/Funeral-of-Susannah-Bennett.jpg
GEO:47.7594575;-122.2595651
X-APPLE-STRUCTURED-LOCATION;VALUE=URI;X-ADDRESS=Nave and Sanctuary at Church of the Redeemer 6220 Northeast 181st Street Kenmore WA 98028 United States;X-APPLE-RADIUS=500;X-TITLE=6220 Northeast 181st Street:geo:-122.2595651,47.7594575
END:VEVENT
END:VCALENDAR