BEGIN:VCALENDAR
VERSION:2.0
PRODID:-//Episcopal Church of the Redeemer - ECPv6.15.20//NONSGML v1.0//EN
CALSCALE:GREGORIAN
METHOD:PUBLISH
X-ORIGINAL-URL:https://redeemer-kenmore.org
X-WR-CALDESC:Events for Episcopal Church of the Redeemer
REFRESH-INTERVAL;VALUE=DURATION:PT1H
X-Robots-Tag:noindex
X-PUBLISHED-TTL:PT1H
BEGIN:VTIMEZONE
TZID:America/Los_Angeles
BEGIN:DAYLIGHT
TZOFFSETFROM:-0800
TZOFFSETTO:-0700
TZNAME:PDT
DTSTART:20230312T100000
END:DAYLIGHT
BEGIN:STANDARD
TZOFFSETFROM:-0700
TZOFFSETTO:-0800
TZNAME:PST
DTSTART:20231105T090000
END:STANDARD
BEGIN:DAYLIGHT
TZOFFSETFROM:-0800
TZOFFSETTO:-0700
TZNAME:PDT
DTSTART:20240310T100000
END:DAYLIGHT
BEGIN:STANDARD
TZOFFSETFROM:-0700
TZOFFSETTO:-0800
TZNAME:PST
DTSTART:20241103T090000
END:STANDARD
BEGIN:DAYLIGHT
TZOFFSETFROM:-0800
TZOFFSETTO:-0700
TZNAME:PDT
DTSTART:20250309T100000
END:DAYLIGHT
BEGIN:STANDARD
TZOFFSETFROM:-0700
TZOFFSETTO:-0800
TZNAME:PST
DTSTART:20251102T090000
END:STANDARD
END:VTIMEZONE
BEGIN:VEVENT
DTSTART;TZID=America/Los_Angeles:20240720T093000
DTEND;TZID=America/Los_Angeles:20240720T120000
DTSTAMP:20260424T031439
CREATED:20240418T185651Z
LAST-MODIFIED:20241109T012042Z
UID:10003999-1721467800-1721476800@redeemer-kenmore.org
SUMMARY:Parish workparty
DESCRIPTION:Do you enjoy gardening and working with your hands? Would you want our building and grounds to look beautiful inside and out? Do you need to touch some grass? We invite you to attend our next Parish Workparty.  \n\n\n\nWe start with Morning Prayer at 9:30 am\, followed by various activities.  Feel free to bring gardening and small maintenance tools to help with minor repairs. Treats are provided. \n\n\n\nWe look forward to seeing you!
URL:https://redeemer-kenmore.org/event/parish-workparty-4/2024-07-20/
LOCATION:Church of the Redeemer\, Kenmore\, Washington\, 6220 Northeast 181st Street\, PO Box 82677\, Kenmore\, WA\, 98028\, United States
CATEGORIES:Building and Grounds
ATTACH;FMTTYPE=image/png:https://redeemer-kenmore.org/wp-content/uploads/2023/05/Parish-Workparty-1.png
GEO:47.7594575;-122.2595651
X-APPLE-STRUCTURED-LOCATION;VALUE=URI;X-ADDRESS=Church of the Redeemer Kenmore Washington 6220 Northeast 181st Street PO Box 82677 Kenmore WA 98028 United States;X-APPLE-RADIUS=500;X-TITLE=6220 Northeast 181st Street\, PO Box 82677:geo:-122.2595651,47.7594575
END:VEVENT
END:VCALENDAR