BEGIN:VCALENDAR
VERSION:2.0
PRODID:-//Episcopal Church of the Redeemer - ECPv6.15.20//NONSGML v1.0//EN
CALSCALE:GREGORIAN
METHOD:PUBLISH
X-ORIGINAL-URL:https://redeemer-kenmore.org
X-WR-CALDESC:Events for Episcopal Church of the Redeemer
REFRESH-INTERVAL;VALUE=DURATION:PT1H
X-Robots-Tag:noindex
X-PUBLISHED-TTL:PT1H
BEGIN:VTIMEZONE
TZID:America/Los_Angeles
BEGIN:DAYLIGHT
TZOFFSETFROM:-0800
TZOFFSETTO:-0700
TZNAME:PDT
DTSTART:20230312T100000
END:DAYLIGHT
BEGIN:STANDARD
TZOFFSETFROM:-0700
TZOFFSETTO:-0800
TZNAME:PST
DTSTART:20231105T090000
END:STANDARD
BEGIN:DAYLIGHT
TZOFFSETFROM:-0800
TZOFFSETTO:-0700
TZNAME:PDT
DTSTART:20240310T100000
END:DAYLIGHT
BEGIN:STANDARD
TZOFFSETFROM:-0700
TZOFFSETTO:-0800
TZNAME:PST
DTSTART:20241103T090000
END:STANDARD
BEGIN:DAYLIGHT
TZOFFSETFROM:-0800
TZOFFSETTO:-0700
TZNAME:PDT
DTSTART:20250309T100000
END:DAYLIGHT
BEGIN:STANDARD
TZOFFSETFROM:-0700
TZOFFSETTO:-0800
TZNAME:PST
DTSTART:20251102T090000
END:STANDARD
END:VTIMEZONE
BEGIN:VEVENT
DTSTART;TZID=America/Los_Angeles:20241006T000000
DTEND;TZID=America/Los_Angeles:20241006T235959
DTSTAMP:20260420T005401
CREATED:20240415T212416Z
LAST-MODIFIED:20240925T230850Z
UID:10004144-1728172800-1728259199@redeemer-kenmore.org
SUMMARY:20th Sunday after Pentecost (Proper 22B)
DESCRIPTION:Prayers\n\n\n\nAlmighty and everlasting God\, you are always more ready to hear than we to pray\, and to give more than we either desire or deserve: Pour upon us the abundance of your mercy\, forgiving us those things of which our conscience is afraid\, and giving us those good things for which we are not worthy to ask\, except through the merits and mediation of Jesus Christ our Savior; who lives and reigns with you and the Holy Spirit\, one God\, for ever and ever. Amen. \n\n\n\nAnglican Cycle of Prayer\n\n\n\nThe Most Rev. Justin Welby\, Archbishop of Canterbury \n\n\n\nThe Anglican Church of Papua New Guinea \n\n\n\nEpiscopal Church\n\n\n\nThe Most Rev. Michael Curry\, XXVII Presiding Bishop of the Episcopal ChurchThe Rt. Rev. Sean Rowe\, XXVIII Presiding Bishop-elect of the Episcopal Church \n\n\n\nOld Catholic Churches of the Union of Utrecht (full communion partner) \n\n\n\nDioceses of Western Kansas\, Western Louisiana \n\n\n\nDiocese of Olympia\n\n\n\nThe Rt. Rev. Philip N. LaBelle\, 9th Bishop of the Diocese of Olympia \n\n\n\nSt. Alban’s\, EdmondsRedeemer\, Kenmore \n\n\n\nThose in authority\n\n\n\nJoseph R. Biden\, Jr\, President of the United StatesKamala Harris\, Vice President of the United States \n\n\n\nJay Inslee\, Governor of Washington \n\n\n\nTeri Gobin\, Chair of the TulalipCecile Hanson\, Chair of the Duwamish \n\n\n\nLessons\n\n\n\nLessons appointed for use for this day from the Revised Common Lectionary (Episcopal version). \n\n\n\nGenesis 2:18-24 (NRSV)\n\n\n\nThe Lord God said\, “It is not good that the man should be alone; I will make him a helper as his partner.” So out of the ground the Lord God formed every animal of the field and every bird of the air\, and brought them to the man to see what he would call them; and whatever the man called every living creature\, that was its name. The man gave names to all cattle\, and to the birds of the air\, and to every animal of the field; but for the man there was not found a helper as his partner. So the Lord God caused a deep sleep to fall upon the man\, and he slept; then he took one of his ribs and closed up its place with flesh. And the rib that the Lord God had taken from the man he made into a woman and brought her to the man. Then the man said\, “This at last is bone of my bones and flesh of my flesh; this one shall be called Woman\, for out of Man this one was taken.” Therefore a man leaves his father and his mother and clings to his wife\, and they become one flesh. \n\n\n\nPsalm 8 (BCP)\n\n\n\nDomine\, Dominus noster \n\n\n\n1 O Lord our Governor\, *     how exalted is your Name in all the world!2 Out of the mouths of infants and children *     your majesty is praised above the heavens.3 You have set up a stronghold against your adversaries\, *     to quell the enemy and the avenger.4 When I consider your heavens\, the work of your fingers\, *     the moon and the stars you have set in their courses\,5 What is man that you should be mindful of him? *     the son of man that you should seek him out?6 You have made him but little lower than the angels; *     you adorn him with glory and honor;7 You give him mastery over the works of your hands; *          you put all things under his feet:8 All sheep and oxen\, *     even the wild beasts of the field\,9 The birds of the air\, the fish of the sea\, *     and whatsoever walks in the paths of the sea.10 O Lord our Governor\, *     how exalted is your Name in all the world! \n\n\n\nHebrews 1:1-4; 2:5-12 (NRSV)\n\n\n\nLong ago God spoke to our ancestors in many and various ways by the prophets\, but in these last days he has spoken to us by a Son\, whom he appointed heir of all things\, through whom he also created the worlds. He is the reflection of God’s glory and the exact imprint of God’s very being\, and he sustains all things by his powerful word. When he had made purification for sins\, he sat down at the right hand of the Majesty on high\, having become as much superior to angels as the name he has inherited is more excellent than theirs. Now God did not subject the coming world\, about which we are speaking\, to angels. But someone has testified somewhere\, “What are human beings that you are mindful of them\, or mortals\, that you care for them? You have made them for a little while lower than the angels; you have crowned them with glory and honor\, subjecting all things under their feet.” Now in subjecting all things to them\, God left nothing outside their control. As it is\, we do not yet see everything in subjection to them\, but we do see Jesus\, who for a little while was made lower than the angels\, now crowned with glory and honor because of the suffering of death\, so that by the grace of God he might taste death for everyone. It was fitting that God\, for whom and through whom all things exist\, in bringing many children to glory\, should make the pioneer of their salvation perfect through sufferings. For the one who sanctifies and those who are sanctified all have one Father. For this reason Jesus is not ashamed to call them brothers and sisters\, saying\, “I will proclaim your name to my brothers and sisters\, in the midst of the congregation I will praise you.” \n\n\n\nMark 10:2-16 (NRSV)\n\n\n\nSome Pharisees came\, and to test him they asked\, “Is it lawful for a man to divorce his wife?” He answered them\, “What did Moses command you?” They said\, “Moses allowed a man to write a certificate of dismissal and to divorce her.” But Jesus said to them\, “Because of your hardness of heart he wrote this commandment for you. But from the beginning of creation\, ‘God made them male and female. For this reason a man shall leave his father and mother and be joined to his wife\, and the two shall become one flesh.’ So they are no longer two\, but one flesh. Therefore what God has joined together\, let no one separate.” Then in the house the disciples asked him again about this matter. He said to them\, “Whoever divorces his wife and marries another commits adultery against her; and if she divorces her husband and marries another\, she commits adultery.” People were bringing little children to him in order that he might touch them; and the disciples spoke sternly to them. But when Jesus saw this\, he was indignant and said to them\, “Let the little children come to me; do not stop them; for it is to such as these that the kingdom of God belongs. Truly I tell you\, whoever does not receive the kingdom of God as a little child will never enter it.” And he took them up in his arms\, laid his hands on them\, and blessed them. \n\n\n\n\n\n\n\nThe Old Testament\, New Testament and Gospel readings are from the New Revised Standard Version Bible: Anglicized Edition\, copyright 1989\, 1995\, Division of Christian Education of the National Council of the Churches of Christ in the United States of America. Used by permission. All rights reserved. \n\n\n\nThe Psalm is from the Book of Common Prayer\, 1979.
URL:https://redeemer-kenmore.org/event/20th-sunday-after-pentecost-proper-22b/
LOCATION:Church of the Redeemer\, Kenmore\, Washington\, 6220 Northeast 181st Street\, PO Box 82677\, Kenmore\, WA\, 98028\, United States
CATEGORIES:After Pentecost
ATTACH;FMTTYPE=image/png:https://redeemer-kenmore.org/wp-content/uploads/2023/05/After-Pentecost.avif
ORGANIZER;CN="Church Office":MAILTO:office@redeemer-kenmore.org
GEO:47.7594575;-122.2595651
X-APPLE-STRUCTURED-LOCATION;VALUE=URI;X-ADDRESS=Church of the Redeemer Kenmore Washington 6220 Northeast 181st Street PO Box 82677 Kenmore WA 98028 United States;X-APPLE-RADIUS=500;X-TITLE=6220 Northeast 181st Street\, PO Box 82677:geo:-122.2595651,47.7594575
END:VEVENT
BEGIN:VEVENT
DTSTART;TZID=America/Los_Angeles:20241006T080000
DTEND;TZID=America/Los_Angeles:20241006T090000
DTSTAMP:20260420T005402
CREATED:20230906T165657Z
LAST-MODIFIED:20241228T072053Z
UID:10001293-1728201600-1728205200@redeemer-kenmore.org
SUMMARY:In-person Holy Eucharist
DESCRIPTION:Everyone is welcome at Church of the Redeemer. We look forward to seeing you at this 8:00 am Sunday service of Holy Eucharist at Church of the Redeemer. It is in-person only. \n\n\n\nWhile not required\, you may wear a mask when in the building. We have masks available for you\, if you want. \n\n\n\nEucharist\n\n\n\nThe Eucharist is the sacrament of Christ’s body and blood\, and the principal act of Christian worship. The term is from the Greek\, “thanksgiving.” \n\n\n\nJesus instituted the Eucharist “on the night when he was betrayed.” At the Last Supper he shared the bread and cup of wine at a sacred meal with his disciples. He identified the bread with his body and the wine with his blood of the new covenant. Jesus commanded his disciples to “do this” in remembrance of him (see 1 Corinthians 11:23-26; Mark 14:22-25; Matthew 26:26-29; Luke 22:14-20). \n\n\n\nChrist’s sacrifice is made present by the Eucharist\, and in it we are united to his one self-offering (Book of Common Prayer\, p. 859). The Last Supper provides the basis for the fourfold Eucharistic action of taking\, blessing\, breaking\, and sharing. Christ’s body and blood are really present in the sacrament of the Eucharist and received by faith. Christ’s presence is also known in the gathered eucharistic community. \n\n\n\nIn the Book of Common Prayer\, the whole service is entitled the Holy Eucharist. \n\n\n\n\nThe first part of the service is designated the Word of God. It usually includes the entrance rite\, the lessons and gradual psalm\, the gospel\, the sermon\, the Nicene Creed\, the Prayers of the People\, the confession of sin and absolution\, and the Peace.\n\n\n\nThe second portion of the service is designated the Holy Communion. It includes the offertory\, the consecration of the bread and wine in the Great Thanksgiving\, the communion of the people\, and the concluding prayers of thanksgiving and dismissal. A blessing may be given prior to the dismissal.\n\n\n\n\nThe Eucharist is also called the Lord’s Supper\, Holy Communion\, the Divine Liturgy\, the Mass\, and the Great Offertory (BCP\, p. 859). \n\n\n\nThe Hymnal 1982 includes a section with a variety of hymns for the Holy Eucharist (Numbers 300 through 347)\, including “Come\, risen Lord\, and deign to be our guest” (305 and 306)\, “My God\, thy table now is spread” (321)\, “Now\, my tongue\, the mystery telling” (329 through 331)\, and “I am the bread of life” (335). \n\n\n\n(Above taken from Eucharist .)
URL:https://redeemer-kenmore.org/event/in-person-holy-eucharist-17/2024-10-06/
LOCATION:Nave and Sanctuary at Church of the Redeemer\, 6220 Northeast 181st Street\, Kenmore\, WA\, 98028\, United States
CATEGORIES:Liturgy
ATTACH;FMTTYPE=image/png:https://redeemer-kenmore.org/wp-content/uploads/2023/07/Early-Service-Holy-Eucharist.avif
ORGANIZER;CN="Church Office":MAILTO:office@redeemer-kenmore.org
GEO:47.7594575;-122.2595651
X-APPLE-STRUCTURED-LOCATION;VALUE=URI;X-ADDRESS=Nave and Sanctuary at Church of the Redeemer 6220 Northeast 181st Street Kenmore WA 98028 United States;X-APPLE-RADIUS=500;X-TITLE=6220 Northeast 181st Street:geo:-122.2595651,47.7594575
END:VEVENT
BEGIN:VEVENT
DTSTART;TZID=America/Los_Angeles:20241006T093000
DTEND;TZID=America/Los_Angeles:20241006T101500
DTSTAMP:20260420T005402
CREATED:20240918T195806Z
LAST-MODIFIED:20241017T220628Z
UID:10004133-1728207000-1728209700@redeemer-kenmore.org
SUMMARY:Healing our Image of God
DESCRIPTION:When you think of God\, what images come to mind? \n\n\n\n\nA judge?\n\n\n\nAn advocate?\n\n\n\nA loving parent? \n\n\n\n\nOur image of God makes quite a difference in our attitudes in life and our emotional health. We actually become like the God we adore. \n\n\n\nIn this series we will do the following: \n\n\n\n\nExamine our images of God.\n\n\n\nInvestigate the potential of spiritual wounds caused by these images.\n\n\n\nInvestigate the shift of images of God in spiritual development.\n\n\n\nDiscuss concepts such as judgement\, justice\, punishment\, and hell.  \n\n\n\n\nCome\, consider who God is for you. \n\n\n\nThis exploration takes place at the Episcopal Church of the Redeemer starting on Sunday\, October 6\, 2024\, starting at 9:30 am and running for several weeks. The class is free and open to everyone in the community. You do not need to be a member of Church of the Redeemer. \n\n\n\nThis adult class meets on the main floor in the worship area. A different class for children meets in a room off of the downstairs parish hall. \n\n\n\nChurch of the Redeemer is at 6220 NE 181st Street in Kenmore\, Washington. For more information\, contact the Rev. Theresa Newell at tnewell@redeemer-kenmore.org.
URL:https://redeemer-kenmore.org/event/healing-our-image-of-god/2024-10-06/
LOCATION:Nave and Sanctuary at Church of the Redeemer\, 6220 Northeast 181st Street\, Kenmore\, WA\, 98028\, United States
CATEGORIES:Education
ATTACH;FMTTYPE=image/png:https://redeemer-kenmore.org/wp-content/uploads/2024/09/Creation-of-Adam-by-Michelangelo.png
ORGANIZER;CN="The Rev. Theresa Newell":MAILTO:tnewell@redeemer-kenmore.org
GEO:47.7594575;-122.2595651
X-APPLE-STRUCTURED-LOCATION;VALUE=URI;X-ADDRESS=Nave and Sanctuary at Church of the Redeemer 6220 Northeast 181st Street Kenmore WA 98028 United States;X-APPLE-RADIUS=500;X-TITLE=6220 Northeast 181st Street:geo:-122.2595651,47.7594575
END:VEVENT
BEGIN:VEVENT
DTSTART;TZID=America/Los_Angeles:20241006T093000
DTEND;TZID=America/Los_Angeles:20241006T101500
DTSTAMP:20260420T005402
CREATED:20240918T201018Z
LAST-MODIFIED:20241113T212533Z
UID:10004137-1728207000-1728209700@redeemer-kenmore.org
SUMMARY:Seeking God Together
DESCRIPTION:Children meet each Sunday from 9:30 to 10:15 downstairs in the Children’s Room off of the parish hall. We are using the Current: Seeking God Together curriculum exploring spiritual practices. All elementary-aged children are welcome. \n\n\n\nThis children’s class takes place at the Episcopal Church of the Redeemer. The class is free and open to everyone in the community. You do not need to be a member of Church of the Redeemer. \n\n\n\nAn adult class takes place on the main floor of the worship area at the same time. \n\n\n\nChurch of the Redeemer is at 6220 NE 181st Street in Kenmore\, Washington. For more information\, contact the Rev. Theresa Newell at tnewell@redeemer-kenmore.org.
URL:https://redeemer-kenmore.org/event/seeking-god-together/2024-10-06/
LOCATION:Children’s Room at Church of the Redeemer\, 6220 Northeast 181st Street\, PO Box 82677\, Kenmore\, Washington\, 98028\, United States
CATEGORIES:Education
ATTACH;FMTTYPE=image/png:https://redeemer-kenmore.org/wp-content/uploads/2024/09/Children-worshipping-the-Sun-1.png
ORGANIZER;CN="The Rev. Theresa Newell":MAILTO:tnewell@redeemer-kenmore.org
GEO:47.7594575;-122.2595651
X-APPLE-STRUCTURED-LOCATION;VALUE=URI;X-ADDRESS=Children’s Room at Church of the Redeemer 6220 Northeast 181st Street PO Box 82677 Kenmore Washington 98028 United States;X-APPLE-RADIUS=500;X-TITLE=6220 Northeast 181st Street\, PO Box 82677:geo:-122.2595651,47.7594575
END:VEVENT
BEGIN:VEVENT
DTSTART;TZID=America/Los_Angeles:20241006T093000
DTEND;TZID=America/Los_Angeles:20241006T101500
DTSTAMP:20260420T005402
CREATED:20240918T201018Z
LAST-MODIFIED:20250122T060230Z
UID:10004662-1728207000-1728209700@redeemer-kenmore.org
SUMMARY:Seeking God Together
DESCRIPTION:Children meet each Sunday from 9:30 to 10:15 downstairs in the Children’s Room off of the parish hall. We are using the Current: Seeking God Together curriculum exploring spiritual practices. All elementary-aged children are welcome. \n\n\n\nThis children’s class takes place at the Episcopal Church of the Redeemer. The class is free and open to everyone in the community. You do not need to be a member of Church of the Redeemer. \n\n\n\nAn adult class takes place on the main floor of the worship area at the same time. \n\n\n\nChurch of the Redeemer is at 6220 NE 181st Street in Kenmore\, Washington. For more information\, contact the Rev. Theresa Newell at tnewell@redeemer-kenmore.org.
URL:https://redeemer-kenmore.org/event/seeking-god-together-2/2024-10-06/
LOCATION:Children’s Room at Church of the Redeemer\, 6220 Northeast 181st Street\, PO Box 82677\, Kenmore\, Washington\, 98028\, United States
CATEGORIES:Education
ATTACH;FMTTYPE=image/png:https://redeemer-kenmore.org/wp-content/uploads/2024/09/Children-worshipping-the-Sun-1.png
ORGANIZER;CN="The Rev. Theresa Newell":MAILTO:tnewell@redeemer-kenmore.org
GEO:47.7594575;-122.2595651
X-APPLE-STRUCTURED-LOCATION;VALUE=URI;X-ADDRESS=Children’s Room at Church of the Redeemer 6220 Northeast 181st Street PO Box 82677 Kenmore Washington 98028 United States;X-APPLE-RADIUS=500;X-TITLE=6220 Northeast 181st Street\, PO Box 82677:geo:-122.2595651,47.7594575
END:VEVENT
BEGIN:VEVENT
DTSTART;TZID=America/Los_Angeles:20241006T103000
DTEND;TZID=America/Los_Angeles:20241006T113000
DTSTAMP:20260420T005402
CREATED:20240731T200218Z
LAST-MODIFIED:20241228T073456Z
UID:10001581-1728210600-1728214200@redeemer-kenmore.org
SUMMARY:In-person and on-line Holy Eucharist
DESCRIPTION:Everyone is welcome at Church of the Redeemer. We look forward to seeing you at this 10:30 am service of Holy Eucharist at Church of the Redeemer. It is in-person and on-line. \n\n\n\nWhile not required\, you may wear a mask when in the building. We have masks available for you\, if you want. \n\n\n\nThe service is broadcast live on the Welcome page of this website. \n\n\n\nEucharist\n\n\n\nThe Eucharist is the sacrament of Christ’s body and blood\, and the principal act of Christian worship. The term is from the Greek\, “thanksgiving.” \n\n\n\nJesus instituted the Eucharist “on the night when he was betrayed.” At the Last Supper he shared the bread and cup of wine at a sacred meal with his disciples. He identified the bread with his body and the wine with his blood of the new covenant. Jesus commanded his disciples to “do this” in remembrance of him (see 1 Cor 11:23-26; Mk 14:22-25; Mt 26:26-29; Lk 22:14-20). \n\n\n\nChrist’s sacrifice is made present by the Eucharist\, and in it we are united to his one self-offering (Book of Common Prayer\, p. 859). The Last Supper provides the basis for the fourfold Eucharistic action of taking\, blessing\, breaking\, and sharing. Christ’s body and blood are really present in the sacrament of the Eucharist and received by faith. Christ’s presence is also known in the gathered eucharistic community. \n\n\n\nIn the Book of Common Prayer\, the whole service is entitled the Holy Eucharist. \n\n\n\n\nThe first part of the service is designated the Word of God. It usually includes the entrance rite\, the lessons and gradual psalm\, the gospel\, the sermon\, the Nicene Creed\, the Prayers of the People\, the confession of sin and absolution\, and the Peace.\n\n\n\nThe second portion of the service is designated the Holy Communion. It includes the offertory\, the consecration of the bread and wine in the Great Thanksgiving\, the communion of the people\, and the concluding prayers of thanksgiving and dismissal. A blessing may be given prior to the dismissal.\n\n\n\n\nThe Eucharist is also called the Lord’s Supper\, Holy Communion\, the Divine Liturgy\, the Mass\, and the Great Offertory (BCP\, p. 859). \n\n\n\nThe Hymnal 1982 includes a section with a variety of hymns for the Holy Eucharist (Numbers 300 through 347)\, including “Come\, risen Lord\, and deign to be our guest” (305 and 306)\, “My God\, thy table now is spread” (321)\, “Now\, my tongue\, the mystery telling” (329 through 331)\, and “I am the bread of life” (335). \n\n\n\n(Above taken from Eucharist .)
URL:https://redeemer-kenmore.org/event/in-person-and-on-line-holy-eucharist-21/2024-10-06/
LOCATION:Nave and Sanctuary at Church of the Redeemer\, 6220 Northeast 181st Street\, Kenmore\, WA\, 98028\, United States
CATEGORIES:Liturgy
ATTACH;FMTTYPE=image/png:https://redeemer-kenmore.org/wp-content/uploads/2023/06/Late-Service-Holy-Eucharist.avif
ORGANIZER;CN="Church Office":MAILTO:office@redeemer-kenmore.org
GEO:47.7594575;-122.2595651
X-APPLE-STRUCTURED-LOCATION;VALUE=URI;X-ADDRESS=Nave and Sanctuary at Church of the Redeemer 6220 Northeast 181st Street Kenmore WA 98028 United States;X-APPLE-RADIUS=500;X-TITLE=6220 Northeast 181st Street:geo:-122.2595651,47.7594575
END:VEVENT
END:VCALENDAR