BEGIN:VCALENDAR
VERSION:2.0
PRODID:-//Episcopal Church of the Redeemer - ECPv6.15.20//NONSGML v1.0//EN
CALSCALE:GREGORIAN
METHOD:PUBLISH
X-WR-CALNAME:Episcopal Church of the Redeemer
X-ORIGINAL-URL:https://redeemer-kenmore.org
X-WR-CALDESC:Events for Episcopal Church of the Redeemer
REFRESH-INTERVAL;VALUE=DURATION:PT1H
X-Robots-Tag:noindex
X-PUBLISHED-TTL:PT1H
BEGIN:VTIMEZONE
TZID:America/Los_Angeles
BEGIN:DAYLIGHT
TZOFFSETFROM:-0800
TZOFFSETTO:-0700
TZNAME:PDT
DTSTART:20230312T100000
END:DAYLIGHT
BEGIN:STANDARD
TZOFFSETFROM:-0700
TZOFFSETTO:-0800
TZNAME:PST
DTSTART:20231105T090000
END:STANDARD
BEGIN:DAYLIGHT
TZOFFSETFROM:-0800
TZOFFSETTO:-0700
TZNAME:PDT
DTSTART:20240310T100000
END:DAYLIGHT
BEGIN:STANDARD
TZOFFSETFROM:-0700
TZOFFSETTO:-0800
TZNAME:PST
DTSTART:20241103T090000
END:STANDARD
BEGIN:DAYLIGHT
TZOFFSETFROM:-0800
TZOFFSETTO:-0700
TZNAME:PDT
DTSTART:20250309T100000
END:DAYLIGHT
BEGIN:STANDARD
TZOFFSETFROM:-0700
TZOFFSETTO:-0800
TZNAME:PST
DTSTART:20251102T090000
END:STANDARD
END:VTIMEZONE
BEGIN:VEVENT
DTSTART;TZID=America/Los_Angeles:20241027T000000
DTEND;TZID=America/Los_Angeles:20241027T235959
DTSTAMP:20260420T175752
CREATED:20240415T212416Z
LAST-MODIFIED:20241017T043925Z
UID:10004204-1729987200-1730073599@redeemer-kenmore.org
SUMMARY:23rd Sunday after Pentecost (Proper 25B)
DESCRIPTION:Prayers\n\n\n\nAlmighty and everlasting God\, increase in us the gifts of faith\, hope\, and charity; and\, that we may obtain what you promise\, make us love what you command; through Jesus Christ our Lord\, who lives and reigns with you and the Holy Spirit\, one God\, for ever and ever. Amen. \n\n\n\nAnglican Cycle of Prayer\n\n\n\nThe Most Rev. Justin Welby\, Archbishop of Canterbury \n\n\n\nThe Scottish Episcopal Church \n\n\n\nEpiscopal Church\n\n\n\nThe Most Rev. Michael Curry\, XXVII Presiding Bishop of the Episcopal ChurchThe Rt. Rev. Sean Rowe\, XXVIII Presiding Bishop-elect of the Episcopal Church \n\n\n\nInstallation of the 28th Presiding Bishop of the Episcopal Church \n\n\n\nDioceses of Hawaiʻi\, Idaho \n\n\n\nDiocese of Olympia\n\n\n\nThe Rt. Rev. Philip N. LaBelle\, 9th Bishop of the Diocese of Olympia \n\n\n\nSt. Dunstan’s\, ShorelineSt. David Emmanuel\, Shoreline \n\n\n\nThose in authority\n\n\n\nJoseph R. Biden\, Jr\, President of the United StatesKamala Harris\, Vice President of the United States \n\n\n\nJay Inslee\, Governor of Washington \n\n\n\nTeri Gobin\, Chair of the TulalipCecile Hanson\, Chair of the Duwamish \n\n\n\nLessons\n\n\n\nLessons appointed for use for this day from the Revised Common Lectionary (Episcopal version). \n\n\n\nJeremiah 31:7-9 (NRSV)\n\n\n\nFor thus says the Lord: \n\n\n\nSing aloud with gladness for Jacob\,     and raise shouts for the chief of the nations;proclaim\, give praise\, and say\,      ‘Save\, O Lord\, your people\,     the remnant of Israel.’ \n\n\n\nSee\, I am going to bring them from the land of the north\,     and gather them from the farthest parts of the earth\,among them the blind and the lame\,     those with child and those in labour\, together;     a great company\, they shall return here.With weeping they shall come\,     and with consolations I will lead them back\,I will let them walk by brooks of water\,     in a straight path in which they shall not stumble;for I have become a father to Israel\,     and Ephraim is my firstborn. \n\n\n\nPsalm 126 (BCP)\n\n\n\nIn convertendo \n\n\n\n1 When the Lord restored the fortunes of Zion\, *     then were we like those who dream.2 Then was our mouth filled with laughter\, *     and our tongue with shouts of joy.3 Then they said among the nations\, *     “The Lord has done great things for them.”4 The Lord has done great things for us\, *     and we are glad indeed.5 Restore our fortunes\, O Lord\, *     like the watercourses of the Negev.6 Those who sowed with tears *     will reap with songs of joy.7 Those who go out weeping\, carrying the seed\, *     will come again with joy\, shouldering their sheaves. \n\n\n\nHebrews 7:23-28 (NRSV)\n\n\n\nFurthermore\, the former priests were many in number\, because they were prevented by death from continuing in office; but he holds his priesthood permanently\, because he continues for ever. Consequently he is able for all time to save those who approach God through him\, since he always lives to make intercession for them. \n\n\n\nFor it was fitting that we should have such a high priest\, holy\, blameless\, undefiled\, separated from sinners\, and exalted above the heavens. Unlike the other high priests\, he has no need to offer sacrifices day after day\, first for his own sins\, and then for those of the people; this he did once for all when he offered himself. For the law appoints as high priests those who are subject to weakness\, but the word of the oath\, which came later than the law\, appoints a Son who has been made perfect for ever. \n\n\n\nMark 10:46-52 (NRSV)\n\n\n\nThey came to Jericho. As he and his disciples and a large crowd were leaving Jericho\, Bartimaeus son of Timaeus\, a blind beggar\, was sitting by the roadside. When he heard that it was Jesus of Nazareth\, he began to shout out and say\, ‘Jesus\, Son of David\, have mercy on me!’ Many sternly ordered him to be quiet\, but he cried out even more loudly\, ‘Son of David\, have mercy on me!’ Jesus stood still and said\, ‘Call him here.’ And they called the blind man\, saying to him\, ‘Take heart; get up\, he is calling you.’ So throwing off his cloak\, he sprang up and came to Jesus. Then Jesus said to him\, ‘What do you want me to do for you?’ The blind man said to him\, ‘My teacher\, let me see again.’ Jesus said to him\, ‘Go; your faith has made you well.’ Immediately he regained his sight and followed him on the way. \n\n\n\n\n\n\n\nThe Old Testament\, New Testament and Gospel readings are from the New Revised Standard Version Bible: Anglicized Edition\, copyright 1989\, 1995\, Division of Christian Education of the National Council of the Churches of Christ in the United States of America. Used by permission. All rights reserved. \n\n\n\nThe Psalm is from the Book of Common Prayer\, 1979.
URL:https://redeemer-kenmore.org/event/23rd-sunday-after-pentecost-proper-25b/
LOCATION:Church of the Redeemer\, Kenmore\, Washington\, 6220 Northeast 181st Street\, PO Box 82677\, Kenmore\, WA\, 98028\, United States
CATEGORIES:After Pentecost
ATTACH;FMTTYPE=image/png:https://redeemer-kenmore.org/wp-content/uploads/2023/05/After-Pentecost.avif
ORGANIZER;CN="Church Office":MAILTO:office@redeemer-kenmore.org
GEO:47.7594575;-122.2595651
X-APPLE-STRUCTURED-LOCATION;VALUE=URI;X-ADDRESS=Church of the Redeemer Kenmore Washington 6220 Northeast 181st Street PO Box 82677 Kenmore WA 98028 United States;X-APPLE-RADIUS=500;X-TITLE=6220 Northeast 181st Street\, PO Box 82677:geo:-122.2595651,47.7594575
END:VEVENT
BEGIN:VEVENT
DTSTART;TZID=America/Los_Angeles:20241027T080000
DTEND;TZID=America/Los_Angeles:20241027T090000
DTSTAMP:20260420T175752
CREATED:20230906T165657Z
LAST-MODIFIED:20241228T072053Z
UID:10001296-1730016000-1730019600@redeemer-kenmore.org
SUMMARY:In-person Holy Eucharist
DESCRIPTION:Everyone is welcome at Church of the Redeemer. We look forward to seeing you at this 8:00 am Sunday service of Holy Eucharist at Church of the Redeemer. It is in-person only. \n\n\n\nWhile not required\, you may wear a mask when in the building. We have masks available for you\, if you want. \n\n\n\nEucharist\n\n\n\nThe Eucharist is the sacrament of Christ’s body and blood\, and the principal act of Christian worship. The term is from the Greek\, “thanksgiving.” \n\n\n\nJesus instituted the Eucharist “on the night when he was betrayed.” At the Last Supper he shared the bread and cup of wine at a sacred meal with his disciples. He identified the bread with his body and the wine with his blood of the new covenant. Jesus commanded his disciples to “do this” in remembrance of him (see 1 Corinthians 11:23-26; Mark 14:22-25; Matthew 26:26-29; Luke 22:14-20). \n\n\n\nChrist’s sacrifice is made present by the Eucharist\, and in it we are united to his one self-offering (Book of Common Prayer\, p. 859). The Last Supper provides the basis for the fourfold Eucharistic action of taking\, blessing\, breaking\, and sharing. Christ’s body and blood are really present in the sacrament of the Eucharist and received by faith. Christ’s presence is also known in the gathered eucharistic community. \n\n\n\nIn the Book of Common Prayer\, the whole service is entitled the Holy Eucharist. \n\n\n\n\nThe first part of the service is designated the Word of God. It usually includes the entrance rite\, the lessons and gradual psalm\, the gospel\, the sermon\, the Nicene Creed\, the Prayers of the People\, the confession of sin and absolution\, and the Peace.\n\n\n\nThe second portion of the service is designated the Holy Communion. It includes the offertory\, the consecration of the bread and wine in the Great Thanksgiving\, the communion of the people\, and the concluding prayers of thanksgiving and dismissal. A blessing may be given prior to the dismissal.\n\n\n\n\nThe Eucharist is also called the Lord’s Supper\, Holy Communion\, the Divine Liturgy\, the Mass\, and the Great Offertory (BCP\, p. 859). \n\n\n\nThe Hymnal 1982 includes a section with a variety of hymns for the Holy Eucharist (Numbers 300 through 347)\, including “Come\, risen Lord\, and deign to be our guest” (305 and 306)\, “My God\, thy table now is spread” (321)\, “Now\, my tongue\, the mystery telling” (329 through 331)\, and “I am the bread of life” (335). \n\n\n\n(Above taken from Eucharist .)
URL:https://redeemer-kenmore.org/event/in-person-holy-eucharist-17/2024-10-27/
LOCATION:Nave and Sanctuary at Church of the Redeemer\, 6220 Northeast 181st Street\, Kenmore\, WA\, 98028\, United States
CATEGORIES:Liturgy
ATTACH;FMTTYPE=image/png:https://redeemer-kenmore.org/wp-content/uploads/2023/07/Early-Service-Holy-Eucharist.avif
ORGANIZER;CN="Church Office":MAILTO:office@redeemer-kenmore.org
GEO:47.7594575;-122.2595651
X-APPLE-STRUCTURED-LOCATION;VALUE=URI;X-ADDRESS=Nave and Sanctuary at Church of the Redeemer 6220 Northeast 181st Street Kenmore WA 98028 United States;X-APPLE-RADIUS=500;X-TITLE=6220 Northeast 181st Street:geo:-122.2595651,47.7594575
END:VEVENT
BEGIN:VEVENT
DTSTART;TZID=America/Los_Angeles:20241027T093000
DTEND;TZID=America/Los_Angeles:20241027T101500
DTSTAMP:20260420T175752
CREATED:20240918T201018Z
LAST-MODIFIED:20241113T212533Z
UID:10004140-1730021400-1730024100@redeemer-kenmore.org
SUMMARY:Seeking God Together
DESCRIPTION:Children meet each Sunday from 9:30 to 10:15 downstairs in the Children’s Room off of the parish hall. We are using the Current: Seeking God Together curriculum exploring spiritual practices. All elementary-aged children are welcome. \n\n\n\nThis children’s class takes place at the Episcopal Church of the Redeemer. The class is free and open to everyone in the community. You do not need to be a member of Church of the Redeemer. \n\n\n\nAn adult class takes place on the main floor of the worship area at the same time. \n\n\n\nChurch of the Redeemer is at 6220 NE 181st Street in Kenmore\, Washington. For more information\, contact the Rev. Theresa Newell at tnewell@redeemer-kenmore.org.
URL:https://redeemer-kenmore.org/event/seeking-god-together/2024-10-27/
LOCATION:Children’s Room at Church of the Redeemer\, 6220 Northeast 181st Street\, PO Box 82677\, Kenmore\, Washington\, 98028\, United States
CATEGORIES:Education
ATTACH;FMTTYPE=image/png:https://redeemer-kenmore.org/wp-content/uploads/2024/09/Children-worshipping-the-Sun-1.png
ORGANIZER;CN="The Rev. Theresa Newell":MAILTO:tnewell@redeemer-kenmore.org
GEO:47.7594575;-122.2595651
X-APPLE-STRUCTURED-LOCATION;VALUE=URI;X-ADDRESS=Children’s Room at Church of the Redeemer 6220 Northeast 181st Street PO Box 82677 Kenmore Washington 98028 United States;X-APPLE-RADIUS=500;X-TITLE=6220 Northeast 181st Street\, PO Box 82677:geo:-122.2595651,47.7594575
END:VEVENT
BEGIN:VEVENT
DTSTART;TZID=America/Los_Angeles:20241027T093000
DTEND;TZID=America/Los_Angeles:20241027T101500
DTSTAMP:20260420T175752
CREATED:20240918T201018Z
LAST-MODIFIED:20250122T060230Z
UID:10004665-1730021400-1730024100@redeemer-kenmore.org
SUMMARY:Seeking God Together
DESCRIPTION:Children meet each Sunday from 9:30 to 10:15 downstairs in the Children’s Room off of the parish hall. We are using the Current: Seeking God Together curriculum exploring spiritual practices. All elementary-aged children are welcome. \n\n\n\nThis children’s class takes place at the Episcopal Church of the Redeemer. The class is free and open to everyone in the community. You do not need to be a member of Church of the Redeemer. \n\n\n\nAn adult class takes place on the main floor of the worship area at the same time. \n\n\n\nChurch of the Redeemer is at 6220 NE 181st Street in Kenmore\, Washington. For more information\, contact the Rev. Theresa Newell at tnewell@redeemer-kenmore.org.
URL:https://redeemer-kenmore.org/event/seeking-god-together-2/2024-10-27/
LOCATION:Children’s Room at Church of the Redeemer\, 6220 Northeast 181st Street\, PO Box 82677\, Kenmore\, Washington\, 98028\, United States
CATEGORIES:Education
ATTACH;FMTTYPE=image/png:https://redeemer-kenmore.org/wp-content/uploads/2024/09/Children-worshipping-the-Sun-1.png
ORGANIZER;CN="The Rev. Theresa Newell":MAILTO:tnewell@redeemer-kenmore.org
GEO:47.7594575;-122.2595651
X-APPLE-STRUCTURED-LOCATION;VALUE=URI;X-ADDRESS=Children’s Room at Church of the Redeemer 6220 Northeast 181st Street PO Box 82677 Kenmore Washington 98028 United States;X-APPLE-RADIUS=500;X-TITLE=6220 Northeast 181st Street\, PO Box 82677:geo:-122.2595651,47.7594575
END:VEVENT
BEGIN:VEVENT
DTSTART;TZID=America/Los_Angeles:20241027T093000
DTEND;TZID=America/Los_Angeles:20241027T101500
DTSTAMP:20260420T175752
CREATED:20241024T175216Z
LAST-MODIFIED:20241024T175237Z
UID:10004210-1730021400-1730024100@redeemer-kenmore.org
SUMMARY:Walking among saints
DESCRIPTION:Since we are surrounded by so great a cloud of witnesses\, let us also lay aside every weight and the sin that easily distracts\, and let us run with perseverance the race that is set before us…. \n\n\n\nHebrews 12:1 (NRSV\, with footnote) \n\n\n\n\nIn Walking among saints\, we will explore the lives and thinking of several holy people. Then we will consider what we can learn from each.  \n\n\n\nThis exploration takes place at the Episcopal Church of the Redeemer starting on Sunday\, October 27\, 2024\, starting at 9:30 am and running each Sunday until November 24. The class is free and open to everyone in the community. You do not need to be a member of Church of the Redeemer. \n\n\n\nOn October 27\,  join us as we separate myth from what is known of St. Mary Magdelene\, “disciple to the disciples.” Presented by the Rev. Theresa Newell. \n\n\n\nThis adult class meets on the main floor in the worship area. A different class for children meets in a room off of the downstairs parish hall. \n\n\n\nChurch of the Redeemer is at 6220 NE 181st Street in Kenmore\, Washington. For more information\, contact the Rev. Theresa Newell at tnewell@redeemer-kenmore.org.
URL:https://redeemer-kenmore.org/event/walking-among-saints-2/
LOCATION:Nave and Sanctuary at Church of the Redeemer\, 6220 Northeast 181st Street\, Kenmore\, WA\, 98028\, United States
CATEGORIES:Education
ATTACH;FMTTYPE=image/png:https://redeemer-kenmore.org/wp-content/uploads/2024/09/Walking-among-saints.png
ORGANIZER;CN="The Rev. Theresa Newell":MAILTO:tnewell@redeemer-kenmore.org
GEO:47.7594575;-122.2595651
X-APPLE-STRUCTURED-LOCATION;VALUE=URI;X-ADDRESS=Nave and Sanctuary at Church of the Redeemer 6220 Northeast 181st Street Kenmore WA 98028 United States;X-APPLE-RADIUS=500;X-TITLE=6220 Northeast 181st Street:geo:-122.2595651,47.7594575
END:VEVENT
BEGIN:VEVENT
DTSTART;TZID=America/Los_Angeles:20241027T103000
DTEND;TZID=America/Los_Angeles:20241027T113000
DTSTAMP:20260420T175752
CREATED:20240731T200218Z
LAST-MODIFIED:20241228T073456Z
UID:10001584-1730025000-1730028600@redeemer-kenmore.org
SUMMARY:In-person and on-line Holy Eucharist
DESCRIPTION:Everyone is welcome at Church of the Redeemer. We look forward to seeing you at this 10:30 am service of Holy Eucharist at Church of the Redeemer. It is in-person and on-line. \n\n\n\nWhile not required\, you may wear a mask when in the building. We have masks available for you\, if you want. \n\n\n\nThe service is broadcast live on the Welcome page of this website. \n\n\n\nEucharist\n\n\n\nThe Eucharist is the sacrament of Christ’s body and blood\, and the principal act of Christian worship. The term is from the Greek\, “thanksgiving.” \n\n\n\nJesus instituted the Eucharist “on the night when he was betrayed.” At the Last Supper he shared the bread and cup of wine at a sacred meal with his disciples. He identified the bread with his body and the wine with his blood of the new covenant. Jesus commanded his disciples to “do this” in remembrance of him (see 1 Cor 11:23-26; Mk 14:22-25; Mt 26:26-29; Lk 22:14-20). \n\n\n\nChrist’s sacrifice is made present by the Eucharist\, and in it we are united to his one self-offering (Book of Common Prayer\, p. 859). The Last Supper provides the basis for the fourfold Eucharistic action of taking\, blessing\, breaking\, and sharing. Christ’s body and blood are really present in the sacrament of the Eucharist and received by faith. Christ’s presence is also known in the gathered eucharistic community. \n\n\n\nIn the Book of Common Prayer\, the whole service is entitled the Holy Eucharist. \n\n\n\n\nThe first part of the service is designated the Word of God. It usually includes the entrance rite\, the lessons and gradual psalm\, the gospel\, the sermon\, the Nicene Creed\, the Prayers of the People\, the confession of sin and absolution\, and the Peace.\n\n\n\nThe second portion of the service is designated the Holy Communion. It includes the offertory\, the consecration of the bread and wine in the Great Thanksgiving\, the communion of the people\, and the concluding prayers of thanksgiving and dismissal. A blessing may be given prior to the dismissal.\n\n\n\n\nThe Eucharist is also called the Lord’s Supper\, Holy Communion\, the Divine Liturgy\, the Mass\, and the Great Offertory (BCP\, p. 859). \n\n\n\nThe Hymnal 1982 includes a section with a variety of hymns for the Holy Eucharist (Numbers 300 through 347)\, including “Come\, risen Lord\, and deign to be our guest” (305 and 306)\, “My God\, thy table now is spread” (321)\, “Now\, my tongue\, the mystery telling” (329 through 331)\, and “I am the bread of life” (335). \n\n\n\n(Above taken from Eucharist .)
URL:https://redeemer-kenmore.org/event/in-person-and-on-line-holy-eucharist-21/2024-10-27/
LOCATION:Nave and Sanctuary at Church of the Redeemer\, 6220 Northeast 181st Street\, Kenmore\, WA\, 98028\, United States
CATEGORIES:Liturgy
ATTACH;FMTTYPE=image/png:https://redeemer-kenmore.org/wp-content/uploads/2023/06/Late-Service-Holy-Eucharist.avif
ORGANIZER;CN="Church Office":MAILTO:office@redeemer-kenmore.org
GEO:47.7594575;-122.2595651
X-APPLE-STRUCTURED-LOCATION;VALUE=URI;X-ADDRESS=Nave and Sanctuary at Church of the Redeemer 6220 Northeast 181st Street Kenmore WA 98028 United States;X-APPLE-RADIUS=500;X-TITLE=6220 Northeast 181st Street:geo:-122.2595651,47.7594575
END:VEVENT
BEGIN:VEVENT
DTSTART;TZID=America/Los_Angeles:20241027T180000
DTEND;TZID=America/Los_Angeles:20241027T200000
DTSTAMP:20260420T175752
CREATED:20241009T022214Z
LAST-MODIFIED:20241009T183654Z
UID:10004191-1730052000-1730059200@redeemer-kenmore.org
SUMMARY:Family Pumpkin Night Potluck
DESCRIPTION:Fun for the whole family! Enjoy an evening together at the Family Pumpkin Night Potluck. It is at Episcopal Church of the Redeemer\, 6220 NE 181st Street\, in Kenmore\, Washington\, on Sunday\, October 27\, 2024. It starts at 6:00 pm. \n\n\n\nWe’ll do the following: \n\n\n\n\nShare a meal\n\n\n\nCarve pumpkins\n\n\n\nHear the tale of All Hallows Eve\n\n\n\n\nCostumes are encouraged!  \n\n\n\nWe encourage you to bring pumpkin-inspired dishes to this potluck dinner. Please sign up to let us know what you are coming and what food you are bringing. \n\n\n\n\n Sign up for the Family Pumpkin Night Potluck\n\n\n\n\n\n\n\n\nThis event is BYOP: Please Bring Your Own Pumpkin for your family to carve.
URL:https://redeemer-kenmore.org/event/family-pumpkin-night-potluck/
LOCATION:Parish Hall at Church of the Redeemer\, Ground Floor of the main building on the campus at 6220 Northeast 181st Street\, Kenmore\, WA\, 98028\, United States
CATEGORIES:Parish Life
ATTACH;FMTTYPE=image/png:https://redeemer-kenmore.org/wp-content/uploads/2024/10/Church-Events-35-Family-pumpkin-night-potluck.png
GEO:47.7594575;-122.2595651
X-APPLE-STRUCTURED-LOCATION;VALUE=URI;X-ADDRESS=Parish Hall at Church of the Redeemer Ground Floor of the main building on the campus at 6220 Northeast 181st Street Kenmore WA 98028 United States;X-APPLE-RADIUS=500;X-TITLE=Ground Floor of the main building on the campus at 6220 Northeast 181st Street:geo:-122.2595651,47.7594575
END:VEVENT
END:VCALENDAR