BEGIN:VCALENDAR
VERSION:2.0
PRODID:-//Episcopal Church of the Redeemer - ECPv6.15.20//NONSGML v1.0//EN
CALSCALE:GREGORIAN
METHOD:PUBLISH
X-ORIGINAL-URL:https://redeemer-kenmore.org
X-WR-CALDESC:Events for Episcopal Church of the Redeemer
REFRESH-INTERVAL;VALUE=DURATION:PT1H
X-Robots-Tag:noindex
X-PUBLISHED-TTL:PT1H
BEGIN:VTIMEZONE
TZID:America/Los_Angeles
BEGIN:DAYLIGHT
TZOFFSETFROM:-0800
TZOFFSETTO:-0700
TZNAME:PDT
DTSTART:20230312T100000
END:DAYLIGHT
BEGIN:STANDARD
TZOFFSETFROM:-0700
TZOFFSETTO:-0800
TZNAME:PST
DTSTART:20231105T090000
END:STANDARD
BEGIN:DAYLIGHT
TZOFFSETFROM:-0800
TZOFFSETTO:-0700
TZNAME:PDT
DTSTART:20240310T100000
END:DAYLIGHT
BEGIN:STANDARD
TZOFFSETFROM:-0700
TZOFFSETTO:-0800
TZNAME:PST
DTSTART:20241103T090000
END:STANDARD
BEGIN:DAYLIGHT
TZOFFSETFROM:-0800
TZOFFSETTO:-0700
TZNAME:PDT
DTSTART:20250309T100000
END:DAYLIGHT
BEGIN:STANDARD
TZOFFSETFROM:-0700
TZOFFSETTO:-0800
TZNAME:PST
DTSTART:20251102T090000
END:STANDARD
END:VTIMEZONE
BEGIN:VEVENT
DTSTART;TZID=America/Los_Angeles:20241028T000000
DTEND;TZID=America/Los_Angeles:20241028T235959
DTSTAMP:20260420T221914
CREATED:20230926T021910Z
LAST-MODIFIED:20231016T003407Z
UID:10003459-1730073600-1730159999@redeemer-kenmore.org
SUMMARY:St. Simon and St. Jude
DESCRIPTION:Lessons appointed for use for this day from the Revised Common Lectionary (Episcopal version). \n\n\n\nDeuteronomy 32:1-4 (NRSV)\n\n\n\nGive ear\, O heavens\, and I will speak;   let the earth hear the words of my mouth.May my teaching drop like the rain\,   my speech condense like the dew;like gentle rain on grass\,   like showers on new growth.For I will proclaim the name of the Lord;   ascribe greatness to our God! \n\n\n\nThe Rock\, his work is perfect\,   and all his ways are just.A faithful God\, without deceit\,   just and upright is he; \n\n\n\nPsalm 119:89-96 (BCP)\n\n\n\nLamedh \n\n\n\nIn Æternum\, Domine \n\n\n\n89 O Lord\, your word is everlasting; *     it stands firm in the heavens. \n\n\n\n90 Your faithfulness remains from one generation to another; *     you established the earth\, and it abides. \n\n\n\n91 By your decree these continue to this day\, *     for all things are your servants. \n\n\n\n92 If my delight had not been in your law\, *     I should have perished in my affliction. \n\n\n\n93 I will never forget your commandments\, *     because by them you give me life. \n\n\n\n94 I am yours; oh\, that you would save me! *     for I study your commandments. \n\n\n\n95 Though the wicked lie in wait for me to destroy me\, *     I will apply my mind to your decrees. \n\n\n\n96 I see that all things come to an end\, *     but your commandment has no bounds. \n\n\n\nEphesians 2:13-22 (NRSV)\n\n\n\nBut now in Christ Jesus you who once were far off have been brought near by the blood of Christ. For he is our peace; in his flesh he has made both groups into one and has broken down the dividing wall\, that is\, the hostility between us. He has abolished the law with its commandments and ordinances\, so that he might create in himself one new humanity in place of the two\, thus making peace\, and might reconcile both groups to God in one body through the cross\, thus putting to death that hostility through it. So he came and proclaimed peace to you who were far off and peace to those who were near; for through him both of us have access in one Spirit to the Father. So then you are no longer strangers and aliens\, but you are citizens with the saints and also members of the household of God\, built upon the foundation of the apostles and prophets\, with Christ Jesus himself as the cornerstone. In him the whole structure is joined together and grows into a holy temple in the Lord; in whom you also are built together spiritually into a dwelling-place for God. \n\n\n\nJohn 15:17-27 (NRSV)\n\n\n\nI am giving you these commands so that you may love one another. \n\n\n\n‘If the world hates you\, be aware that it hated me before it hated you. If you belonged to the world\, the world would love you as its own. Because you do not belong to the world\, but I have chosen you out of the world—therefore the world hates you. Remember the word that I said to you\, “Servants are not greater than their master.” If they persecuted me\, they will persecute you; if they kept my word\, they will keep yours also. But they will do all these things to you on account of my name\, because they do not know him who sent me. If I had not come and spoken to them\, they would not have sin; but now they have no excuse for their sin. Whoever hates me hates my Father also. If I had not done among them the works that no one else did\, they would not have sin. But now they have seen and hated both me and my Father. It was to fulfil the word that is written in their law\, “They hated me without a cause.” \n\n\n\n‘When the Advocate comes\, whom I will send to you from the Father\, the Spirit of truth who comes from the Father\, he will testify on my behalf. You also are to testify because you have been with me from the beginning.
URL:https://redeemer-kenmore.org/event/st-simon-and-st-jude/2024-10-28/
LOCATION:Church of the Redeemer\, Kenmore\, Washington\, 6220 Northeast 181st Street\, PO Box 82677\, Kenmore\, WA\, 98028\, United States
CATEGORIES:Holy Days
ATTACH;FMTTYPE=image/png:https://redeemer-kenmore.org/wp-content/uploads/2023/09/Saint-Simon-and-Saint-Jude.png
ORGANIZER;CN="Church Office":MAILTO:office@redeemer-kenmore.org
GEO:47.7594575;-122.2595651
X-APPLE-STRUCTURED-LOCATION;VALUE=URI;X-ADDRESS=Church of the Redeemer Kenmore Washington 6220 Northeast 181st Street PO Box 82677 Kenmore WA 98028 United States;X-APPLE-RADIUS=500;X-TITLE=6220 Northeast 181st Street\, PO Box 82677:geo:-122.2595651,47.7594575
END:VEVENT
BEGIN:VEVENT
DTSTART;TZID=America/Los_Angeles:20241028T193000
DTEND;TZID=America/Los_Angeles:20241028T203000
DTSTAMP:20260420T221914
CREATED:20230227T222236Z
LAST-MODIFIED:20250821T223100Z
UID:10001854-1730143800-1730147400@redeemer-kenmore.org
SUMMARY:Cocaine Anonymous: Kenmore Keystone (D3)
DESCRIPTION:Church of the Redeemer rents space to Cocaine Anonymous for this meeting. Please contact Cocaine Anonymous for more information. In the spirit of Tradition Six\, C.A. is not allied with any sect\, denomination\, politics\, organization or institution. \n\n\n\nMeeting type: \n\n\n\n\nMeditation: Practices vary\, but typically there is a brief period of meditation prior to any sharing. The meditation may be silent or accompanied by audio intended to help facilitate the practice. Lights may be turned off or dimmed during the meditation.\n\n\n\nCandlelight: The meeting is conducted partly or entirely by candlelight.\n\n\n\n\nAbout C.A.\n\n\n\nCocaine Anonymous is a Fellowship of men and women who share their experience\, strength and hope with each other that they may solve their common problem and help others recover from their addiction. \n\n\n\nThe best way to reach someone is to speak to them on a common level. The members of C.A. are all recovering addicts who maintain their individual sobriety by working with others. We come from various social\, ethnic\, economic and religious backgrounds\, but what we have in common is addiction. \n\n\n\nThe only requirement for membership is a desire to stop using cocaine and all other mind-altering substances. \n\n\n\nAnyone who wants to stop using cocaine and all other mind-altering substances (including alcohol and other drugs) is welcome. \n\n\n\nThere are no dues or fees for membership; we are fully self-supporting through our own contributions. \n\n\n\nWe do ask for voluntary contributions at meetings to cover expenses such as coffee\, rent\, literature and services to help those who are still suffering. However\, newcomers need not feel obligated to contribute. We do not accept donations from organizations or individuals outside the Fellowship. \n\n\n\nWe are not allied with any sect\, denomination\, politics\, organization or institution. \n\n\n\nIn order to maintain our integrity and avoid any possible complications\, we are not affiliated with any outside organization. Although C.A. is a spiritual program\, we do not align ourselves with any religion. Our members are free to define their spirituality as they see fit. Our individual members may have opinions of their own\, but C.A. as a whole has no opinion on outside issues. We are not affiliated with any rehabs\, recovery houses or hospitals\, but many do refer their patients to Cocaine Anonymous to maintain their sobriety. \n\n\n\nOur primary purpose is to stay free from cocaine and all other mind-altering substances and to help others achieve the same freedom. \n\n\n\nThe only purpose of Cocaine Anonymous is to offer recovery to individuals who are suffering from addiction. Our experience has shown that the most effective way to attain and maintain sobriety is to work with others suffering from the same malady. \n\n\n\nWe use the Twelve-Step recovery program because it has already been proven that the Twelve-Step recovery program works. \n\n\n\nCocaine Anonymous\n\n\n\nWelcome to Cocaine Anonymous . We are all here for the same reason—our inability to stop using cocaine and all other mind-altering substances. The first step towards solving any problem is admitting that there is a problem. \n\n\n\n12 steps of Cocaine Anonymous\n\n\n\n\nWe admitted we were powerless over cocaine and all other mind-altering substances—that our lives had become unmanageable.\n\n\n\nCame to believe that a Power greater than ourselves could restore us to sanity.\n\n\n\nMade a decision to turn our will and our lives over to the care of God as we understood Him.\n\n\n\nMade a searching and fearless moral inventory of ourselves.\n\n\n\nAdmitted to God\, to ourselves\, and to another human being the exact nature of our wrongs.\n\n\n\nWere entirely ready to have God remove all these defects of character.\n\n\n\nHumbly asked Him to remove our shortcomings.\n\n\n\nMade a list of all persons we had harmed\, and became willing to make amends to them all.\n\n\n\nMade direct amends to such people wherever possible\, except when to do so would injure them or others.\n\n\n\nContinued to take personal inventory and when we were wrong promptly admitted it.\n\n\n\nSought through prayer and meditation to improve our conscious contact with God as we understood Him\, praying only for knowledge of His will for us and the power to carry that out.\n\n\n\nHaving had a spiritual awakening as the result of these Steps\, we tried to carry this message to addicts\, and to practice these principles in all our affairs.
URL:https://redeemer-kenmore.org/event/cocaine-anonymous-kenmore-keystone-d3-19/2024-10-28/
LOCATION:Parish Hall at Church of the Redeemer\, Ground Floor of the main building on the campus at 6220 Northeast 181st Street\, Kenmore\, WA\, 98028\, United States
CATEGORIES:12 Step Meetings
ATTACH;FMTTYPE=image/jpeg:https://redeemer-kenmore.org/wp-content/uploads/2018/01/Cocaine-Anonymous.avif
GEO:47.7594575;-122.2595651
X-APPLE-STRUCTURED-LOCATION;VALUE=URI;X-ADDRESS=Parish Hall at Church of the Redeemer Ground Floor of the main building on the campus at 6220 Northeast 181st Street Kenmore WA 98028 United States;X-APPLE-RADIUS=500;X-TITLE=Ground Floor of the main building on the campus at 6220 Northeast 181st Street:geo:-122.2595651,47.7594575
END:VEVENT
END:VCALENDAR