BEGIN:VCALENDAR
VERSION:2.0
PRODID:-//Episcopal Church of the Redeemer - ECPv6.15.20//NONSGML v1.0//EN
CALSCALE:GREGORIAN
METHOD:PUBLISH
X-WR-CALNAME:Episcopal Church of the Redeemer
X-ORIGINAL-URL:https://redeemer-kenmore.org
X-WR-CALDESC:Events for Episcopal Church of the Redeemer
REFRESH-INTERVAL;VALUE=DURATION:PT1H
X-Robots-Tag:noindex
X-PUBLISHED-TTL:PT1H
BEGIN:VTIMEZONE
TZID:America/Los_Angeles
BEGIN:DAYLIGHT
TZOFFSETFROM:-0800
TZOFFSETTO:-0700
TZNAME:PDT
DTSTART:20230312T100000
END:DAYLIGHT
BEGIN:STANDARD
TZOFFSETFROM:-0700
TZOFFSETTO:-0800
TZNAME:PST
DTSTART:20231105T090000
END:STANDARD
BEGIN:DAYLIGHT
TZOFFSETFROM:-0800
TZOFFSETTO:-0700
TZNAME:PDT
DTSTART:20240310T100000
END:DAYLIGHT
BEGIN:STANDARD
TZOFFSETFROM:-0700
TZOFFSETTO:-0800
TZNAME:PST
DTSTART:20241103T090000
END:STANDARD
BEGIN:DAYLIGHT
TZOFFSETFROM:-0800
TZOFFSETTO:-0700
TZNAME:PDT
DTSTART:20250309T100000
END:DAYLIGHT
BEGIN:STANDARD
TZOFFSETFROM:-0700
TZOFFSETTO:-0800
TZNAME:PST
DTSTART:20251102T090000
END:STANDARD
END:VTIMEZONE
BEGIN:VEVENT
DTSTART;TZID=America/Los_Angeles:20241101T000000
DTEND;TZID=America/Los_Angeles:20241124T233000
DTSTAMP:20260419T143052
CREATED:20241028T075719Z
LAST-MODIFIED:20241028T082043Z
UID:10004219-1730419200-1732491000@redeemer-kenmore.org
SUMMARY:Donate for Hopelink Kenmore Place residents
DESCRIPTION:The holiday season is upon us! This time of year is about practicing gratitude and giving to others. Hopelink Kenmore Place\, just around the corner from Episcopal Church of the Redeemer\, provides transitional housing community for 11 families experiencing housing insecurity. Throughout the month of November\, we are collecting monetary donations to purchase a $100 gift card for each family. These cards will be given to the families before Thanksgiving. If you would like to donate towards a gift card\, you may do so on the Giving page on the Redeemer website. By selecting this link\, your gift will automatically go to Outreach – Hopelink Kenmore Programs. You won’t need to select that from the menu.The families facing housing insecurity at Kenmore Place appreciate the help you provide.Stay tuned for more ways that we will be helping these families in the month of December.  \n\n\n\n\n\n\n\nHopelink\n\n\n\nSince 1971\, Hopelink has provided programs for people experiencing poverty\, immigrants and refugees\, and people with disabilities in north and east King County. Its Transportation programs services the entire King County and into Snohomish County. The agency’s programs work in tandem to fill gaps\, supporting each family or individual’s unique needs as they gain stability and build skills to exit poverty.  \n\n\n\nHopelink’s mission is to promote self-sufficiency for all members of our community to help people make a lasting change.  \n\n\n\nHopelink’s Values: \n\n\n\n\nGrowth and Human Potential\n\n\n\nInclusion\n\n\n\nCompassion\n\n\n\nRelationships Built in Trust\n\n\n\nQuality of our Work\n\n\n\nFiscal Stewardship\n\n\n\n\nRead more about Hopelink.
URL:https://redeemer-kenmore.org/event/donate-for-hopelink-kenmore-place-residents/
LOCATION:Church of the Redeemer\, Northeast 181st Street 6210\, Kenmore\, Washington\, 98028\, United States
CATEGORIES:Hopelink
ATTACH;FMTTYPE=image/png:https://redeemer-kenmore.org/wp-content/uploads/2023/11/Hopelink-Kenmore-Place-Seasonal-Outreach.png
ORGANIZER;CN="Michelle Henderson":MAILTO:hkp@redeemer-kenmore.org
GEO:47.7594575;-122.2595651
X-APPLE-STRUCTURED-LOCATION;VALUE=URI;X-ADDRESS=Church of the Redeemer Northeast 181st Street 6210 Kenmore Washington 98028 United States;X-APPLE-RADIUS=500;X-TITLE=Northeast 181st Street 6210:geo:-122.2595651,47.7594575
END:VEVENT
BEGIN:VEVENT
DTSTART;TZID=America/Los_Angeles:20241119T100000
DTEND;TZID=America/Los_Angeles:20241119T120000
DTSTAMP:20260419T143052
CREATED:20241004T224617Z
LAST-MODIFIED:20241103T045054Z
UID:10004238-1732010400-1732017600@redeemer-kenmore.org
SUMMARY:Open office hours
DESCRIPTION:Open office hours are times you can stop by and chat with Fr. Jed. Maybe ask a question that you’ve always wondered? Or just say “hello”? Open office hours are on most Tuesdays\, from 10:00 am to 12:00 noon.  \n\n\n\nWatch for last-minute announcements about changes on our Facebook page. There are times open office hours may have to be changed or cancelled at the last moment. \n\n\n\nIf you have other ideas of times and/or places\, you can let Fr. Jed know. That time and/or place might be added in the future. 
URL:https://redeemer-kenmore.org/event/open-office-hours-24/2024-11-19/
LOCATION:Sidekick Coffee\, 17255 135th Avenue NE\, Suite 1020\, Woodinville\, WA\, 98072\, United States
CATEGORIES:Open office hours
ATTACH;FMTTYPE=image/jpeg:https://redeemer-kenmore.org/wp-content/uploads/2020/02/Coffee-Beans.avif
ORGANIZER;CN="Fr. Jed Fox":MAILTO:rector@redeemer-kenmore.org
GEO:47.7522518;-122.1594256
X-APPLE-STRUCTURED-LOCATION;VALUE=URI;X-ADDRESS=Sidekick Coffee 17255 135th Avenue NE Suite 1020 Woodinville WA 98072 United States;X-APPLE-RADIUS=500;X-TITLE=17255 135th Avenue NE\, Suite 1020:geo:-122.1594256,47.7522518
END:VEVENT
END:VCALENDAR