BEGIN:VCALENDAR
VERSION:2.0
PRODID:-//Episcopal Church of the Redeemer - ECPv6.15.20//NONSGML v1.0//EN
CALSCALE:GREGORIAN
METHOD:PUBLISH
X-ORIGINAL-URL:https://redeemer-kenmore.org
X-WR-CALDESC:Events for Episcopal Church of the Redeemer
REFRESH-INTERVAL;VALUE=DURATION:PT1H
X-Robots-Tag:noindex
X-PUBLISHED-TTL:PT1H
BEGIN:VTIMEZONE
TZID:America/Los_Angeles
BEGIN:DAYLIGHT
TZOFFSETFROM:-0800
TZOFFSETTO:-0700
TZNAME:PDT
DTSTART:20240310T100000
END:DAYLIGHT
BEGIN:STANDARD
TZOFFSETFROM:-0700
TZOFFSETTO:-0800
TZNAME:PST
DTSTART:20241103T090000
END:STANDARD
BEGIN:DAYLIGHT
TZOFFSETFROM:-0800
TZOFFSETTO:-0700
TZNAME:PDT
DTSTART:20250309T100000
END:DAYLIGHT
BEGIN:STANDARD
TZOFFSETFROM:-0700
TZOFFSETTO:-0800
TZNAME:PST
DTSTART:20251102T090000
END:STANDARD
BEGIN:DAYLIGHT
TZOFFSETFROM:-0800
TZOFFSETTO:-0700
TZNAME:PDT
DTSTART:20260308T100000
END:DAYLIGHT
BEGIN:STANDARD
TZOFFSETFROM:-0700
TZOFFSETTO:-0800
TZNAME:PST
DTSTART:20261101T090000
END:STANDARD
END:VTIMEZONE
BEGIN:VEVENT
DTSTART;TZID=America/Los_Angeles:20250111T130000
DTEND;TZID=America/Los_Angeles:20250111T150000
DTSTAMP:20260420T180110
CREATED:20241212T064757Z
LAST-MODIFIED:20241212T073926Z
UID:10004295-1736600400-1736607600@redeemer-kenmore.org
SUMMARY:Christmas Tea
DESCRIPTION:Please join us for a Christmas Tea for women on Saturday\, January 11\, 2025\, from 1:00 pm to 3:00 pm. It will be in the Parish Hall at Episcopal Church of the Redeemer in Kenmore\, Washington. \n\n\n\nBeverages will be provided. If you are able\, please bring treats that you would like share with everyone.  \n\n\n\nWe look forward to celebrating the season and to enjoying great fellowship with you at the Christmas Tea. For questions\, contact Jill Gray at office@redeemer-kenmore.org.  \n\n\n\nAnyone identifying as female\, femme\, or non-binary is welcome to attend this event. \n\n\n\nChurch of the Redeemer is at 6220 Northeast 181st Street in Kenmore\, Washington. The Parish Hall is on the lower level of the main building.
URL:https://redeemer-kenmore.org/event/christmas-tea-3/
LOCATION:Parish Hall at Church of the Redeemer\, Ground Floor of the main building on the campus at 6220 Northeast 181st Street\, Kenmore\, WA\, 98028\, United States
CATEGORIES:Parish Life
ATTACH;FMTTYPE=image/png:https://redeemer-kenmore.org/wp-content/uploads/2024/11/Church-Events-33-Christmas-Tea-New-Time.png
ORGANIZER;CN="Church Office":MAILTO:office@redeemer-kenmore.org
GEO:47.7594575;-122.2595651
X-APPLE-STRUCTURED-LOCATION;VALUE=URI;X-ADDRESS=Parish Hall at Church of the Redeemer Ground Floor of the main building on the campus at 6220 Northeast 181st Street Kenmore WA 98028 United States;X-APPLE-RADIUS=500;X-TITLE=Ground Floor of the main building on the campus at 6220 Northeast 181st Street:geo:-122.2595651,47.7594575
END:VEVENT
END:VCALENDAR