BEGIN:VCALENDAR
VERSION:2.0
PRODID:-//Episcopal Church of the Redeemer - ECPv6.15.20//NONSGML v1.0//EN
CALSCALE:GREGORIAN
METHOD:PUBLISH
X-ORIGINAL-URL:https://redeemer-kenmore.org
X-WR-CALDESC:Events for Episcopal Church of the Redeemer
REFRESH-INTERVAL;VALUE=DURATION:PT1H
X-Robots-Tag:noindex
X-PUBLISHED-TTL:PT1H
BEGIN:VTIMEZONE
TZID:America/Los_Angeles
BEGIN:DAYLIGHT
TZOFFSETFROM:-0800
TZOFFSETTO:-0700
TZNAME:PDT
DTSTART:20240310T100000
END:DAYLIGHT
BEGIN:STANDARD
TZOFFSETFROM:-0700
TZOFFSETTO:-0800
TZNAME:PST
DTSTART:20241103T090000
END:STANDARD
BEGIN:DAYLIGHT
TZOFFSETFROM:-0800
TZOFFSETTO:-0700
TZNAME:PDT
DTSTART:20250309T100000
END:DAYLIGHT
BEGIN:STANDARD
TZOFFSETFROM:-0700
TZOFFSETTO:-0800
TZNAME:PST
DTSTART:20251102T090000
END:STANDARD
BEGIN:DAYLIGHT
TZOFFSETFROM:-0800
TZOFFSETTO:-0700
TZNAME:PDT
DTSTART:20260308T100000
END:DAYLIGHT
BEGIN:STANDARD
TZOFFSETFROM:-0700
TZOFFSETTO:-0800
TZNAME:PST
DTSTART:20261101T090000
END:STANDARD
END:VTIMEZONE
BEGIN:VEVENT
DTSTART;TZID=America/Los_Angeles:20250119T000000
DTEND;TZID=America/Los_Angeles:20250119T235959
DTSTAMP:20260420T151426
CREATED:20240415T212416Z
LAST-MODIFIED:20250111T221259Z
UID:10004644-1737244800-1737331199@redeemer-kenmore.org
SUMMARY:2nd Sunday after the Epiphany
DESCRIPTION:Prayers\n\n\n\nAlmighty God\, whose Son our Savior Jesus Christ is the light of the world: Grant that your people\, illumined by your Word and Sacraments\, may shine with the radiance of Christ’s glory\, that he may be known\, worshiped\, and obeyed to the ends of the earth; through Jesus Christ our Lord\, who with you and the Holy Spirit lives and reigns\, one God\, now and for ever. Amen. \n\n\n\nAnglican Cycle of Prayer\n\n\n\nThe See of Canterbury and selection of the next Archbishop of Canterbury \n\n\n\nThe Church in the Province of the West Indies \n\n\n\nEpiscopal Church\n\n\n\nThe Most Rev. Sean Rowe\, XXVIII Presiding Bishop of the Episcopal Church \n\n\n\nArmed Forces and Federal Ministries \n\n\n\nDioceses of Rhode Island\, Vermont\, Western Massachusetts \n\n\n\nDiocese of Olympia\n\n\n\nThe Rt. Rev. Philip N. LaBelle\, IX Bishop of the Diocese of Olympia \n\n\n\nSt. John’s\, Kirkland; St. Thomas\, Medina; Emmanuel\, Mercer Island \n\n\n\nThose in authority\n\n\n\nJoseph R. Biden\, Jr\, President of the United StatesDonald J. Trump\, President-Elect of the United States \n\n\n\nRobert Ferguson\, Governor of Washington \n\n\n\nTeri Gobin\, Chair of the TulalipCecile Hanson\, Chair of the Duwamish \n\n\n\nLessons\n\n\n\nLessons appointed for use for this day from the Revised Common Lectionary (Episcopal version). \n\n\n\nIsaiah 62:1-5 (NRSV)\n\n\n\nFor Zion’s sake I will not keep silent\,   and for Jerusalem’s sake I will not rest\,until her vindication shines out like the dawn\,   and her salvation like a burning torch.The nations shall see your vindication\,   and all the kings your glory;and you shall be called by a new name   that the mouth of the Lord will give.You shall be a crown of beauty in the hand of the Lord\,   and a royal diadem in the hand of your God.You shall no more be termed Forsaken\,   and your land shall no more be termed Desolate;but you shall be called My Delight Is in Her\,   and your land Married;for the Lord delights in you\,   and your land shall be married.For as a young man marries a young woman\,   so shall your builder marry you\,and as the bridegroom rejoices over the bride\,   so shall your God rejoice over you. \n\n\n\nPsalm 36 (BCP)\n\n\n\nDomine in cælo misericordia \n\n\n\n5 Your love\, O Lord\, reaches to the heavens\, *and your faithfulness to the clouds.6 Your righteousness is like the strong mountains\, your justice like the great deep; *you save both man and beast\, O Lord.7 How priceless is your love\, O God! *your people take refuge under the shadow of your wings.8 They feast upon the abundance of your house; *you give them drink from the river of your delights.9 For with you is the well of life\, *and in your light we see light.10 Continue your loving-kindness to those who know you\, *and your favor to those who are true of heart. \n\n\n\n1 Corinthians 12:1-11 (NRSV)\n\n\n\nNow concerning spiritual gifts\, brothers and sisters\, I do not want you to be uninformed. You know that when you were pagans\, you were enticed and led astray to idols that could not speak. Therefore I want you to understand that no one speaking by the Spirit of God ever says ‘Let Jesus be cursed!’ and no one can say ‘Jesus is Lord’ except by the Holy Spirit. \n\n\n\nNow there are varieties of gifts\, but the same Spirit; and there are varieties of services\, but the same Lord; and there are varieties of activities\, but it is the same God who activates all of them in everyone. To each is given the manifestation of the Spirit for the common good. To one is given through the Spirit the utterance of wisdom\, and to another the utterance of knowledge according to the same Spirit\, to another faith by the same Spirit\, to another gifts of healing by the one Spirit\, to another the working of miracles\, to another prophecy\, to another the discernment of spirits\, to another various kinds of tongues\, to another the interpretation of tongues. All these are activated by one and the same Spirit\, who allots to each one individually just as the Spirit chooses. \n\n\n\nJohn 2:1-11 (NRSV)\n\n\n\nOn the third day there was a wedding in Cana of Galilee\, and the mother of Jesus was there. Jesus and his disciples had also been invited to the wedding. When the wine gave out\, the mother of Jesus said to him\, ‘They have no wine.’ And Jesus said to her\, ‘Woman\, what concern is that to you and to me? My hour has not yet come.’ His mother said to the servants\, ‘Do whatever he tells you.’ Now standing there were six stone water-jars for the Jewish rites of purification\, each holding twenty or thirty gallons. Jesus said to them\, ‘Fill the jars with water.’ And they filled them up to the brim. He said to them\, ‘Now draw some out\, and take it to the chief steward.’ So they took it. When the steward tasted the water that had become wine\, and did not know where it came from (though the servants who had drawn the water knew)\, the steward called the bridegroom and said to him\, ‘Everyone serves the good wine first\, and then the inferior wine after the guests have become drunk. But you have kept the good wine until now.’ Jesus did this\, the first of his signs\, in Cana of Galilee\, and revealed his glory; and his disciples believed in him. \n\n\n\n\n\n\n\nThe Old Testament\, New Testament and Gospel readings are from the New Revised Standard Version Bible: Anglicized Edition\, copyright 1989\, 1995\, Division of Christian Education of the National Council of the Churches of Christ in the United States of America. Used by permission. All rights reserved. \n\n\n\nThe Psalm is from the Book of Common Prayer\, 1979.
URL:https://redeemer-kenmore.org/event/2nd-sunday-after-the-epiphany/
LOCATION:Church of the Redeemer\, Kenmore\, Washington\, 6220 Northeast 181st Street\, PO Box 82677\, Kenmore\, WA\, 98028\, United States
CATEGORIES:Epiphany
ATTACH;FMTTYPE=image/png:https://redeemer-kenmore.org/wp-content/uploads/2023/12/Church-seasons-and-holidays-16-The-Season-after-the-Epiphany.png
ORGANIZER;CN="Church Office":MAILTO:office@redeemer-kenmore.org
GEO:47.7594575;-122.2595651
X-APPLE-STRUCTURED-LOCATION;VALUE=URI;X-ADDRESS=Church of the Redeemer Kenmore Washington 6220 Northeast 181st Street PO Box 82677 Kenmore WA 98028 United States;X-APPLE-RADIUS=500;X-TITLE=6220 Northeast 181st Street\, PO Box 82677:geo:-122.2595651,47.7594575
END:VEVENT
BEGIN:VEVENT
DTSTART;TZID=America/Los_Angeles:20250119T080000
DTEND;TZID=America/Los_Angeles:20250119T090000
DTSTAMP:20260420T151426
CREATED:20230906T165657Z
LAST-MODIFIED:20241228T072053Z
UID:10001308-1737273600-1737277200@redeemer-kenmore.org
SUMMARY:In-person Holy Eucharist
DESCRIPTION:Everyone is welcome at Church of the Redeemer. We look forward to seeing you at this 8:00 am Sunday service of Holy Eucharist at Church of the Redeemer. It is in-person only. \n\n\n\nWhile not required\, you may wear a mask when in the building. We have masks available for you\, if you want. \n\n\n\nEucharist\n\n\n\nThe Eucharist is the sacrament of Christ’s body and blood\, and the principal act of Christian worship. The term is from the Greek\, “thanksgiving.” \n\n\n\nJesus instituted the Eucharist “on the night when he was betrayed.” At the Last Supper he shared the bread and cup of wine at a sacred meal with his disciples. He identified the bread with his body and the wine with his blood of the new covenant. Jesus commanded his disciples to “do this” in remembrance of him (see 1 Corinthians 11:23-26; Mark 14:22-25; Matthew 26:26-29; Luke 22:14-20). \n\n\n\nChrist’s sacrifice is made present by the Eucharist\, and in it we are united to his one self-offering (Book of Common Prayer\, p. 859). The Last Supper provides the basis for the fourfold Eucharistic action of taking\, blessing\, breaking\, and sharing. Christ’s body and blood are really present in the sacrament of the Eucharist and received by faith. Christ’s presence is also known in the gathered eucharistic community. \n\n\n\nIn the Book of Common Prayer\, the whole service is entitled the Holy Eucharist. \n\n\n\n\nThe first part of the service is designated the Word of God. It usually includes the entrance rite\, the lessons and gradual psalm\, the gospel\, the sermon\, the Nicene Creed\, the Prayers of the People\, the confession of sin and absolution\, and the Peace.\n\n\n\nThe second portion of the service is designated the Holy Communion. It includes the offertory\, the consecration of the bread and wine in the Great Thanksgiving\, the communion of the people\, and the concluding prayers of thanksgiving and dismissal. A blessing may be given prior to the dismissal.\n\n\n\n\nThe Eucharist is also called the Lord’s Supper\, Holy Communion\, the Divine Liturgy\, the Mass\, and the Great Offertory (BCP\, p. 859). \n\n\n\nThe Hymnal 1982 includes a section with a variety of hymns for the Holy Eucharist (Numbers 300 through 347)\, including “Come\, risen Lord\, and deign to be our guest” (305 and 306)\, “My God\, thy table now is spread” (321)\, “Now\, my tongue\, the mystery telling” (329 through 331)\, and “I am the bread of life” (335). \n\n\n\n(Above taken from Eucharist .)
URL:https://redeemer-kenmore.org/event/in-person-holy-eucharist-17/2025-01-19/
LOCATION:Nave and Sanctuary at Church of the Redeemer\, 6220 Northeast 181st Street\, Kenmore\, WA\, 98028\, United States
CATEGORIES:Liturgy
ATTACH;FMTTYPE=image/png:https://redeemer-kenmore.org/wp-content/uploads/2023/07/Early-Service-Holy-Eucharist.avif
ORGANIZER;CN="Church Office":MAILTO:office@redeemer-kenmore.org
GEO:47.7594575;-122.2595651
X-APPLE-STRUCTURED-LOCATION;VALUE=URI;X-ADDRESS=Nave and Sanctuary at Church of the Redeemer 6220 Northeast 181st Street Kenmore WA 98028 United States;X-APPLE-RADIUS=500;X-TITLE=6220 Northeast 181st Street:geo:-122.2595651,47.7594575
END:VEVENT
BEGIN:VEVENT
DTSTART;TZID=America/Los_Angeles:20250119T093000
DTEND;TZID=America/Los_Angeles:20250119T101500
DTSTAMP:20260420T151426
CREATED:20240918T201018Z
LAST-MODIFIED:20250122T060230Z
UID:10004674-1737279000-1737281700@redeemer-kenmore.org
SUMMARY:Seeking God Together
DESCRIPTION:Children meet each Sunday from 9:30 to 10:15 downstairs in the Children’s Room off of the parish hall. We are using the Current: Seeking God Together curriculum exploring spiritual practices. All elementary-aged children are welcome. \n\n\n\nThis children’s class takes place at the Episcopal Church of the Redeemer. The class is free and open to everyone in the community. You do not need to be a member of Church of the Redeemer. \n\n\n\nAn adult class takes place on the main floor of the worship area at the same time. \n\n\n\nChurch of the Redeemer is at 6220 NE 181st Street in Kenmore\, Washington. For more information\, contact the Rev. Theresa Newell at tnewell@redeemer-kenmore.org.
URL:https://redeemer-kenmore.org/event/seeking-god-together-2/2025-01-19/
LOCATION:Children’s Room at Church of the Redeemer\, 6220 Northeast 181st Street\, PO Box 82677\, Kenmore\, Washington\, 98028\, United States
CATEGORIES:Education
ATTACH;FMTTYPE=image/png:https://redeemer-kenmore.org/wp-content/uploads/2024/09/Children-worshipping-the-Sun-1.png
ORGANIZER;CN="The Rev. Theresa Newell":MAILTO:tnewell@redeemer-kenmore.org
GEO:47.7594575;-122.2595651
X-APPLE-STRUCTURED-LOCATION;VALUE=URI;X-ADDRESS=Children’s Room at Church of the Redeemer 6220 Northeast 181st Street PO Box 82677 Kenmore Washington 98028 United States;X-APPLE-RADIUS=500;X-TITLE=6220 Northeast 181st Street\, PO Box 82677:geo:-122.2595651,47.7594575
END:VEVENT
BEGIN:VEVENT
DTSTART;TZID=America/Los_Angeles:20250119T093000
DTEND;TZID=America/Los_Angeles:20250119T101500
DTSTAMP:20260420T151426
CREATED:20241231T205607Z
LAST-MODIFIED:20250122T010649Z
UID:10004633-1737279000-1737281700@redeemer-kenmore.org
SUMMARY:Life After Doom
DESCRIPTION:As a group\, we will read Life After Doom by Brian McLaren. This is a wonderful book about finding wisdom and courage in a world facing hard times. We will discuss the schedule of readings on January 19. \n\n\n\nThe people at Episcopal Church of the Redeemer invite everyone in the community to join us for these free sessions. Please join us. Church of the Redeemer is at 6220 Northeast 181st Street in Kenmore\, Washington.  \n\n\n\nAll are welcome at Redeemer: \n\n\n\n\nAll genders.\n\n\n\nAll races.\n\n\n\nAll religions.\n\n\n\nAll countries of origin.\n\n\n\nAll sexual orientations.\n\n\n\n\nLife After Doom\n\n\n\nIn Life After Doom\, Brian McLaren engages with the catastrophic failure of both our religious and political leaders to address the dominant realities of our time:  \n\n\n\n\nEcological overshoot\n\n\n\nEconomic injustice\n\n\n\nThe increasing likelihood of civilizational collapse \n\n\n\n\nHe explores the complexity of hope\, the necessity of grief\, and the need for new ways of thinking\, becoming\, and belonging in turbulent times.  \n\n\n\nIn reading this book we hope to help ourselves\, our families\, and our community find courage and resilience for the deeply challenging times in which we find ourselves.   \n\n\n\n\nPlease accept YouTube cookies to play this video. By accepting you will be accessing content from YouTube\, a service provided by an external third party. \nYouTube’s privacy policy \nIf you accept this notice\, your choice will be saved and the page will refresh. \nAccept YouTube Content
URL:https://redeemer-kenmore.org/event/life-after-doom/
LOCATION:Nave and Sanctuary at Church of the Redeemer\, 6220 Northeast 181st Street\, Kenmore\, WA\, 98028\, United States
CATEGORIES:Education
ATTACH;FMTTYPE=image/webp:https://redeemer-kenmore.org/wp-content/uploads/2024/12/Church-Events-44-Life-After-Doom.webp
ORGANIZER;CN="The Rev. Theresa Newell":MAILTO:tnewell@redeemer-kenmore.org
GEO:47.7594575;-122.2595651
X-APPLE-STRUCTURED-LOCATION;VALUE=URI;X-ADDRESS=Nave and Sanctuary at Church of the Redeemer 6220 Northeast 181st Street Kenmore WA 98028 United States;X-APPLE-RADIUS=500;X-TITLE=6220 Northeast 181st Street:geo:-122.2595651,47.7594575
END:VEVENT
BEGIN:VEVENT
DTSTART;TZID=America/Los_Angeles:20250119T103000
DTEND;TZID=America/Los_Angeles:20250119T113000
DTSTAMP:20260420T151426
CREATED:20240731T200218Z
LAST-MODIFIED:20241228T073456Z
UID:10001596-1737282600-1737286200@redeemer-kenmore.org
SUMMARY:In-person and on-line Holy Eucharist
DESCRIPTION:Everyone is welcome at Church of the Redeemer. We look forward to seeing you at this 10:30 am service of Holy Eucharist at Church of the Redeemer. It is in-person and on-line. \n\n\n\nWhile not required\, you may wear a mask when in the building. We have masks available for you\, if you want. \n\n\n\nThe service is broadcast live on the Welcome page of this website. \n\n\n\nEucharist\n\n\n\nThe Eucharist is the sacrament of Christ’s body and blood\, and the principal act of Christian worship. The term is from the Greek\, “thanksgiving.” \n\n\n\nJesus instituted the Eucharist “on the night when he was betrayed.” At the Last Supper he shared the bread and cup of wine at a sacred meal with his disciples. He identified the bread with his body and the wine with his blood of the new covenant. Jesus commanded his disciples to “do this” in remembrance of him (see 1 Cor 11:23-26; Mk 14:22-25; Mt 26:26-29; Lk 22:14-20). \n\n\n\nChrist’s sacrifice is made present by the Eucharist\, and in it we are united to his one self-offering (Book of Common Prayer\, p. 859). The Last Supper provides the basis for the fourfold Eucharistic action of taking\, blessing\, breaking\, and sharing. Christ’s body and blood are really present in the sacrament of the Eucharist and received by faith. Christ’s presence is also known in the gathered eucharistic community. \n\n\n\nIn the Book of Common Prayer\, the whole service is entitled the Holy Eucharist. \n\n\n\n\nThe first part of the service is designated the Word of God. It usually includes the entrance rite\, the lessons and gradual psalm\, the gospel\, the sermon\, the Nicene Creed\, the Prayers of the People\, the confession of sin and absolution\, and the Peace.\n\n\n\nThe second portion of the service is designated the Holy Communion. It includes the offertory\, the consecration of the bread and wine in the Great Thanksgiving\, the communion of the people\, and the concluding prayers of thanksgiving and dismissal. A blessing may be given prior to the dismissal.\n\n\n\n\nThe Eucharist is also called the Lord’s Supper\, Holy Communion\, the Divine Liturgy\, the Mass\, and the Great Offertory (BCP\, p. 859). \n\n\n\nThe Hymnal 1982 includes a section with a variety of hymns for the Holy Eucharist (Numbers 300 through 347)\, including “Come\, risen Lord\, and deign to be our guest” (305 and 306)\, “My God\, thy table now is spread” (321)\, “Now\, my tongue\, the mystery telling” (329 through 331)\, and “I am the bread of life” (335). \n\n\n\n(Above taken from Eucharist .)
URL:https://redeemer-kenmore.org/event/in-person-and-on-line-holy-eucharist-21/2025-01-19/
LOCATION:Nave and Sanctuary at Church of the Redeemer\, 6220 Northeast 181st Street\, Kenmore\, WA\, 98028\, United States
CATEGORIES:Liturgy
ATTACH;FMTTYPE=image/png:https://redeemer-kenmore.org/wp-content/uploads/2023/06/Late-Service-Holy-Eucharist.avif
ORGANIZER;CN="Church Office":MAILTO:office@redeemer-kenmore.org
GEO:47.7594575;-122.2595651
X-APPLE-STRUCTURED-LOCATION;VALUE=URI;X-ADDRESS=Nave and Sanctuary at Church of the Redeemer 6220 Northeast 181st Street Kenmore WA 98028 United States;X-APPLE-RADIUS=500;X-TITLE=6220 Northeast 181st Street:geo:-122.2595651,47.7594575
END:VEVENT
END:VCALENDAR