BEGIN:VCALENDAR
VERSION:2.0
PRODID:-//Episcopal Church of the Redeemer - ECPv6.15.20//NONSGML v1.0//EN
CALSCALE:GREGORIAN
METHOD:PUBLISH
X-ORIGINAL-URL:https://redeemer-kenmore.org
X-WR-CALDESC:Events for Episcopal Church of the Redeemer
REFRESH-INTERVAL;VALUE=DURATION:PT1H
X-Robots-Tag:noindex
X-PUBLISHED-TTL:PT1H
BEGIN:VTIMEZONE
TZID:America/Los_Angeles
BEGIN:DAYLIGHT
TZOFFSETFROM:-0800
TZOFFSETTO:-0700
TZNAME:PDT
DTSTART:20240310T100000
END:DAYLIGHT
BEGIN:STANDARD
TZOFFSETFROM:-0700
TZOFFSETTO:-0800
TZNAME:PST
DTSTART:20241103T090000
END:STANDARD
BEGIN:DAYLIGHT
TZOFFSETFROM:-0800
TZOFFSETTO:-0700
TZNAME:PDT
DTSTART:20250309T100000
END:DAYLIGHT
BEGIN:STANDARD
TZOFFSETFROM:-0700
TZOFFSETTO:-0800
TZNAME:PST
DTSTART:20251102T090000
END:STANDARD
BEGIN:DAYLIGHT
TZOFFSETFROM:-0800
TZOFFSETTO:-0700
TZNAME:PDT
DTSTART:20260308T100000
END:DAYLIGHT
BEGIN:STANDARD
TZOFFSETFROM:-0700
TZOFFSETTO:-0800
TZNAME:PST
DTSTART:20261101T090000
END:STANDARD
END:VTIMEZONE
BEGIN:VEVENT
DTSTART;TZID=America/Los_Angeles:20250214T170000
DTEND;TZID=America/Los_Angeles:20250216T130000
DTSTAMP:20260420T221120
CREATED:20250109T073200Z
LAST-MODIFIED:20250109T073554Z
UID:10004642-1739552400-1739710800@redeemer-kenmore.org
SUMMARY:Contemplative Weekend for Young Adults–2025
DESCRIPTION:Experience peace\, prayer and self-care with young adults from across the Episcopal Diocese of Olympia during a contemplative retreat. \n\n\n\nJoin us for a very casual weekend retreat designed for re-centering and renewal. Adults in their 20s & 30s from around Western Washington are invited to Rainbow Lodge\, just east of Seattle and at the foot of Mount Si\, to experience the beauty of this natural setting and a wide array of contemplative practices in community. \n\n\n\nThough only 35 miles from downtown Seattle (via I-90)\, the retreat center is located in a peaceful\, natural setting of 40 secluded acres of woods. \n\n\n\nWhat this “Holy Quiet” retreat offers\n\n\n\n\nA selection of various forms of contemplative practices.\n\n\n\nAn opportunity to go inward\, to cultivate a more intimate relationship with God and self.\n\n\n\nAn invitation to slow down\, pause.\n\n\n\nA shift away from a word-centric practice to discover/remember the wisdom of silence and the “still\, small voice” of God.\n\n\n\nAn opportunity to be in community with other seekers.\n\n\n\nA time to try something different\, to experiment with new practices that have the potential to deepen faith in unexpected ways and complement a more traditional practice.\n\n\n\nOptional one-on-one spiritual direction from Episcopal priests.\n\n\n\n\nFeedback from past years’ contemplative retreats\n\n\n\n“My favorite part was definitely singing Taizé services together! I was really able to enter into the contemplative space and it was a beautiful group worship experience. I also really enjoyed the holy hike!” \n\n\n\n“Favorite parts of the retreat? …Meeting people\, good things for my body\, mind\, and spirit\, like balanced meals\, restful sleep\, prayer of many types.” \n\n\n\n“The setting was fabulous — I truly enjoyed the Taizé and singing services led by the music team.” \n\n\n\nCome for the weekend or just for a day\n\n\n\nFor $125\, you receive the following: \n\n\n\n\nTwo nights’ accommodations in a private room (single and double occupancy available) with private sink but shared bath\n\n\n\n6 meals \n\nFriday dinner\n\n\n\nSaturday breakfast\, lunch\, and dinner\n\n\n\nSunday breakfast and lunch)\n\n\n\n\n\nAll content and resource materials.\n\n\n\n\nScholarships and sliding scale available. Please contact Valerie Reinke at the Office of the Bishop: faithformation@ecww.org. \n\n\n\nSchedule for the contemplative retreat\n\n\n\nFriday\, February 9\n\n\n\n\n5:00 p.m. – Check-in begins. Snacks and welcome.\n\n\n\n6:00 – Dinner.\n\n\n\n7:00 – Orientation to the Weekend.\n\n\n\n8:00 – Taizé service with music and Silence begins.\n\n\n\n\nSaturday\, February 10\n\n\n\n\n8:30 a.m. – Breakfast.\n\n\n\n10:00 – Morning gathering and contemplative teach-in.\n\n\n\n12:30 – Lunch.\n\n\n\n1:30 – 5:30 – Afternoon contemplative options: \n\nHoly Hike\n\n\n\nArt\n\n\n\nLabyrinth walk\n\n\n\nBreathwork\n\n\n\nYoga\n\n\n\nSpiritual direction\n\n\n\nBaking\n\n\n\nPersonal time\n\n\n\n\n\n6:00 – Dinner\n\n\n\n7:30 – Evening gathering – reflections on the day.\n\n\n\n8:30 – Evening service and meditation.\n\n\n\n\nSunday\, February 11\n\n\n\n\n9:00 a.m. – Breakfast.\n\n\n\n10:00 – Contemplative Eucharist.\n\n\n\n12:00 – Check-out.\n\n\n\n\nQuestions? \n\n\n\nDon’t hesitate to contact Valerie at the Office of the Bishop\, Diocese of Olympia\, the Episcopal Church in Western Washington\, at faithformation@ecww.org. \n\n\n\n\n\n\n\n\n\n\nGet tickets
URL:https://redeemer-kenmore.org/event/contemplative-weekend-for-young-adults-2025/
LOCATION:Rainbow Lodge\, 46820 Southeast Mount Si Road\, North Bend\, Washington\, 98045\, United States
CATEGORIES:20s and 30s
ATTACH;FMTTYPE=image/webp:https://redeemer-kenmore.org/wp-content/uploads/2025/01/Holy-Quiet-Contemplative-Retreat-Rainbow-Lodge-February-14-16-2025.webp
ORGANIZER;CN="Young Adult Faith Formation (Valerie Reinke)":MAILTO:vreinke@ecww.org
GEO:47.4887358;-121.7141667
X-APPLE-STRUCTURED-LOCATION;VALUE=URI;X-ADDRESS=Rainbow Lodge 46820 Southeast Mount Si Road North Bend Washington 98045 United States;X-APPLE-RADIUS=500;X-TITLE=46820 Southeast Mount Si Road:geo:-121.7141667,47.4887358
END:VEVENT
BEGIN:VEVENT
DTSTART;TZID=America/Los_Angeles:20250216T000000
DTEND;TZID=America/Los_Angeles:20250216T235959
DTSTAMP:20260420T221120
CREATED:20240415T212416Z
LAST-MODIFIED:20250214T022048Z
UID:10004734-1739664000-1739750399@redeemer-kenmore.org
SUMMARY:6th Sunday after the Epiphany (Year C)
DESCRIPTION:Prayers\n\n\n\nO God\, the strength of all who put their trust in you: Mercifully accept our prayers; and because in our weakness we can do nothing good without you\, give us the help of your grace\, that in keeping your commandments we may please you both in will and deed; through Jesus Christ our Lord\, who lives and reigns with you and the Holy Spirit\, one God\, for ever and ever. Amen. \n\n\n\nAnglican Cycle of Prayer\n\n\n\nThe See of Canterbury and selection of the next Archbishop of Canterbury \n\n\n\nThe Church of Bangladesh \n\n\n\nEpiscopal Church\n\n\n\nThe Most Rev. Sean Rowe\, XXVIII Presiding Bishop of the Episcopal Church \n\n\n\nDomestic Poverty \n\n\n\nDioceses of New Jersey\, New York \n\n\n\nDiocese of Olympia\n\n\n\nThe Rt. Rev. Philip N. LaBelle\, IX Bishop of the Diocese of Olympia \n\n\n\nGood Shepherd\, Federal Way; St. Columba’s\, Kent \n\n\n\nThose in authority\n\n\n\nDonald J. Trump\, President of the United StatesRobert Ferguson\, Governor of WashingtonTeri Gobin\, Chair of the Tulalip TribesCecile Hanson\, Chair of the Duwamish Nation \n\n\n\nLessons\n\n\n\nLessons appointed for use for this day from the Revised Common Lectionary (Episcopal version). \n\n\n\nJeremiah 17:5-10 (NRSV)\n\n\n\nThus says the Lord: “Cursed are those who trust in mere mortals and make mere flesh their strength\, whose hearts turn away from the Lord. They shall be like a shrub in the desert\, and shall not see when relief comes. They shall live in the parched places of the wilderness\, in an uninhabited salt land. Blessed are those who trust in the Lord\, whose trust is the Lord. They shall be like a tree planted by water\, sending out its roots by the stream. It shall not fear when heat comes\, and its leaves shall stay green; in the year of drought it is not anxious\, and it does not cease to bear fruit. The heart is devious above all else; it is perverse—who can understand it? I the Lord test the mind and search the heart\, to give to all according to their ways\, according to the fruit of their doings.” \n\n\n\nPsalm 1 (BCP)\n\n\n\nBeatus vir qui non abiit \n\n\n\n1 Happy are they who have not walked in the counsel of the wicked\, *    nor lingered in the way of sinners\, nor sat in the seats of the scornful! \n\n\n\n2 Their delight is in the law of the LORD\, *    and they meditate on his law day and night. \n\n\n\n3 They are like trees planted by streams of water\, bearing fruit in due season\, with leaves that do not wither; *    everything they do shall prosper. \n\n\n\n4 It is not so with the wicked; *     they are like chaff which the wind blows away. \n\n\n\n5 Therefore the wicked shall not stand upright when judgment comes\, *    nor the sinner in the council of the righteous. \n\n\n\n6 For the LORD knows the way of the righteous\, *    but the way of the wicked is doomed. \n\n\n\n1 Corinthians 15:12-20 (NRSV)\n\n\n\nNow if Christ is proclaimed as raised from the dead\, how can some of you say there is no resurrection of the dead? If there is no resurrection of the dead\, then Christ has not been raised; and if Christ has not been raised\, then our proclamation has been in vain and your faith has been in vain. We are even found to be misrepresenting God\, because we testified of God that he raised Christ—whom he did not raise if it is true that the dead are not raised. For if the dead are not raised\, then Christ has not been raised. If Christ has not been raised\, your faith is futile and you are still in your sins. Then those also who have died in Christ have perished. If for this life only we have hoped in Christ\, we are of all people most to be pitied. But in fact Christ has been raised from the dead\, the first fruits of those who have died. \n\n\n\nLuke 6:17-26 (NRSV)\n\n\n\nJesus came down with the twelve apostles\, and stood on a level place\, with a great crowd of his disciples and a great multitude of people from all Judea\, Jerusalem\, and the coast of Tyre and Sidon. They had come to hear him and to be healed of their diseases; and those who were troubled with unclean spirits were cured. And all in the crowd were trying to touch him\, for power came out from him and healed all of them. Then he looked up at his disciples and said: “Blessed are you who are poor\, for yours is the kingdom of God. Blessed are you who are hungry now\, for you will be filled. Blessed are you who weep now\, for you will laugh. Blessed are you when people hate you\, and when they exclude you\, revile you\, and defame you on account of the Son of Man. Rejoice in that day and leap for joy\, for surely your reward is great in heaven; for that is what their ancestors did to the prophets. But woe to you who are rich\, for you have received your consolation. Woe to you who are full now\, for you will be hungry. Woe to you who are laughing now\, for you will mourn and weep. Woe to you when all speak well of you\, for that is what their ancestors did to the false prophets.” \n\n\n\n\n\n\n\nThe Old Testament\, New Testament and Gospel readings are from the New Revised Standard Version Bible: Anglicized Edition\, copyright 1989\, 1995\, Division of Christian Education of the National Council of the Churches of Christ in the United States of America. Used by permission. All rights reserved. \n\n\n\nThe Psalm is from the Book of Common Prayer\, 1979.
URL:https://redeemer-kenmore.org/event/6th-sunday-after-the-epiphany-year-c/
LOCATION:Church of the Redeemer\, Kenmore\, Washington\, 6220 Northeast 181st Street\, PO Box 82677\, Kenmore\, WA\, 98028\, United States
CATEGORIES:Epiphany
ATTACH;FMTTYPE=image/png:https://redeemer-kenmore.org/wp-content/uploads/2023/12/Church-seasons-and-holidays-16-The-Season-after-the-Epiphany.png
ORGANIZER;CN="Church Office":MAILTO:office@redeemer-kenmore.org
GEO:47.7594575;-122.2595651
X-APPLE-STRUCTURED-LOCATION;VALUE=URI;X-ADDRESS=Church of the Redeemer Kenmore Washington 6220 Northeast 181st Street PO Box 82677 Kenmore WA 98028 United States;X-APPLE-RADIUS=500;X-TITLE=6220 Northeast 181st Street\, PO Box 82677:geo:-122.2595651,47.7594575
END:VEVENT
BEGIN:VEVENT
DTSTART;TZID=America/Los_Angeles:20250216T080000
DTEND;TZID=America/Los_Angeles:20250216T090000
DTSTAMP:20260420T221120
CREATED:20230906T165657Z
LAST-MODIFIED:20241228T072053Z
UID:10001312-1739692800-1739696400@redeemer-kenmore.org
SUMMARY:In-person Holy Eucharist
DESCRIPTION:Everyone is welcome at Church of the Redeemer. We look forward to seeing you at this 8:00 am Sunday service of Holy Eucharist at Church of the Redeemer. It is in-person only. \n\n\n\nWhile not required\, you may wear a mask when in the building. We have masks available for you\, if you want. \n\n\n\nEucharist\n\n\n\nThe Eucharist is the sacrament of Christ’s body and blood\, and the principal act of Christian worship. The term is from the Greek\, “thanksgiving.” \n\n\n\nJesus instituted the Eucharist “on the night when he was betrayed.” At the Last Supper he shared the bread and cup of wine at a sacred meal with his disciples. He identified the bread with his body and the wine with his blood of the new covenant. Jesus commanded his disciples to “do this” in remembrance of him (see 1 Corinthians 11:23-26; Mark 14:22-25; Matthew 26:26-29; Luke 22:14-20). \n\n\n\nChrist’s sacrifice is made present by the Eucharist\, and in it we are united to his one self-offering (Book of Common Prayer\, p. 859). The Last Supper provides the basis for the fourfold Eucharistic action of taking\, blessing\, breaking\, and sharing. Christ’s body and blood are really present in the sacrament of the Eucharist and received by faith. Christ’s presence is also known in the gathered eucharistic community. \n\n\n\nIn the Book of Common Prayer\, the whole service is entitled the Holy Eucharist. \n\n\n\n\nThe first part of the service is designated the Word of God. It usually includes the entrance rite\, the lessons and gradual psalm\, the gospel\, the sermon\, the Nicene Creed\, the Prayers of the People\, the confession of sin and absolution\, and the Peace.\n\n\n\nThe second portion of the service is designated the Holy Communion. It includes the offertory\, the consecration of the bread and wine in the Great Thanksgiving\, the communion of the people\, and the concluding prayers of thanksgiving and dismissal. A blessing may be given prior to the dismissal.\n\n\n\n\nThe Eucharist is also called the Lord’s Supper\, Holy Communion\, the Divine Liturgy\, the Mass\, and the Great Offertory (BCP\, p. 859). \n\n\n\nThe Hymnal 1982 includes a section with a variety of hymns for the Holy Eucharist (Numbers 300 through 347)\, including “Come\, risen Lord\, and deign to be our guest” (305 and 306)\, “My God\, thy table now is spread” (321)\, “Now\, my tongue\, the mystery telling” (329 through 331)\, and “I am the bread of life” (335). \n\n\n\n(Above taken from Eucharist .)
URL:https://redeemer-kenmore.org/event/in-person-holy-eucharist-17/2025-02-16/
LOCATION:Nave and Sanctuary at Church of the Redeemer\, 6220 Northeast 181st Street\, Kenmore\, WA\, 98028\, United States
CATEGORIES:Liturgy
ATTACH;FMTTYPE=image/png:https://redeemer-kenmore.org/wp-content/uploads/2023/07/Early-Service-Holy-Eucharist.avif
ORGANIZER;CN="Church Office":MAILTO:office@redeemer-kenmore.org
GEO:47.7594575;-122.2595651
X-APPLE-STRUCTURED-LOCATION;VALUE=URI;X-ADDRESS=Nave and Sanctuary at Church of the Redeemer 6220 Northeast 181st Street Kenmore WA 98028 United States;X-APPLE-RADIUS=500;X-TITLE=6220 Northeast 181st Street:geo:-122.2595651,47.7594575
END:VEVENT
BEGIN:VEVENT
DTSTART;TZID=America/Los_Angeles:20250216T093000
DTEND;TZID=America/Los_Angeles:20250216T101500
DTSTAMP:20260420T221120
CREATED:20241231T205607Z
LAST-MODIFIED:20250122T193443Z
UID:10004660-1739698200-1739700900@redeemer-kenmore.org
SUMMARY:Life After Doom
DESCRIPTION:Read Life After Doom by Brian McLaren along with us as we explore in turbulent times the following ideas: \n\n\n\n\nThe complexity of hope. \n\n\n\nThe necessity of grief.\n\n\n\nThe need for new ways of thinking\, becoming\, and belonging. \n\n\n\n\nHelp our community to find courage and resilience for the deeply challenging times that are upon us.  \n\n\n\nPlease join us as it is comfortable for you. Read the parts of the book that are helpful to you. Come for the discussion as you’re able. \n\n\n\n\nFebruary 2\, 2025—Chapters 2-3\n\n\n\nFebruary 9\, 2025—Chapters 4-5\n\n\n\nFebruary 16\, 2025—Chapters 6-7\n\n\n\nFebruary 23\, 2025—Chapters 8-9 \n\n\n\n\nThis discussion will extend into March and later. The schedule for March will be published in late February. \n\n\n\nA separate class for children takes place at the same time. \n\n\n\nThe people at Episcopal Church of the Redeemer invite everyone in the community to join this discussion. Please join us. Church of the Redeemer is at 6220 Northeast 181st Street in Kenmore\, Washington.  \n\n\n\nAll are welcome at Redeemer: \n\n\n\n\nAll genders.\n\n\n\nAll races.\n\n\n\nAll religions.\n\n\n\nAll countries of origin.\n\n\n\nAll sexual orientations.\n\n\n\n\nLife After Doom\n\n\n\nIn Life After Doom\, Brian McLaren engages with the catastrophic failure of both our religious and political leaders to address the dominant realities of our time:  \n\n\n\n\nEcological overshoot\n\n\n\nEconomic injustice\n\n\n\nThe increasing likelihood of civilizational collapse \n\n\n\n\nHe explores the complexity of hope\, the necessity of grief\, and the need for new ways of thinking\, becoming\, and belonging in turbulent times.  \n\n\n\nIn reading this book we hope to help ourselves\, our families\, and our community find courage and resilience for the deeply challenging times in which we find ourselves.   \n\n\n\n\nPlease accept YouTube cookies to play this video. By accepting you will be accessing content from YouTube\, a service provided by an external third party. \nYouTube’s privacy policy \nIf you accept this notice\, your choice will be saved and the page will refresh. \nAccept YouTube Content
URL:https://redeemer-kenmore.org/event/life-after-doom-2/2025-02-16/
LOCATION:Nave and Sanctuary at Church of the Redeemer\, 6220 Northeast 181st Street\, Kenmore\, WA\, 98028\, United States
CATEGORIES:Education
ATTACH;FMTTYPE=image/webp:https://redeemer-kenmore.org/wp-content/uploads/2024/12/Church-Events-44-Life-After-Doom.webp
ORGANIZER;CN="The Rev. Theresa Newell":MAILTO:tnewell@redeemer-kenmore.org
GEO:47.7594575;-122.2595651
X-APPLE-STRUCTURED-LOCATION;VALUE=URI;X-ADDRESS=Nave and Sanctuary at Church of the Redeemer 6220 Northeast 181st Street Kenmore WA 98028 United States;X-APPLE-RADIUS=500;X-TITLE=6220 Northeast 181st Street:geo:-122.2595651,47.7594575
END:VEVENT
BEGIN:VEVENT
DTSTART;TZID=America/Los_Angeles:20250216T093000
DTEND;TZID=America/Los_Angeles:20250216T101500
DTSTAMP:20260420T221121
CREATED:20250121T211018Z
LAST-MODIFIED:20250510T071129Z
UID:10004703-1739698200-1739700900@redeemer-kenmore.org
SUMMARY:Seeking Peace Together
DESCRIPTION:Children meet each Sunday from 9:30 to 10:15 downstairs in the Children’s Room off of the parish hall at Episcopal Church of the Redeemer in Kenmore\, Washington. We are using Current: Seeking Peace Together.  \n\n\n\nWe will explore God’s peace and wish for us. God’s peace signifies all of life being complete\, healthy\, and whole. Peace has multiple aspects:  \n\n\n\n\nPeace with God.\n\n\n\nPeace  with self.\n\n\n\nPeace with others.\n\n\n\nPeace with creation. \n\n\n\n\nJoin us as we explore peace and wholeness! All elementary-aged children are welcome. \n\n\n\nThe class is free and open to children in the community. You do not need to be a member of Church of the Redeemer. \n\n\n\nAn adult class takes place on the main floor of the worship area at the same time. \n\n\n\nChurch of the Redeemer is at 6220 NE 181st Street in Kenmore\, Washington. For more information\, contact the Rev. Theresa Newell at tnewell@redeemer-kenmore.org.
URL:https://redeemer-kenmore.org/event/seeking-peace-together/2025-02-16/
LOCATION:Children’s Room at Church of the Redeemer\, 6220 Northeast 181st Street\, PO Box 82677\, Kenmore\, Washington\, 98028\, United States
CATEGORIES:Education
ATTACH;FMTTYPE=image/png:https://redeemer-kenmore.org/wp-content/uploads/2024/09/Children-worshipping-the-Sun-1.png
ORGANIZER;CN="The Rev. Theresa Newell":MAILTO:tnewell@redeemer-kenmore.org
GEO:47.7594575;-122.2595651
X-APPLE-STRUCTURED-LOCATION;VALUE=URI;X-ADDRESS=Children’s Room at Church of the Redeemer 6220 Northeast 181st Street PO Box 82677 Kenmore Washington 98028 United States;X-APPLE-RADIUS=500;X-TITLE=6220 Northeast 181st Street\, PO Box 82677:geo:-122.2595651,47.7594575
END:VEVENT
BEGIN:VEVENT
DTSTART;TZID=America/Los_Angeles:20250216T103000
DTEND;TZID=America/Los_Angeles:20250216T113000
DTSTAMP:20260420T221121
CREATED:20240731T200218Z
LAST-MODIFIED:20241228T073456Z
UID:10001600-1739701800-1739705400@redeemer-kenmore.org
SUMMARY:In-person and on-line Holy Eucharist
DESCRIPTION:Everyone is welcome at Church of the Redeemer. We look forward to seeing you at this 10:30 am service of Holy Eucharist at Church of the Redeemer. It is in-person and on-line. \n\n\n\nWhile not required\, you may wear a mask when in the building. We have masks available for you\, if you want. \n\n\n\nThe service is broadcast live on the Welcome page of this website. \n\n\n\nEucharist\n\n\n\nThe Eucharist is the sacrament of Christ’s body and blood\, and the principal act of Christian worship. The term is from the Greek\, “thanksgiving.” \n\n\n\nJesus instituted the Eucharist “on the night when he was betrayed.” At the Last Supper he shared the bread and cup of wine at a sacred meal with his disciples. He identified the bread with his body and the wine with his blood of the new covenant. Jesus commanded his disciples to “do this” in remembrance of him (see 1 Cor 11:23-26; Mk 14:22-25; Mt 26:26-29; Lk 22:14-20). \n\n\n\nChrist’s sacrifice is made present by the Eucharist\, and in it we are united to his one self-offering (Book of Common Prayer\, p. 859). The Last Supper provides the basis for the fourfold Eucharistic action of taking\, blessing\, breaking\, and sharing. Christ’s body and blood are really present in the sacrament of the Eucharist and received by faith. Christ’s presence is also known in the gathered eucharistic community. \n\n\n\nIn the Book of Common Prayer\, the whole service is entitled the Holy Eucharist. \n\n\n\n\nThe first part of the service is designated the Word of God. It usually includes the entrance rite\, the lessons and gradual psalm\, the gospel\, the sermon\, the Nicene Creed\, the Prayers of the People\, the confession of sin and absolution\, and the Peace.\n\n\n\nThe second portion of the service is designated the Holy Communion. It includes the offertory\, the consecration of the bread and wine in the Great Thanksgiving\, the communion of the people\, and the concluding prayers of thanksgiving and dismissal. A blessing may be given prior to the dismissal.\n\n\n\n\nThe Eucharist is also called the Lord’s Supper\, Holy Communion\, the Divine Liturgy\, the Mass\, and the Great Offertory (BCP\, p. 859). \n\n\n\nThe Hymnal 1982 includes a section with a variety of hymns for the Holy Eucharist (Numbers 300 through 347)\, including “Come\, risen Lord\, and deign to be our guest” (305 and 306)\, “My God\, thy table now is spread” (321)\, “Now\, my tongue\, the mystery telling” (329 through 331)\, and “I am the bread of life” (335). \n\n\n\n(Above taken from Eucharist .)
URL:https://redeemer-kenmore.org/event/in-person-and-on-line-holy-eucharist-21/2025-02-16/
LOCATION:Nave and Sanctuary at Church of the Redeemer\, 6220 Northeast 181st Street\, Kenmore\, WA\, 98028\, United States
CATEGORIES:Liturgy
ATTACH;FMTTYPE=image/png:https://redeemer-kenmore.org/wp-content/uploads/2023/06/Late-Service-Holy-Eucharist.avif
ORGANIZER;CN="Church Office":MAILTO:office@redeemer-kenmore.org
GEO:47.7594575;-122.2595651
X-APPLE-STRUCTURED-LOCATION;VALUE=URI;X-ADDRESS=Nave and Sanctuary at Church of the Redeemer 6220 Northeast 181st Street Kenmore WA 98028 United States;X-APPLE-RADIUS=500;X-TITLE=6220 Northeast 181st Street:geo:-122.2595651,47.7594575
END:VEVENT
END:VCALENDAR