BEGIN:VCALENDAR
VERSION:2.0
PRODID:-//Episcopal Church of the Redeemer - ECPv6.15.20//NONSGML v1.0//EN
CALSCALE:GREGORIAN
METHOD:PUBLISH
X-WR-CALNAME:Episcopal Church of the Redeemer
X-ORIGINAL-URL:https://redeemer-kenmore.org
X-WR-CALDESC:Events for Episcopal Church of the Redeemer
REFRESH-INTERVAL;VALUE=DURATION:PT1H
X-Robots-Tag:noindex
X-PUBLISHED-TTL:PT1H
BEGIN:VTIMEZONE
TZID:America/Los_Angeles
BEGIN:DAYLIGHT
TZOFFSETFROM:-0800
TZOFFSETTO:-0700
TZNAME:PDT
DTSTART:20240310T100000
END:DAYLIGHT
BEGIN:STANDARD
TZOFFSETFROM:-0700
TZOFFSETTO:-0800
TZNAME:PST
DTSTART:20241103T090000
END:STANDARD
BEGIN:DAYLIGHT
TZOFFSETFROM:-0800
TZOFFSETTO:-0700
TZNAME:PDT
DTSTART:20250309T100000
END:DAYLIGHT
BEGIN:STANDARD
TZOFFSETFROM:-0700
TZOFFSETTO:-0800
TZNAME:PST
DTSTART:20251102T090000
END:STANDARD
BEGIN:DAYLIGHT
TZOFFSETFROM:-0800
TZOFFSETTO:-0700
TZNAME:PDT
DTSTART:20260308T100000
END:DAYLIGHT
BEGIN:STANDARD
TZOFFSETFROM:-0700
TZOFFSETTO:-0800
TZNAME:PST
DTSTART:20261101T090000
END:STANDARD
END:VTIMEZONE
BEGIN:VEVENT
DTSTART;TZID=America/Los_Angeles:20250406T000000
DTEND;TZID=America/Los_Angeles:20250406T235959
DTSTAMP:20260420T221830
CREATED:20240415T212416Z
LAST-MODIFIED:20250315T065643Z
UID:10004772-1743897600-1743983999@redeemer-kenmore.org
SUMMARY:5th Sunday in Lent (Year C)
DESCRIPTION:Prayers\n\n\n\nAlmighty God\, you alone can bring into order the unruly wills and affections of sinners: Grant your people grace to love what you command and desire what you promise; that\, among the swift and varied changes of the world\, our hearts may surely there be fixed where true joys are to be found; through Jesus Christ our Lord\, who lives and reigns with you and the Holy Spirit\, one God\, now and for ever. Amen. \n\n\n\nAnglican Cycle of Prayer\n\n\n\nThe See of Canterbury and selection of the next Archbishop of Canterbury \n\n\n\nIglesia Anglicana de Chile \n\n\n\nEpiscopal Church\n\n\n\nThe Most Rev. Sean Rowe\, XXVIII Presiding Bishop of the Episcopal Church \n\n\n\nFaith Formation \n\n\n\nDioceses of Southern Virginia\, Southwestern Virginia \n\n\n\nDiocese of Olympia\n\n\n\nThe Rt. Rev. Philip N. LaBelle\, IX Bishop of the Diocese of Olympia \n\n\n\nSt. Stephen’s\, Oak Harbor; St. James\, Sedro Woolley \n\n\n\nThose in authority\n\n\n\nDonald J. Trump\, President of the United StatesRobert Ferguson\, Governor of WashingtonTeri Gobin\, Chair of the Tulalip TribesCecile Hanson\, Chair of the Duwamish Nation \n\n\n\nLessons\n\n\n\nLessons appointed for use for this day from the Revised Common Lectionary (Episcopal version). \n\n\n\nIsaiah 43:16-21 (NRSV)\n\n\n\nThus says the Lord\, who makes a way in the sea\, a path in the mighty waters\, who brings out chariot and horse\, army and warrior; they lie down\, they cannot rise\, they are extinguished\, quenched like a wick: “Do not remember the former things\, or consider the things of old. I am about to do a new thing; now it springs forth\, do you not perceive it? I will make a way in the wilderness and rivers in the desert. The wild animals will honor me\, the jackals and the ostriches; for I give water in the wilderness\, rivers in the desert\, to give drink to my chosen people\, the people whom I formed for myself so that they might declare my praise.” \n\n\n\nPsalm 126 (BCP)\n\n\n\nIn convertendo \n\n\n\n1            When the Lord restored the fortunes of Zion\, *then were we like those who dream.  \n\n\n\n2            Then was our mouth filled with laughter\, *and our tongue with shouts of joy.  \n\n\n\n3            Then they said among the nations\, *“The Lord has done great things for them.”  \n\n\n\n4            The Lord has done great things for us\, *and we are glad indeed.  \n\n\n\n5            Restore our fortunes\, O Lord\, *like the watercourses of the Negev.  \n\n\n\n6            Those who sowed with tears *will reap with songs of joy.  \n\n\n\n7            Those who go out weeping\, carrying the seed\, *will come again with joy\, shouldering their sheaves. \n\n\n\nPhilippians 3:4b-14 (NRSV)\n\n\n\nIf anyone else has reason to be confident in the flesh\, I have more: circumcised on the eighth day\, a member of the people of Israel\, of the tribe of Benjamin\, a Hebrew born of Hebrews; as to the law\, a Pharisee; as to zeal\, a persecutor of the church; as to righteousness under the law\, blameless. Yet whatever gains I had\, these I have come to regard as loss because of Christ. More than that\, I regard everything as loss because of the surpassing value of knowing Christ Jesus my Lord. For his sake I have suffered the loss of all things\, and I regard them as rubbish\, in order that I may gain Christ and be found in him\, not having a righteousness of my own that comes from the law\, but one that comes through faith in Christ\, the righteousness from God based on faith. I want to know Christ and the power of his resurrection and the sharing of his sufferings by becoming like him in his death\, if somehow I may attain the resurrection from the dead. Not that I have already obtained this or have already reached the goal; but I press on to make it my own\, because Christ Jesus has made me his own. Beloved\, I do not consider that I have made it my own; but this one thing I do: forgetting what lies behind and straining forward to what lies ahead\, I press on toward the goal for the prize of the heavenly call of God in Christ Jesus. \n\n\n\nJohn 12:1-8 (NRSV)\n\n\n\nSix days before the Passover Jesus came to Bethany\, the home of Lazarus\, whom he had raised from the dead. There they gave a dinner for him. Martha served\, and Lazarus was one of those at the table with him. Mary took a pound of costly perfume made of pure nard\, anointed Jesus’ feet\, and wiped them with her hair. The house was filled with the fragrance of the perfume. But Judas Iscariot\, one of his disciples (the one who was about to betray him)\, said\, “Why was this perfume not sold for three hundred denarii and the money given to the poor?” (He said this not because he cared about the poor\, but because he was a thief; he kept the common purse and used to steal what was put into it.) Jesus said\, “Leave her alone. She bought it so that she might keep it for the day of my burial. You always have the poor with you\, but you do not always have me.” \n\n\n\n\n\n\n\nThe Old Testament\, New Testament and Gospel readings are from the New Revised Standard Version Bible: Anglicized Edition\, copyright 1989\, 1995\, Division of Christian Education of the National Council of the Churches of Christ in the United States of America. Used by permission. All rights reserved. \n\n\n\nThe Psalm is from the Book of Common Prayer\, 1979.
URL:https://redeemer-kenmore.org/event/5th-sunday-in-lent-year-c/
LOCATION:Church of the Redeemer\, Kenmore\, Washington\, 6220 Northeast 181st Street\, PO Box 82677\, Kenmore\, WA\, 98028\, United States
CATEGORIES:Lent
ATTACH;FMTTYPE=image/png:https://redeemer-kenmore.org/wp-content/uploads/2024/04/Lent-5.png
ORGANIZER;CN="Church Office":MAILTO:office@redeemer-kenmore.org
GEO:47.7594575;-122.2595651
X-APPLE-STRUCTURED-LOCATION;VALUE=URI;X-ADDRESS=Church of the Redeemer Kenmore Washington 6220 Northeast 181st Street PO Box 82677 Kenmore WA 98028 United States;X-APPLE-RADIUS=500;X-TITLE=6220 Northeast 181st Street\, PO Box 82677:geo:-122.2595651,47.7594575
END:VEVENT
BEGIN:VEVENT
DTSTART;TZID=America/Los_Angeles:20250406T080000
DTEND;TZID=America/Los_Angeles:20250406T090000
DTSTAMP:20260420T221830
CREATED:20230906T165657Z
LAST-MODIFIED:20241228T072053Z
UID:10001319-1743926400-1743930000@redeemer-kenmore.org
SUMMARY:In-person Holy Eucharist
DESCRIPTION:Everyone is welcome at Church of the Redeemer. We look forward to seeing you at this 8:00 am Sunday service of Holy Eucharist at Church of the Redeemer. It is in-person only. \n\n\n\nWhile not required\, you may wear a mask when in the building. We have masks available for you\, if you want. \n\n\n\nEucharist\n\n\n\nThe Eucharist is the sacrament of Christ’s body and blood\, and the principal act of Christian worship. The term is from the Greek\, “thanksgiving.” \n\n\n\nJesus instituted the Eucharist “on the night when he was betrayed.” At the Last Supper he shared the bread and cup of wine at a sacred meal with his disciples. He identified the bread with his body and the wine with his blood of the new covenant. Jesus commanded his disciples to “do this” in remembrance of him (see 1 Corinthians 11:23-26; Mark 14:22-25; Matthew 26:26-29; Luke 22:14-20). \n\n\n\nChrist’s sacrifice is made present by the Eucharist\, and in it we are united to his one self-offering (Book of Common Prayer\, p. 859). The Last Supper provides the basis for the fourfold Eucharistic action of taking\, blessing\, breaking\, and sharing. Christ’s body and blood are really present in the sacrament of the Eucharist and received by faith. Christ’s presence is also known in the gathered eucharistic community. \n\n\n\nIn the Book of Common Prayer\, the whole service is entitled the Holy Eucharist. \n\n\n\n\nThe first part of the service is designated the Word of God. It usually includes the entrance rite\, the lessons and gradual psalm\, the gospel\, the sermon\, the Nicene Creed\, the Prayers of the People\, the confession of sin and absolution\, and the Peace.\n\n\n\nThe second portion of the service is designated the Holy Communion. It includes the offertory\, the consecration of the bread and wine in the Great Thanksgiving\, the communion of the people\, and the concluding prayers of thanksgiving and dismissal. A blessing may be given prior to the dismissal.\n\n\n\n\nThe Eucharist is also called the Lord’s Supper\, Holy Communion\, the Divine Liturgy\, the Mass\, and the Great Offertory (BCP\, p. 859). \n\n\n\nThe Hymnal 1982 includes a section with a variety of hymns for the Holy Eucharist (Numbers 300 through 347)\, including “Come\, risen Lord\, and deign to be our guest” (305 and 306)\, “My God\, thy table now is spread” (321)\, “Now\, my tongue\, the mystery telling” (329 through 331)\, and “I am the bread of life” (335). \n\n\n\n(Above taken from Eucharist .)
URL:https://redeemer-kenmore.org/event/in-person-holy-eucharist-17/2025-04-06/
LOCATION:Nave and Sanctuary at Church of the Redeemer\, 6220 Northeast 181st Street\, Kenmore\, WA\, 98028\, United States
CATEGORIES:Liturgy
ATTACH;FMTTYPE=image/png:https://redeemer-kenmore.org/wp-content/uploads/2023/07/Early-Service-Holy-Eucharist.avif
ORGANIZER;CN="Church Office":MAILTO:office@redeemer-kenmore.org
GEO:47.7594575;-122.2595651
X-APPLE-STRUCTURED-LOCATION;VALUE=URI;X-ADDRESS=Nave and Sanctuary at Church of the Redeemer 6220 Northeast 181st Street Kenmore WA 98028 United States;X-APPLE-RADIUS=500;X-TITLE=6220 Northeast 181st Street:geo:-122.2595651,47.7594575
END:VEVENT
BEGIN:VEVENT
DTSTART;TZID=America/Los_Angeles:20250406T093000
DTEND;TZID=America/Los_Angeles:20250406T101500
DTSTAMP:20260420T221830
CREATED:20250121T211018Z
LAST-MODIFIED:20250510T071129Z
UID:10004710-1743931800-1743934500@redeemer-kenmore.org
SUMMARY:Seeking Peace Together
DESCRIPTION:Children meet each Sunday from 9:30 to 10:15 downstairs in the Children’s Room off of the parish hall at Episcopal Church of the Redeemer in Kenmore\, Washington. We are using Current: Seeking Peace Together.  \n\n\n\nWe will explore God’s peace and wish for us. God’s peace signifies all of life being complete\, healthy\, and whole. Peace has multiple aspects:  \n\n\n\n\nPeace with God.\n\n\n\nPeace  with self.\n\n\n\nPeace with others.\n\n\n\nPeace with creation. \n\n\n\n\nJoin us as we explore peace and wholeness! All elementary-aged children are welcome. \n\n\n\nThe class is free and open to children in the community. You do not need to be a member of Church of the Redeemer. \n\n\n\nAn adult class takes place on the main floor of the worship area at the same time. \n\n\n\nChurch of the Redeemer is at 6220 NE 181st Street in Kenmore\, Washington. For more information\, contact the Rev. Theresa Newell at tnewell@redeemer-kenmore.org.
URL:https://redeemer-kenmore.org/event/seeking-peace-together/2025-04-06/
LOCATION:Children’s Room at Church of the Redeemer\, 6220 Northeast 181st Street\, PO Box 82677\, Kenmore\, Washington\, 98028\, United States
CATEGORIES:Education
ATTACH;FMTTYPE=image/png:https://redeemer-kenmore.org/wp-content/uploads/2024/09/Children-worshipping-the-Sun-1.png
ORGANIZER;CN="The Rev. Theresa Newell":MAILTO:tnewell@redeemer-kenmore.org
GEO:47.7594575;-122.2595651
X-APPLE-STRUCTURED-LOCATION;VALUE=URI;X-ADDRESS=Children’s Room at Church of the Redeemer 6220 Northeast 181st Street PO Box 82677 Kenmore Washington 98028 United States;X-APPLE-RADIUS=500;X-TITLE=6220 Northeast 181st Street\, PO Box 82677:geo:-122.2595651,47.7594575
END:VEVENT
BEGIN:VEVENT
DTSTART;TZID=America/Los_Angeles:20250406T093000
DTEND;TZID=America/Los_Angeles:20250406T101500
DTSTAMP:20260420T221830
CREATED:20250303T201358Z
LAST-MODIFIED:20250303T201424Z
UID:10004761-1743931800-1743934500@redeemer-kenmore.org
SUMMARY:Life After Doom
DESCRIPTION:Read Life After Doom by Brian McLaren along with us as we explore in turbulent times the following ideas: \n\n\n\n\nThe complexity of hope. \n\n\n\nThe necessity of grief.\n\n\n\nThe need for new ways of thinking\, becoming\, and belonging. \n\n\n\n\nHelp our community to find courage and resilience for the deeply challenging times that are upon us.  \n\n\n\nPlease join us as it is comfortable for you. Read the parts of the book that are helpful to you. Come for the discussion as you’re able. \n\n\n\n\nMarch 2—Chapters 10-11\n\n\n\nMarch 9—Chapters 12-13\n\n\n\nMarch 16—Chapters 14-15\n\n\n\nMarch 23—Chapters 15-17\n\n\n\nMarch 30—Chapters 18-19\n\n\n\nApril 6—Chapters 20-21\n\n\n\n\nFollowing April 6\, we will take a break for Palm Sunday (April 13) and Easter Day (April 20). \n\n\n\nA separate class for children takes place at the same time. \n\n\n\nThe people at Episcopal Church of the Redeemer invite everyone in the community to join this discussion. Please join us. Church of the Redeemer is at 6220 Northeast 181st Street in Kenmore\, Washington.  \n\n\n\nAll are welcome at Redeemer: \n\n\n\n\nAll genders.\n\n\n\nAll races.\n\n\n\nAll religions.\n\n\n\nAll countries of origin.\n\n\n\nAll sexual orientations.\n\n\n\n\nLife After Doom\n\n\n\nIn Life After Doom\, Brian McLaren engages with the catastrophic failure of both our religious and political leaders to address the dominant realities of our time:  \n\n\n\n\nEcological overshoot\n\n\n\nEconomic injustice\n\n\n\nThe increasing likelihood of civilizational collapse \n\n\n\n\nHe explores the complexity of hope\, the necessity of grief\, and the need for new ways of thinking\, becoming\, and belonging in turbulent times.  \n\n\n\nIn reading this book we hope to help ourselves\, our families\, and our community find courage and resilience for the deeply challenging times in which we find ourselves.   \n\n\n\n\nPlease accept YouTube cookies to play this video. By accepting you will be accessing content from YouTube\, a service provided by an external third party. \nYouTube’s privacy policy \nIf you accept this notice\, your choice will be saved and the page will refresh. \nAccept YouTube Content
URL:https://redeemer-kenmore.org/event/life-after-doom-3/2025-04-06/
LOCATION:Nave and Sanctuary at Church of the Redeemer\, 6220 Northeast 181st Street\, Kenmore\, WA\, 98028\, United States
CATEGORIES:Education
ATTACH;FMTTYPE=image/webp:https://redeemer-kenmore.org/wp-content/uploads/2024/12/Church-Events-44-Life-After-Doom.webp
ORGANIZER;CN="The Rev. Theresa Newell":MAILTO:tnewell@redeemer-kenmore.org
GEO:47.7594575;-122.2595651
X-APPLE-STRUCTURED-LOCATION;VALUE=URI;X-ADDRESS=Nave and Sanctuary at Church of the Redeemer 6220 Northeast 181st Street Kenmore WA 98028 United States;X-APPLE-RADIUS=500;X-TITLE=6220 Northeast 181st Street:geo:-122.2595651,47.7594575
END:VEVENT
BEGIN:VEVENT
DTSTART;TZID=America/Los_Angeles:20250406T103000
DTEND;TZID=America/Los_Angeles:20250406T113000
DTSTAMP:20260420T221830
CREATED:20240731T200218Z
LAST-MODIFIED:20241228T073456Z
UID:10001607-1743935400-1743939000@redeemer-kenmore.org
SUMMARY:In-person and on-line Holy Eucharist
DESCRIPTION:Everyone is welcome at Church of the Redeemer. We look forward to seeing you at this 10:30 am service of Holy Eucharist at Church of the Redeemer. It is in-person and on-line. \n\n\n\nWhile not required\, you may wear a mask when in the building. We have masks available for you\, if you want. \n\n\n\nThe service is broadcast live on the Welcome page of this website. \n\n\n\nEucharist\n\n\n\nThe Eucharist is the sacrament of Christ’s body and blood\, and the principal act of Christian worship. The term is from the Greek\, “thanksgiving.” \n\n\n\nJesus instituted the Eucharist “on the night when he was betrayed.” At the Last Supper he shared the bread and cup of wine at a sacred meal with his disciples. He identified the bread with his body and the wine with his blood of the new covenant. Jesus commanded his disciples to “do this” in remembrance of him (see 1 Cor 11:23-26; Mk 14:22-25; Mt 26:26-29; Lk 22:14-20). \n\n\n\nChrist’s sacrifice is made present by the Eucharist\, and in it we are united to his one self-offering (Book of Common Prayer\, p. 859). The Last Supper provides the basis for the fourfold Eucharistic action of taking\, blessing\, breaking\, and sharing. Christ’s body and blood are really present in the sacrament of the Eucharist and received by faith. Christ’s presence is also known in the gathered eucharistic community. \n\n\n\nIn the Book of Common Prayer\, the whole service is entitled the Holy Eucharist. \n\n\n\n\nThe first part of the service is designated the Word of God. It usually includes the entrance rite\, the lessons and gradual psalm\, the gospel\, the sermon\, the Nicene Creed\, the Prayers of the People\, the confession of sin and absolution\, and the Peace.\n\n\n\nThe second portion of the service is designated the Holy Communion. It includes the offertory\, the consecration of the bread and wine in the Great Thanksgiving\, the communion of the people\, and the concluding prayers of thanksgiving and dismissal. A blessing may be given prior to the dismissal.\n\n\n\n\nThe Eucharist is also called the Lord’s Supper\, Holy Communion\, the Divine Liturgy\, the Mass\, and the Great Offertory (BCP\, p. 859). \n\n\n\nThe Hymnal 1982 includes a section with a variety of hymns for the Holy Eucharist (Numbers 300 through 347)\, including “Come\, risen Lord\, and deign to be our guest” (305 and 306)\, “My God\, thy table now is spread” (321)\, “Now\, my tongue\, the mystery telling” (329 through 331)\, and “I am the bread of life” (335). \n\n\n\n(Above taken from Eucharist .)
URL:https://redeemer-kenmore.org/event/in-person-and-on-line-holy-eucharist-21/2025-04-06/
LOCATION:Nave and Sanctuary at Church of the Redeemer\, 6220 Northeast 181st Street\, Kenmore\, WA\, 98028\, United States
CATEGORIES:Liturgy
ATTACH;FMTTYPE=image/png:https://redeemer-kenmore.org/wp-content/uploads/2023/06/Late-Service-Holy-Eucharist.avif
ORGANIZER;CN="Church Office":MAILTO:office@redeemer-kenmore.org
GEO:47.7594575;-122.2595651
X-APPLE-STRUCTURED-LOCATION;VALUE=URI;X-ADDRESS=Nave and Sanctuary at Church of the Redeemer 6220 Northeast 181st Street Kenmore WA 98028 United States;X-APPLE-RADIUS=500;X-TITLE=6220 Northeast 181st Street:geo:-122.2595651,47.7594575
END:VEVENT
END:VCALENDAR