BEGIN:VCALENDAR
VERSION:2.0
PRODID:-//Episcopal Church of the Redeemer - ECPv6.15.20//NONSGML v1.0//EN
CALSCALE:GREGORIAN
METHOD:PUBLISH
X-WR-CALNAME:Episcopal Church of the Redeemer
X-ORIGINAL-URL:https://redeemer-kenmore.org
X-WR-CALDESC:Events for Episcopal Church of the Redeemer
REFRESH-INTERVAL;VALUE=DURATION:PT1H
X-Robots-Tag:noindex
X-PUBLISHED-TTL:PT1H
BEGIN:VTIMEZONE
TZID:America/Los_Angeles
BEGIN:DAYLIGHT
TZOFFSETFROM:-0800
TZOFFSETTO:-0700
TZNAME:PDT
DTSTART:20240310T100000
END:DAYLIGHT
BEGIN:STANDARD
TZOFFSETFROM:-0700
TZOFFSETTO:-0800
TZNAME:PST
DTSTART:20241103T090000
END:STANDARD
BEGIN:DAYLIGHT
TZOFFSETFROM:-0800
TZOFFSETTO:-0700
TZNAME:PDT
DTSTART:20250309T100000
END:DAYLIGHT
BEGIN:STANDARD
TZOFFSETFROM:-0700
TZOFFSETTO:-0800
TZNAME:PST
DTSTART:20251102T090000
END:STANDARD
BEGIN:DAYLIGHT
TZOFFSETFROM:-0800
TZOFFSETTO:-0700
TZNAME:PDT
DTSTART:20260308T100000
END:DAYLIGHT
BEGIN:STANDARD
TZOFFSETFROM:-0700
TZOFFSETTO:-0800
TZNAME:PST
DTSTART:20261101T090000
END:STANDARD
END:VTIMEZONE
BEGIN:VEVENT
DTSTART;TZID=America/Los_Angeles:20250807T090000
DTEND;TZID=America/Los_Angeles:20250822T150000
DTSTAMP:20260423T130216
CREATED:20250801T183815Z
LAST-MODIFIED:20250801T191513Z
UID:10004881-1754557200-1755874800@redeemer-kenmore.org
SUMMARY:Ethiopian Orthodox Holy Days
DESCRIPTION:Contact Debre Tibeb Beata Lemariam Washington Ethiopian Orthodox Tewahido Church for more information about this event. \n\n\n\nThe Beata Lemariam Church was founded on May 29\, 2022. Initially\, the Church was established in a small room by about 90 parishioners on the goodwill of Betsu Abune Markos\, the initiative of Komos Melake Tibebat Abba Gabriel Meteku and strong efforts of Melake Hiwot Kesis Wondifraw at 6211 NE 182nd St\, Kenmore\, Washington. \n\n\n\nThey are a non-profit religious organization. Their mission is to facilitate the spiritual growth of individuals and deepen their experience of God\, while also bridging the gospel to all nations and sharing the Ethiopian Orthodox Tewahedo Christian (EOTC) faith through spiritually-enriching service. \n\n\n\nAdditionally\, Beata Lemariam EOTC provides education to the children and youth in Amharic language and EOTC theology\, guiding them to become productive citizens and live a life led by God’s spirit.
URL:https://redeemer-kenmore.org/event/ethiopian-orthodox-holy-days/
LOCATION:Church of the Redeemer\, Kenmore\, Washington\, 6220 Northeast 181st Street\, PO Box 82677\, Kenmore\, WA\, 98028\, United States
CATEGORIES:Community Events
ATTACH;FMTTYPE=image/jpeg:https://redeemer-kenmore.org/wp-content/uploads/2023/11/Service-inside-the-Ethiopian-Church.jpg
ORGANIZER;CN="Debre Tibeb Beata Lemariam Washington Ethiopian Orthodox Tewahido Church":MAILTO:debretibebe03@gmail.com
GEO:47.7594575;-122.2595651
X-APPLE-STRUCTURED-LOCATION;VALUE=URI;X-ADDRESS=Church of the Redeemer Kenmore Washington 6220 Northeast 181st Street PO Box 82677 Kenmore WA 98028 United States;X-APPLE-RADIUS=500;X-TITLE=6220 Northeast 181st Street\, PO Box 82677:geo:-122.2595651,47.7594575
END:VEVENT
END:VCALENDAR