BEGIN:VCALENDAR
VERSION:2.0
PRODID:-//Episcopal Church of the Redeemer - ECPv6.15.20//NONSGML v1.0//EN
CALSCALE:GREGORIAN
METHOD:PUBLISH
X-WR-CALNAME:Episcopal Church of the Redeemer
X-ORIGINAL-URL:https://redeemer-kenmore.org
X-WR-CALDESC:Events for Episcopal Church of the Redeemer
REFRESH-INTERVAL;VALUE=DURATION:PT1H
X-Robots-Tag:noindex
X-PUBLISHED-TTL:PT1H
BEGIN:VTIMEZONE
TZID:America/Los_Angeles
BEGIN:DAYLIGHT
TZOFFSETFROM:-0800
TZOFFSETTO:-0700
TZNAME:PDT
DTSTART:20240310T100000
END:DAYLIGHT
BEGIN:STANDARD
TZOFFSETFROM:-0700
TZOFFSETTO:-0800
TZNAME:PST
DTSTART:20241103T090000
END:STANDARD
BEGIN:DAYLIGHT
TZOFFSETFROM:-0800
TZOFFSETTO:-0700
TZNAME:PDT
DTSTART:20250309T100000
END:DAYLIGHT
BEGIN:STANDARD
TZOFFSETFROM:-0700
TZOFFSETTO:-0800
TZNAME:PST
DTSTART:20251102T090000
END:STANDARD
BEGIN:DAYLIGHT
TZOFFSETFROM:-0800
TZOFFSETTO:-0700
TZNAME:PDT
DTSTART:20260308T100000
END:DAYLIGHT
BEGIN:STANDARD
TZOFFSETFROM:-0700
TZOFFSETTO:-0800
TZNAME:PST
DTSTART:20261101T090000
END:STANDARD
END:VTIMEZONE
BEGIN:VEVENT
DTSTART;TZID=America/Los_Angeles:20251221T000000
DTEND;TZID=America/Los_Angeles:20251221T235959
DTSTAMP:20260420T073538
CREATED:20251202T211407Z
LAST-MODIFIED:20251202T211450Z
UID:10005595-1766275200-1766361599@redeemer-kenmore.org
SUMMARY:4th Sunday of Advent (Year A)
DESCRIPTION:Prayers\n\n\n\nPurify our conscience\, Almighty God\, by your daily visitation\, that your Son Jesus Christ\, at his coming\, may find in us a mansion prepared for himself; who lives and reigns with you\, in the unity of the Holy Spirit\, one God\, now and for ever. Amen. \n\n\n\nAnglican Cycle of Prayer\n\n\n\n\nThe Rt. Rev. and Rt. Hon. Dame Sarah Mullally\, DBE\, the 106th Archbishop of Canterbury-designate\n\n\n\nThe Anglican Church of Burundi\n\n\n\n\nEpiscopal Church\n\n\n\n\nThe Most Rev. Sean Rowe\, XXVIII Presiding Bishop of the Episcopal Church\n\n\n\nThe School of Theology\, the University of the South\n\n\n\nDioceses of Central Ecuador\, Litoral Ecuador\n\n\n\n\nDiocese of Olympia\n\n\n\n\nThe Rt. Rev. Philip N. LaBelle\, IX Bishop of the Diocese of Olympia\n\n\n\nSt. James\, Cathlamet; St. Timothy\, Chehalis; All Saints’\, Vancouver\n\n\n\n\nChurch of the Redeemer\n\n\n\n\nThe Rev. Theresa Newell\, Priest in Charge\n\n\n\nThe Wardens and Vestry serving this parish\n\n\n\nAll members of this parish\n\n\n\n\nPray for the welfare of the world\n\n\n\n\nAll victims of the conflicts in Ukraine\, Sudan\, Palestine\, Israel\, and Haiti\n\n\n\nAll immigrants and migrants in the United States and around the world\n\n\n\nThe victims of earthquake\, flood\, mass shootings\, hurricanes\, and wildfire\n\n\n\nHopelink Kenmore Place\n\n\n\nHeron Haven Kenmore Senior Women’s Shelter\n\n\n\nCamp United We Stand \n\n\n\nAll without adequate housing in our community\n\n\n\nAll in the military and for their families\n\n\n\nOur enemies\n\n\n\n\nThose in authority\n\n\n\n\nAntónio Guterres\, Secretary General of the United Nations\n\n\n\nDonald J. Trump\, President of the United States\n\n\n\nRobert Ferguson\, Governor of Washington\n\n\n\nTeri Gobin\, Chair of the dxʷlilap [Tulalip] Tribes\n\n\n\nCecile Hansen\, Chair of the dxʷdəwʔabš [Duwamish] Tribe\n\n\n\n\nGive thanks for the blessings of this life\n\n\n\n\nThose celebrating the anniversary of their birth\n\n\n\nThose celebrating the anniversary of their baptism\n\n\n\nThose celebrating the anniversary of their marriage\n\n\n\n\nLessons\n\n\n\nLessons appointed for use for this day from the Revised Common Lectionary (Episcopal version). \n\n\n\nIsaiah 7:10-16 (NRSV)\n\n\n\nAgain the Lord spoke to Ahaz\, saying\, Ask a sign of the Lord your God; let it be deep as Sheol or high as heaven. But Ahaz said\, I will not ask\, and I will not put the Lord to the test. Then Isaiah said: “Hear then\, O house of David! Is it too little for you to weary mortals\, that you weary my God also? Therefore the Lord himself will give you a sign. Look\, the young woman is with child and shall bear a son\, and shall name him Immanuel. He shall eat curds and honey by the time he knows how to refuse the evil and choose the good. For before the child knows how to refuse the evil and choose the good\, the land before whose two kings you are in dread will be deserted.” \n\n\n\nPsalm 80:1-7\, 16-18 (BCP)\n\n\n\nQui regis Israel \n\n\n\nHear\, O Shepherd of Israel\, leading Joseph like a flock; *   shine forth\, you that are enthroned upon the cherubim.In the presence of Ephraim\, Benjamin\, and Manasseh\, *   stir up your strength and come to help us.Restore us\, O God of hosts; *   show the light of your countenance\, and we shall be saved.O Lord God of hosts\, *   how long will you be angered despite the prayers of your people?You have fed them with the bread of tears; *   you have given them bowls of tears to drink.You have made us the derision of our neighbors\, *   and our enemies laugh us to scorn.Restore us\, O God of hosts; *   show the light of your countenance\, and we shall be saved.Let your hand be upon the man of your right hand\, *   the son of man you have made so strong for yourself.And so will we never turn away from you; *   give us life\, that we may call upon your Name.Restore us\, O Lord God of hosts; *   show the light of your countenance\, and we shall be saved. \n\n\n\nRomans 1:1-7 (NRSV)\n\n\n\nPaul\, a servant of Jesus Christ\, called to be an apostle\, set apart for the gospel of God\, which he promised beforehand through his prophets in the holy scriptures\, the gospel concerning his Son\, who was descended from David according to the flesh and was declared to be Son of God with power according to the spirit of holiness by resurrection from the dead\, Jesus Christ our Lord\, through whom we have received grace and apostleship to bring about the obedience of faith among all the Gentiles for the sake of his name\, including yourselves who are called to belong to Jesus Christ\,To all God’s beloved in Rome\, who are called to be saints:Grace to you and peace from God our Father and the Lord Jesus Christ. \n\n\n\nMatthew 1:18-25 (NRSV)\n\n\n\nNow the birth of Jesus the Messiah took place in this way. When his mother Mary had been engaged to Joseph\, but before they lived together\, she was found to be with child from the Holy Spirit. Her husband Joseph\, being a righteous man and unwilling to expose her to public disgrace\, planned to dismiss her quietly. But just when he had resolved to do this\, an angel of the Lord appeared to him in a dream and said\, “Joseph\, son of David\, do not be afraid to take Mary as your wife\, for the child conceived in her is from the Holy Spirit. She will bear a son\, and you are to name him Jesus\, for he will save his people from their sins.” All this took place to fulfill what had been spoken by the Lord through the prophet:“Look\, the virgin shall conceive and bear a son\,   and they shall name him Emmanuel\,”which means\, “God is with us.” When Joseph awoke from sleep\, he did as the angel of the Lord commanded him; he took her as his wife\, but had no marital relations with her until she had borne a son; and he named him Jesus. \n\n\n\n\n\n\n\nThe Old Testament\, New Testament and Gospel readings are from the New Revised Standard Version Bible: Anglicized Edition\, copyright 1989\, 1995\, Division of Christian Education of the National Council of the Churches of Christ in the United States of America. Used by permission. All rights reserved. \n\n\n\nThe Psalm is from the Book of Common Prayer\, 1979.
URL:https://redeemer-kenmore.org/event/4th-sunday-of-advent-year-a/
LOCATION:Nave and Sanctuary at Church of the Redeemer\, 6220 Northeast 181st Street\, Kenmore\, WA\, 98028\, United States
CATEGORIES:Advent
ATTACH;FMTTYPE=image/webp:https://redeemer-kenmore.org/wp-content/uploads/2024/04/The-4th-Sunday-of-Advent.webp
ORGANIZER;CN="Church Office":MAILTO:office@redeemer-kenmore.org
GEO:47.7594575;-122.2595651
X-APPLE-STRUCTURED-LOCATION;VALUE=URI;X-ADDRESS=Nave and Sanctuary at Church of the Redeemer 6220 Northeast 181st Street Kenmore WA 98028 United States;X-APPLE-RADIUS=500;X-TITLE=6220 Northeast 181st Street:geo:-122.2595651,47.7594575
END:VEVENT
BEGIN:VEVENT
DTSTART;TZID=America/Los_Angeles:20251221T080000
DTEND;TZID=America/Los_Angeles:20251221T090000
DTSTAMP:20260420T073538
CREATED:20250807T074511Z
LAST-MODIFIED:20250807T074524Z
UID:10001356-1766304000-1766307600@redeemer-kenmore.org
SUMMARY:In-person Holy Eucharist
DESCRIPTION:Everyone is welcome at Church of the Redeemer. We look forward to seeing you at this 8:00 am Sunday service of Holy Eucharist at Church of the Redeemer. It is in-person only. \n\n\n\nAll are welcome to participate fully at Redeemer. \n\n\n\n\nAll races.\n\n\n\nAll religions.\n\n\n\nAll countries of origin.\n\n\n\nAll sexual orientations (including LGBTQ+).\n\n\n\nAll genders.\n\n\n\n\nEucharist\n\n\n\nThe Eucharist is the sacrament of Christ’s body and blood\, and the principal act of Christian worship. The term is from the Greek\, “thanksgiving.” The Episcopal Church invites all baptized Christians to receive communion. \n\n\n\nJesus instituted the Eucharist “on the night when he was betrayed.” At the Last Supper he shared the bread and cup of wine at a sacred meal with his disciples. He identified the bread with his body and the wine with his blood of the new covenant. Jesus commanded his disciples to “do this” in remembrance of him. See these passages in Scripture: \n\n\n\n\n1 Corinthians 11:23-26\n\n\n\nMark 14:22-25\n\n\n\nMatthew 26:26-29\n\n\n\nLuke 22:14-20\n\n\n\n\nThe Book of Common Prayer\n\n\n\nThe Eucharist makes Christ’s sacrifice present. This unites us to Christ’s one self-offering (Book of Common Prayer\, p. 859). The Last Supper provides the basis for the fourfold Eucharistic action of taking\, blessing\, breaking\, and sharing. Christ’s body and blood are really present in the sacrament of the Eucharist and received by faith. We also know Christ’s presence in the gathered eucharistic community. \n\n\n\nThe Book of Common Prayer entitles the whole service the Holy Eucharist. \n\n\n\n\nThe first part of the service is designated the Word of God. It usually includes the entrance rite\, the lessons and gradual psalm\, the gospel\, the sermon\, the Nicene Creed\, the Prayers of the People\, the confession of sin and absolution\, and the Peace.\n\n\n\nThe second portion of the service is designated the Holy Communion. It includes the offertory\, the consecration of the bread and wine in the Great Thanksgiving\, the communion of the people\, and the concluding prayers of thanksgiving and dismissal. A blessing may be given prior to the dismissal.\n\n\n\n\nThe Eucharist is also called the Lord’s Supper\, Holy Communion\, the Divine Liturgy\, the Mass\, and the Great Offertory (BCP\, p. 859). \n\n\n\nThe Hymnal\n\n\n\nThe Hymnal 1982 includes a section with a variety of hymns for the Holy Eucharist (Numbers 300 through 347)\, including the following: \n\n\n\n\n“Come\, risen Lord\, and deign to be our guest” (305 and 306)\n\n\n\n“My God\, thy table now is spread” (321)\n\n\n\n“Now\, my tongue\, the mystery telling” (329 through 331)\n\n\n\n“I am the bread of life” (335)\n\n\n\n\n(Above taken from Eucharist .)
URL:https://redeemer-kenmore.org/event/in-person-holy-eucharist/2025-12-21/
LOCATION:Nave and Sanctuary at Church of the Redeemer\, 6220 Northeast 181st Street\, Kenmore\, WA\, 98028\, United States
CATEGORIES:Liturgy
ATTACH;FMTTYPE=image/png:https://redeemer-kenmore.org/wp-content/uploads/2023/07/Early-Service-Holy-Eucharist.avif
ORGANIZER;CN="Church Office":MAILTO:office@redeemer-kenmore.org
GEO:47.7594575;-122.2595651
X-APPLE-STRUCTURED-LOCATION;VALUE=URI;X-ADDRESS=Nave and Sanctuary at Church of the Redeemer 6220 Northeast 181st Street Kenmore WA 98028 United States;X-APPLE-RADIUS=500;X-TITLE=6220 Northeast 181st Street:geo:-122.2595651,47.7594575
END:VEVENT
BEGIN:VEVENT
DTSTART;TZID=America/Los_Angeles:20251221T091500
DTEND;TZID=America/Los_Angeles:20251221T101500
DTSTAMP:20260420T073538
CREATED:20251119T235734Z
LAST-MODIFIED:20251124T210242Z
UID:10005569-1766308500-1766312100@redeemer-kenmore.org
SUMMARY:Episcopal 101: An Enquirer’s Class
DESCRIPTION:Would you like to examine or deepen your faith? At Church of the Redeemer\, reflect on our experiences of faith\, the Bible\, and liturgy in light of the Book of Common Prayer and our Episcopal experience with Episcopal 101: An enquirer’s class. \n\n\n\nWe will hold Episcopal 101 classes at two different times. Attend on Sundays mornings from 9:15-10:15\, Tuesday evenings from 5:30-6:30\, or both! Classes meet in the first alcove of the parish hall. \n\n\n\nThose hoping to complete Confirmation\, Reception\, or Reaffirmation should make sure you come for each topic. \n\n\n\nSessions and topics for Episcopal 101: An enquirer’s class.\nSessionTopicDatesSession 1Where are we headed?Sunday\, November 23 and Tuesday\, November 25Session 2What is the Bible and how do we understand it?Sunday\, November 30 and Tuesday\, December 2Session 3Who is the Trinity?Sunday\, December 7 and Tuesday\, December 9Session 4Sin\, Repentance\, and RedemptionSunday\,December 14 and Tuesday. December 23Session 5What do I believe?Sunday\, December 21 and Tuesday\, December 30Session 6What is the Church?Sunday\, December 28 and Tuesday\, January 6Session 7What is Ministry?Sunday\, January 11 and Tuesday\, January  13
URL:https://redeemer-kenmore.org/event/zimzum-discipleship-practices-for-a-christ-centered-life-2/2025-12-21/
LOCATION:Parish Hall at Church of the Redeemer\, Ground Floor of the main building on the campus at 6220 Northeast 181st Street\, Kenmore\, WA\, 98028\, United States
CATEGORIES:Education
ATTACH;FMTTYPE=image/png:https://redeemer-kenmore.org/wp-content/uploads/2025/11/Church-Events-68-Episcopal-101-An-enquirers-class.avif
ORGANIZER;CN="The Rev. Theresa Newell":MAILTO:tnewell@redeemer-kenmore.org
GEO:47.7594575;-122.2595651
X-APPLE-STRUCTURED-LOCATION;VALUE=URI;X-ADDRESS=Parish Hall at Church of the Redeemer Ground Floor of the main building on the campus at 6220 Northeast 181st Street Kenmore WA 98028 United States;X-APPLE-RADIUS=500;X-TITLE=Ground Floor of the main building on the campus at 6220 Northeast 181st Street:geo:-122.2595651,47.7594575
END:VEVENT
BEGIN:VEVENT
DTSTART;TZID=America/Los_Angeles:20251221T103000
DTEND;TZID=America/Los_Angeles:20251221T113000
DTSTAMP:20260420T073538
CREATED:20250807T072044Z
LAST-MODIFIED:20250807T073913Z
UID:10001644-1766313000-1766316600@redeemer-kenmore.org
SUMMARY:In-person and on-line Holy Eucharist
DESCRIPTION:The people at Episcopal Church of the Redeemer welcomes everyone. We look forward to seeing you at this 10:30 am service of Holy Eucharist at Church of the Redeemer.  \n\n\n\nIt is in-person and on-line. The link to the service live cast is on the Welcome page of this website. \n\n\n\nAll are welcome to participate fully at Redeemer. \n\n\n\n\nAll races.\n\n\n\nAll religions.\n\n\n\nAll countries of origin.\n\n\n\nAll sexual orientations (including LGBTQ+).\n\n\n\nAll genders.\n\n\n\n\nEucharist\n\n\n\nThe Eucharist is the sacrament of Christ’s body and blood\, and the principal act of Christian worship. The term is from the Greek\, “thanksgiving.” The Episcopal Church invites all baptized Christians to receive communion. \n\n\n\nJesus instituted the Eucharist “on the night when he was betrayed.” At the Last Supper he shared the bread and cup of wine at a sacred meal with his disciples. He identified the bread with his body and the wine with his blood of the new covenant. Jesus commanded his disciples to “do this” in remembrance of him. See these passages in Scripture: \n\n\n\n\n1 Corinthians 11:23-26\n\n\n\nMark 14:22-25\n\n\n\nMatthew 26:26-29\n\n\n\nLuke 22:14-20\n\n\n\n\nThe Book of Common Prayer\n\n\n\nThe Eucharist makes Christ’s sacrifice present. This unites us to Christ’s one self-offering (Book of Common Prayer\, p. 859). The Last Supper provides the basis for the fourfold Eucharistic action of taking\, blessing\, breaking\, and sharing. Christ’s body and blood are really present in the sacrament of the Eucharist and received by faith. We also know Christ’s presence in the gathered eucharistic community. \n\n\n\nThe Book of Common Prayer entitles the whole service the Holy Eucharist. \n\n\n\n\nThe first part of the service is designated the Word of God. It usually includes the entrance rite\, the lessons and gradual psalm\, the gospel\, the sermon\, the Nicene Creed\, the Prayers of the People\, the confession of sin and absolution\, and the Peace.\n\n\n\nThe second portion of the service is designated the Holy Communion. It includes the offertory\, the consecration of the bread and wine in the Great Thanksgiving\, the communion of the people\, and the concluding prayers of thanksgiving and dismissal. A blessing may be given prior to the dismissal.\n\n\n\n\nThe Eucharist is also called the Lord’s Supper\, Holy Communion\, the Divine Liturgy\, the Mass\, and the Great Offertory (BCP\, p. 859). \n\n\n\nThe Hymnal\n\n\n\nThe Hymnal 1982 includes a section with a variety of hymns for the Holy Eucharist (Numbers 300 through 347)\, including the following: \n\n\n\n\n“Come\, risen Lord\, and deign to be our guest” (305 and 306)\n\n\n\n“My God\, thy table now is spread” (321)\n\n\n\n“Now\, my tongue\, the mystery telling” (329 through 331)\n\n\n\n“I am the bread of life” (335)\n\n\n\n\n(Above taken from Eucharist .)
URL:https://redeemer-kenmore.org/event/in-person-and-on-line-holy-eucharist-2/2025-12-21/
LOCATION:Nave and Sanctuary at Church of the Redeemer\, 6220 Northeast 181st Street\, Kenmore\, WA\, 98028\, United States
CATEGORIES:Liturgy
ATTACH;FMTTYPE=image/png:https://redeemer-kenmore.org/wp-content/uploads/2023/06/Late-Service-Holy-Eucharist.avif
ORGANIZER;CN="Church Office":MAILTO:office@redeemer-kenmore.org
GEO:47.7594575;-122.2595651
X-APPLE-STRUCTURED-LOCATION;VALUE=URI;X-ADDRESS=Nave and Sanctuary at Church of the Redeemer 6220 Northeast 181st Street Kenmore WA 98028 United States;X-APPLE-RADIUS=500;X-TITLE=6220 Northeast 181st Street:geo:-122.2595651,47.7594575
END:VEVENT
BEGIN:VEVENT
DTSTART;TZID=America/Los_Angeles:20251221T113000
DTEND;TZID=America/Los_Angeles:20251221T133000
DTSTAMP:20260420T073538
CREATED:20251126T110348Z
LAST-MODIFIED:20251129T035044Z
UID:10005572-1766316600-1766323800@redeemer-kenmore.org
SUMMARY:Greening of the church
DESCRIPTION:The greening of Episcopal Church of the Redeemer for Christmas happens after the 10:30 worship service (11:30 at the earliest) on December 21\, 2025. Further details to come.
URL:https://redeemer-kenmore.org/event/greening-of-the-church/
LOCATION:Church of the Redeemer\, Kenmore\, Washington\, 6220 Northeast 181st Street\, PO Box 82677\, Kenmore\, WA\, 98028\, United States
CATEGORIES:Building and Grounds
ATTACH;FMTTYPE=image/png:https://redeemer-kenmore.org/wp-content/uploads/2023/11/Greening-the-Church.png
GEO:47.7594575;-122.2595651
X-APPLE-STRUCTURED-LOCATION;VALUE=URI;X-ADDRESS=Church of the Redeemer Kenmore Washington 6220 Northeast 181st Street PO Box 82677 Kenmore WA 98028 United States;X-APPLE-RADIUS=500;X-TITLE=6220 Northeast 181st Street\, PO Box 82677:geo:-122.2595651,47.7594575
END:VEVENT
END:VCALENDAR