BEGIN:VCALENDAR
VERSION:2.0
PRODID:-//Episcopal Church of the Redeemer - ECPv6.15.20//NONSGML v1.0//EN
CALSCALE:GREGORIAN
METHOD:PUBLISH
X-WR-CALNAME:Episcopal Church of the Redeemer
X-ORIGINAL-URL:https://redeemer-kenmore.org
X-WR-CALDESC:Events for Episcopal Church of the Redeemer
REFRESH-INTERVAL;VALUE=DURATION:PT1H
X-Robots-Tag:noindex
X-PUBLISHED-TTL:PT1H
BEGIN:VTIMEZONE
TZID:America/Los_Angeles
BEGIN:DAYLIGHT
TZOFFSETFROM:-0800
TZOFFSETTO:-0700
TZNAME:PDT
DTSTART:20250309T100000
END:DAYLIGHT
BEGIN:STANDARD
TZOFFSETFROM:-0700
TZOFFSETTO:-0800
TZNAME:PST
DTSTART:20251102T090000
END:STANDARD
BEGIN:DAYLIGHT
TZOFFSETFROM:-0800
TZOFFSETTO:-0700
TZNAME:PDT
DTSTART:20260308T100000
END:DAYLIGHT
BEGIN:STANDARD
TZOFFSETFROM:-0700
TZOFFSETTO:-0800
TZNAME:PST
DTSTART:20261101T090000
END:STANDARD
BEGIN:DAYLIGHT
TZOFFSETFROM:-0800
TZOFFSETTO:-0700
TZNAME:PDT
DTSTART:20270314T100000
END:DAYLIGHT
BEGIN:STANDARD
TZOFFSETFROM:-0700
TZOFFSETTO:-0800
TZNAME:PST
DTSTART:20271107T090000
END:STANDARD
END:VTIMEZONE
BEGIN:VEVENT
DTSTART;TZID=America/Los_Angeles:20260111T000000
DTEND;TZID=America/Los_Angeles:20260111T235959
DTSTAMP:20260423T073753
CREATED:20260108T013529Z
LAST-MODIFIED:20260110T060823Z
UID:10005661-1768089600-1768175999@redeemer-kenmore.org
SUMMARY:1st Sunday after the Epiphany: The Baptism of Our Lord Jesus Christ (Year A)
DESCRIPTION:Prayers\n\n\n\nFather in heaven\, who at the baptism of Jesus in the River Jordan proclaimed him your beloved Son and anointed him with the Holy Spirit: Grant that all who are baptized into his Name may keep the covenant they have made\, and boldly confess him as Lord and Savior; who with you and the Holy Spirit lives and reigns\, one God\, in glory everlasting. Amen. \n\n\n\nAnglican Cycle of Prayer\n\n\n\n\nThe Rt. Rev. and Rt. Hon. Dame Sarah Mullally\, DBE\, the 106th Archbishop of Canterbury-designate\n\n\n\nLa Iglesia Anglicana de la Región Central de América\n\n\n\n\nEpiscopal Church\n\n\n\n\nThe Most Rev. Sean Rowe\, XXVIII Presiding Bishop of the Episcopal Church\n\n\n\nArchives of the Episcopal Church\n\n\n\n\nDiocese of Olympia\n\n\n\n\nThe Rt. Rev. Philip N. LaBelle\, IX Bishop of the Diocese of Olympia\n\n\n\nSt. Timothy\, Chehalis\n\n\n\nSt. Stephen’s\, Longview\n\n\n\nSt. Peter’s\, Seaview\n\n\n\n\nChurch of the Redeemer\n\n\n\n\nThe Rev. Theresa Newell\, Priest in Charge\n\n\n\nThe Wardens and Vestry serving this parish\n\n\n\nAll members of this parish\n\n\n\n\nPray for the welfare of the world\n\n\n\n\nAll victims of the conflicts in Ukraine\, Sudan\, Palestine\, Israel\, Haiti\, and Venezuela\n\n\n\nAll immigrants and migrants in the United States and around the world\n\n\n\nThe victims of earthquake\, flood\, mass shootings\, hurricanes\, and wildfire\n\n\n\nHopelink Kenmore Place\n\n\n\nHeron Haven Kenmore Senior Women’s Shelter\n\n\n\nCamp United We Stand \n\n\n\nAll without adequate housing in our community\n\n\n\nAll in the military and for their families\n\n\n\nOur enemies\n\n\n\n\nThose in authority\n\n\n\n\nAntónio Guterres\, Secretary General of the United Nations\n\n\n\nDonald J. Trump\, President of the United States\n\n\n\nRobert Ferguson\, Governor of Washington\n\n\n\nTeri Gobin\, Chair of the dxʷlilap [Tulalip] Tribes\n\n\n\nCecile Hansen\, Chair of the dxʷdəwʔabš [Duwamish] Tribe\n\n\n\n\nGive thanks for the blessings of this life\n\n\n\n\nThose celebrating the anniversary of their birth\n\n\n\nThose celebrating the anniversary of their baptism\n\n\n\nThose celebrating the anniversary of their marriage\n\n\n\n\nLessons\n\n\n\nLessons appointed for use for this day from the Revised Common Lectionary (Episcopal version). \n\n\n\nIsaiah 42:1-9 (NRSV)\n\n\n\n“Here is my servant\, whom I uphold\, my chosen\, in whom my soul delights; I have put my spirit upon him; he will bring forth justice to the nations. He will not cry or lift up his voice\, or make it heard in the street; a bruised reed he will not break\, and a dimly burning wick he will not quench; he will faithfully bring forth justice. He will not grow faint or be crushed until he has established justice in the earth; and the coastlands wait for his teaching.” Thus says God\, the Lord\, who created the heavens and stretched them out\, who spread out the earth and what comes from it\, who gives breath to the people upon it and spirit to those who walk in it: “I am the Lord\, I have called you in righteousness\, I have taken you by the hand and kept you; I have given you as a covenant to the people\, a light to the nations\, to open the eyes that are blind\, to bring out the prisoners from the dungeon\, from the prison those who sit in darkness. I am the Lord\, that is my name; my glory I give to no other\, nor my praise to idols. See\, the former things have come to pass\, and new things I now declare; before they spring forth\, I tell you of them.” \n\n\n\nPsalm 29 (BCP)\n\n\n\nAfferte Domino \n\n\n\nAscribe to the Lord\, you gods\, *   ascribe to the Lord glory and strength.Ascribe to the Lord the glory due his Name; *   worship the Lord in the beauty of holiness.The voice of the Lord is upon the waters;the God of glory thunders; *   the Lord is upon the mighty waters.The voice of the Lord is a powerful voice; *   the voice of the Lord is a voice of splendor.The voice of the Lord breaks the cedar trees; *   the Lord breaks the cedars of Lebanon;He makes Lebanon skip like a calf\, *   and Mount Hermon like a young wild ox.The voice of the Lord splits the flames of fire;the voice of the Lord shakes the wilderness; *   the Lord shakes the wilderness of Kadesh.The voice of the Lord makes the oak trees writhe *   and strips the forests bare.And in the temple of the Lord*   all are crying\, “Glory!”The Lord sits enthroned above the flood; *   the Lord sits enthroned as King for evermore.The Lord shall give strength to his people; *   the Lord shall give his people the blessing of peace. \n\n\n\nActs 10:34-43 (NRSV)\n\n\n\nPeter began to speak to Cornelius and the other Gentiles: “I truly understand that God shows no partiality\, but in every nation anyone who fears him and does what is right is acceptable to him. You know the message he sent to the people of Israel\, preaching peace by Jesus Christ—he is Lord of all. That message spread throughout Judea\, beginning in Galilee after the baptism that John announced: how God anointed Jesus of Nazareth with the Holy Spirit and with power; how he went about doing good and healing all who were oppressed by the devil\, for God was with him. We are witnesses to all that he did both in Judea and in Jerusalem. They put him to death by hanging him on a tree; but God raised him on the third day and allowed him to appear\, not to all the people but to us who were chosen by God as witnesses\, and who ate and drank with him after he rose from the dead. He commanded us to preach to the people and to testify that he is the one ordained by God as judge of the living and the dead. All the prophets testify about him that everyone who believes in him receives forgiveness of sins through his name.” \n\n\n\nMatthew 3:13-17 (NRSV)\n\n\n\nJesus came from Galilee to John at the Jordan\, to be baptized by him. John would have prevented him\, saying\, “I need to be baptized by you\, and do you come to me?” But Jesus answered him\, “Let it be so now; for it is proper for us in this way to fulfill all righteousness.” Then he consented. And when Jesus had been baptized\, just as he came up from the water\, suddenly the heavens were opened to him and he saw the Spirit of God descending like a dove and alighting on him. And a voice from heaven said\, “This is my Son\, the Beloved\, with whom I am well pleased.” \n\n\n\n\n\n\n\nThe Old Testament\, New Testament and Gospel readings are from the New Revised Standard Version Bible: Anglicized Edition\, copyright 1989\, 1995\, Division of Christian Education of the National Council of the Churches of Christ in the United States of America. Used by permission. All rights reserved. \n\n\n\nThe Psalm is from the Book of Common Prayer\, 1979.
URL:https://redeemer-kenmore.org/event/1st-sunday-after-the-epiphany-the-baptism-of-our-lord-jesus-christ-year-a/
LOCATION:Nave and Sanctuary at Church of the Redeemer\, 6220 Northeast 181st Street\, Kenmore\, WA\, 98028\, United States
CATEGORIES:Epiphany
ATTACH;FMTTYPE=image/png:https://redeemer-kenmore.org/wp-content/uploads/2023/12/Church-seasons-and-holidays-16-The-Season-after-the-Epiphany.png
ORGANIZER;CN="Church Office":MAILTO:office@redeemer-kenmore.org
GEO:47.7594575;-122.2595651
X-APPLE-STRUCTURED-LOCATION;VALUE=URI;X-ADDRESS=Nave and Sanctuary at Church of the Redeemer 6220 Northeast 181st Street Kenmore WA 98028 United States;X-APPLE-RADIUS=500;X-TITLE=6220 Northeast 181st Street:geo:-122.2595651,47.7594575
END:VEVENT
BEGIN:VEVENT
DTSTART;TZID=America/Los_Angeles:20260111T080000
DTEND;TZID=America/Los_Angeles:20260111T090000
DTSTAMP:20260423T073753
CREATED:20250807T074511Z
LAST-MODIFIED:20250807T074524Z
UID:10001359-1768118400-1768122000@redeemer-kenmore.org
SUMMARY:In-person Holy Eucharist
DESCRIPTION:Everyone is welcome at Church of the Redeemer. We look forward to seeing you at this 8:00 am Sunday service of Holy Eucharist at Church of the Redeemer. It is in-person only. \n\n\n\nAll are welcome to participate fully at Redeemer. \n\n\n\n\nAll races.\n\n\n\nAll religions.\n\n\n\nAll countries of origin.\n\n\n\nAll sexual orientations (including LGBTQ+).\n\n\n\nAll genders.\n\n\n\n\nEucharist\n\n\n\nThe Eucharist is the sacrament of Christ’s body and blood\, and the principal act of Christian worship. The term is from the Greek\, “thanksgiving.” The Episcopal Church invites all baptized Christians to receive communion. \n\n\n\nJesus instituted the Eucharist “on the night when he was betrayed.” At the Last Supper he shared the bread and cup of wine at a sacred meal with his disciples. He identified the bread with his body and the wine with his blood of the new covenant. Jesus commanded his disciples to “do this” in remembrance of him. See these passages in Scripture: \n\n\n\n\n1 Corinthians 11:23-26\n\n\n\nMark 14:22-25\n\n\n\nMatthew 26:26-29\n\n\n\nLuke 22:14-20\n\n\n\n\nThe Book of Common Prayer\n\n\n\nThe Eucharist makes Christ’s sacrifice present. This unites us to Christ’s one self-offering (Book of Common Prayer\, p. 859). The Last Supper provides the basis for the fourfold Eucharistic action of taking\, blessing\, breaking\, and sharing. Christ’s body and blood are really present in the sacrament of the Eucharist and received by faith. We also know Christ’s presence in the gathered eucharistic community. \n\n\n\nThe Book of Common Prayer entitles the whole service the Holy Eucharist. \n\n\n\n\nThe first part of the service is designated the Word of God. It usually includes the entrance rite\, the lessons and gradual psalm\, the gospel\, the sermon\, the Nicene Creed\, the Prayers of the People\, the confession of sin and absolution\, and the Peace.\n\n\n\nThe second portion of the service is designated the Holy Communion. It includes the offertory\, the consecration of the bread and wine in the Great Thanksgiving\, the communion of the people\, and the concluding prayers of thanksgiving and dismissal. A blessing may be given prior to the dismissal.\n\n\n\n\nThe Eucharist is also called the Lord’s Supper\, Holy Communion\, the Divine Liturgy\, the Mass\, and the Great Offertory (BCP\, p. 859). \n\n\n\nThe Hymnal\n\n\n\nThe Hymnal 1982 includes a section with a variety of hymns for the Holy Eucharist (Numbers 300 through 347)\, including the following: \n\n\n\n\n“Come\, risen Lord\, and deign to be our guest” (305 and 306)\n\n\n\n“My God\, thy table now is spread” (321)\n\n\n\n“Now\, my tongue\, the mystery telling” (329 through 331)\n\n\n\n“I am the bread of life” (335)\n\n\n\n\n(Above taken from Eucharist .)
URL:https://redeemer-kenmore.org/event/in-person-holy-eucharist/2026-01-11/
LOCATION:Nave and Sanctuary at Church of the Redeemer\, 6220 Northeast 181st Street\, Kenmore\, WA\, 98028\, United States
CATEGORIES:Liturgy
ATTACH;FMTTYPE=image/png:https://redeemer-kenmore.org/wp-content/uploads/2023/07/Early-Service-Holy-Eucharist.avif
ORGANIZER;CN="Church Office":MAILTO:office@redeemer-kenmore.org
GEO:47.7594575;-122.2595651
X-APPLE-STRUCTURED-LOCATION;VALUE=URI;X-ADDRESS=Nave and Sanctuary at Church of the Redeemer 6220 Northeast 181st Street Kenmore WA 98028 United States;X-APPLE-RADIUS=500;X-TITLE=6220 Northeast 181st Street:geo:-122.2595651,47.7594575
END:VEVENT
BEGIN:VEVENT
DTSTART;TZID=America/Los_Angeles:20260111T091500
DTEND;TZID=America/Los_Angeles:20260111T101500
DTSTAMP:20260423T073753
CREATED:20251119T235734Z
LAST-MODIFIED:20251124T210242Z
UID:10005571-1768122900-1768126500@redeemer-kenmore.org
SUMMARY:Episcopal 101: An Enquirer’s Class
DESCRIPTION:Would you like to examine or deepen your faith? At Church of the Redeemer\, reflect on our experiences of faith\, the Bible\, and liturgy in light of the Book of Common Prayer and our Episcopal experience with Episcopal 101: An enquirer’s class. \n\n\n\nWe will hold Episcopal 101 classes at two different times. Attend on Sundays mornings from 9:15-10:15\, Tuesday evenings from 5:30-6:30\, or both! Classes meet in the first alcove of the parish hall. \n\n\n\nThose hoping to complete Confirmation\, Reception\, or Reaffirmation should make sure you come for each topic. \n\n\n\nSessions and topics for Episcopal 101: An enquirer’s class.\nSessionTopicDatesSession 1Where are we headed?Sunday\, November 23 and Tuesday\, November 25Session 2What is the Bible and how do we understand it?Sunday\, November 30 and Tuesday\, December 2Session 3Who is the Trinity?Sunday\, December 7 and Tuesday\, December 9Session 4Sin\, Repentance\, and RedemptionSunday\,December 14 and Tuesday. December 23Session 5What do I believe?Sunday\, December 21 and Tuesday\, December 30Session 6What is the Church?Sunday\, December 28 and Tuesday\, January 6Session 7What is Ministry?Sunday\, January 11 and Tuesday\, January  13
URL:https://redeemer-kenmore.org/event/zimzum-discipleship-practices-for-a-christ-centered-life-2/2026-01-11/
LOCATION:Parish Hall at Church of the Redeemer\, Ground Floor of the main building on the campus at 6220 Northeast 181st Street\, Kenmore\, WA\, 98028\, United States
CATEGORIES:Education
ATTACH;FMTTYPE=image/png:https://redeemer-kenmore.org/wp-content/uploads/2025/11/Church-Events-68-Episcopal-101-An-enquirers-class.avif
ORGANIZER;CN="The Rev. Theresa Newell":MAILTO:tnewell@redeemer-kenmore.org
GEO:47.7594575;-122.2595651
X-APPLE-STRUCTURED-LOCATION;VALUE=URI;X-ADDRESS=Parish Hall at Church of the Redeemer Ground Floor of the main building on the campus at 6220 Northeast 181st Street Kenmore WA 98028 United States;X-APPLE-RADIUS=500;X-TITLE=Ground Floor of the main building on the campus at 6220 Northeast 181st Street:geo:-122.2595651,47.7594575
END:VEVENT
BEGIN:VEVENT
DTSTART;TZID=America/Los_Angeles:20260111T103000
DTEND;TZID=America/Los_Angeles:20260111T113000
DTSTAMP:20260423T073753
CREATED:20250807T072044Z
LAST-MODIFIED:20250807T073913Z
UID:10001647-1768127400-1768131000@redeemer-kenmore.org
SUMMARY:In-person and on-line Holy Eucharist
DESCRIPTION:The people at Episcopal Church of the Redeemer welcomes everyone. We look forward to seeing you at this 10:30 am service of Holy Eucharist at Church of the Redeemer.  \n\n\n\nIt is in-person and on-line. The link to the service live cast is on the Welcome page of this website. \n\n\n\nAll are welcome to participate fully at Redeemer. \n\n\n\n\nAll races.\n\n\n\nAll religions.\n\n\n\nAll countries of origin.\n\n\n\nAll sexual orientations (including LGBTQ+).\n\n\n\nAll genders.\n\n\n\n\nEucharist\n\n\n\nThe Eucharist is the sacrament of Christ’s body and blood\, and the principal act of Christian worship. The term is from the Greek\, “thanksgiving.” The Episcopal Church invites all baptized Christians to receive communion. \n\n\n\nJesus instituted the Eucharist “on the night when he was betrayed.” At the Last Supper he shared the bread and cup of wine at a sacred meal with his disciples. He identified the bread with his body and the wine with his blood of the new covenant. Jesus commanded his disciples to “do this” in remembrance of him. See these passages in Scripture: \n\n\n\n\n1 Corinthians 11:23-26\n\n\n\nMark 14:22-25\n\n\n\nMatthew 26:26-29\n\n\n\nLuke 22:14-20\n\n\n\n\nThe Book of Common Prayer\n\n\n\nThe Eucharist makes Christ’s sacrifice present. This unites us to Christ’s one self-offering (Book of Common Prayer\, p. 859). The Last Supper provides the basis for the fourfold Eucharistic action of taking\, blessing\, breaking\, and sharing. Christ’s body and blood are really present in the sacrament of the Eucharist and received by faith. We also know Christ’s presence in the gathered eucharistic community. \n\n\n\nThe Book of Common Prayer entitles the whole service the Holy Eucharist. \n\n\n\n\nThe first part of the service is designated the Word of God. It usually includes the entrance rite\, the lessons and gradual psalm\, the gospel\, the sermon\, the Nicene Creed\, the Prayers of the People\, the confession of sin and absolution\, and the Peace.\n\n\n\nThe second portion of the service is designated the Holy Communion. It includes the offertory\, the consecration of the bread and wine in the Great Thanksgiving\, the communion of the people\, and the concluding prayers of thanksgiving and dismissal. A blessing may be given prior to the dismissal.\n\n\n\n\nThe Eucharist is also called the Lord’s Supper\, Holy Communion\, the Divine Liturgy\, the Mass\, and the Great Offertory (BCP\, p. 859). \n\n\n\nThe Hymnal\n\n\n\nThe Hymnal 1982 includes a section with a variety of hymns for the Holy Eucharist (Numbers 300 through 347)\, including the following: \n\n\n\n\n“Come\, risen Lord\, and deign to be our guest” (305 and 306)\n\n\n\n“My God\, thy table now is spread” (321)\n\n\n\n“Now\, my tongue\, the mystery telling” (329 through 331)\n\n\n\n“I am the bread of life” (335)\n\n\n\n\n(Above taken from Eucharist .)
URL:https://redeemer-kenmore.org/event/in-person-and-on-line-holy-eucharist-2/2026-01-11/
LOCATION:Nave and Sanctuary at Church of the Redeemer\, 6220 Northeast 181st Street\, Kenmore\, WA\, 98028\, United States
CATEGORIES:Liturgy
ATTACH;FMTTYPE=image/png:https://redeemer-kenmore.org/wp-content/uploads/2023/06/Late-Service-Holy-Eucharist.avif
ORGANIZER;CN="Church Office":MAILTO:office@redeemer-kenmore.org
GEO:47.7594575;-122.2595651
X-APPLE-STRUCTURED-LOCATION;VALUE=URI;X-ADDRESS=Nave and Sanctuary at Church of the Redeemer 6220 Northeast 181st Street Kenmore WA 98028 United States;X-APPLE-RADIUS=500;X-TITLE=6220 Northeast 181st Street:geo:-122.2595651,47.7594575
END:VEVENT
END:VCALENDAR