BEGIN:VCALENDAR
VERSION:2.0
PRODID:-//Episcopal Church of the Redeemer - ECPv6.15.20//NONSGML v1.0//EN
CALSCALE:GREGORIAN
METHOD:PUBLISH
X-WR-CALNAME:Episcopal Church of the Redeemer
X-ORIGINAL-URL:https://redeemer-kenmore.org
X-WR-CALDESC:Events for Episcopal Church of the Redeemer
REFRESH-INTERVAL;VALUE=DURATION:PT1H
X-Robots-Tag:noindex
X-PUBLISHED-TTL:PT1H
BEGIN:VTIMEZONE
TZID:America/Los_Angeles
BEGIN:DAYLIGHT
TZOFFSETFROM:-0800
TZOFFSETTO:-0700
TZNAME:PDT
DTSTART:20250309T100000
END:DAYLIGHT
BEGIN:STANDARD
TZOFFSETFROM:-0700
TZOFFSETTO:-0800
TZNAME:PST
DTSTART:20251102T090000
END:STANDARD
BEGIN:DAYLIGHT
TZOFFSETFROM:-0800
TZOFFSETTO:-0700
TZNAME:PDT
DTSTART:20260308T100000
END:DAYLIGHT
BEGIN:STANDARD
TZOFFSETFROM:-0700
TZOFFSETTO:-0800
TZNAME:PST
DTSTART:20261101T090000
END:STANDARD
BEGIN:DAYLIGHT
TZOFFSETFROM:-0800
TZOFFSETTO:-0700
TZNAME:PDT
DTSTART:20270314T100000
END:DAYLIGHT
BEGIN:STANDARD
TZOFFSETFROM:-0700
TZOFFSETTO:-0800
TZNAME:PST
DTSTART:20271107T090000
END:STANDARD
END:VTIMEZONE
BEGIN:VEVENT
DTSTART;TZID=America/Los_Angeles:20260113T093000
DTEND;TZID=America/Los_Angeles:20260113T101500
DTSTAMP:20260423T134209
CREATED:20251119T235734Z
LAST-MODIFIED:20251124T210242Z
UID:10005558-1768296600-1768299300@redeemer-kenmore.org
SUMMARY:Episcopal 101: An Enquirer’s Class
DESCRIPTION:Would you like to examine or deepen your faith? At Church of the Redeemer\, reflect on our experiences of faith\, the Bible\, and liturgy in light of the Book of Common Prayer and our Episcopal experience with Episcopal 101: An enquirer’s class. \n\n\n\nWe will hold Episcopal 101 classes at two different times. Attend on Sundays mornings from 9:15-10:15\, Tuesday evenings from 5:30-6:30\, or both! Classes meet in the first alcove of the parish hall. \n\n\n\nThose hoping to complete Confirmation\, Reception\, or Reaffirmation should make sure you come for each topic. \n\n\n\nSessions and topics for Episcopal 101: An enquirer’s class.\nSessionTopicDatesSession 1Where are we headed?Sunday\, November 23 and Tuesday\, November 25Session 2What is the Bible and how do we understand it?Sunday\, November 30 and Tuesday\, December 2Session 3Who is the Trinity?Sunday\, December 7 and Tuesday\, December 9Session 4Sin\, Repentance\, and RedemptionSunday\,December 14 and Tuesday. December 23Session 5What do I believe?Sunday\, December 21 and Tuesday\, December 30Session 6What is the Church?Sunday\, December 28 and Tuesday\, January 6Session 7What is Ministry?Sunday\, January 11 and Tuesday\, January  13
URL:https://redeemer-kenmore.org/event/zimzum-discipleship-practices-for-a-christ-centered-life-2/2026-01-13/
LOCATION:Parish Hall at Church of the Redeemer\, Ground Floor of the main building on the campus at 6220 Northeast 181st Street\, Kenmore\, WA\, 98028\, United States
CATEGORIES:Education
ATTACH;FMTTYPE=image/png:https://redeemer-kenmore.org/wp-content/uploads/2025/11/Church-Events-68-Episcopal-101-An-enquirers-class.avif
ORGANIZER;CN="The Rev. Theresa Newell":MAILTO:tnewell@redeemer-kenmore.org
GEO:47.7594575;-122.2595651
X-APPLE-STRUCTURED-LOCATION;VALUE=URI;X-ADDRESS=Parish Hall at Church of the Redeemer Ground Floor of the main building on the campus at 6220 Northeast 181st Street Kenmore WA 98028 United States;X-APPLE-RADIUS=500;X-TITLE=Ground Floor of the main building on the campus at 6220 Northeast 181st Street:geo:-122.2595651,47.7594575
END:VEVENT
BEGIN:VEVENT
DTSTART;TZID=America/Los_Angeles:20260113T190000
DTEND;TZID=America/Los_Angeles:20260113T203000
DTSTAMP:20260423T134209
CREATED:20250916T181511Z
LAST-MODIFIED:20260409T063504Z
UID:10005062-1768330800-1768336200@redeemer-kenmore.org
SUMMARY:Remington Drive Irregulars Practice
DESCRIPTION:Music has always been an important part of the life of Episcopal Church of the Redeemer. We are going to call our rebirth choir Remington Drive Irregulars. This name comes from the historic name of 181st Street\, which provides the south boundary of the Redeemer campus. \n\n\n\n\n\n\n\nThe choir draws repertoire from the Sacred Harp tradition\, Taizé\, rounds\, and chant. Scheduled rehearsals are set for 7:00 pm on most Tuesdays. \n\n\n\nSelect the following to volunteer for the few\, the proud\, the Remington Drive Irregulars. \n\n\n\n\nSign up for the Remington Drive Irregulars\n\n\n\n\nVolunteering lets us know how much music to prepare. You will not commit to singing every Sunday for life by doing this. We expect to have “rotating” attendance in the choir. \n\n\n\nBenefits of singing in a choir\n\n\n\nSinging in a choir offers significant mental\, social\, and physical benefits\, such as the following: \n\n\n\n\nReducing stress and anxiety\n\n\n\nBoosting mood and self-esteem\n\n\n\nFostering a sense of community\n\n\n\nImproving cognitive skills like memory and music reading\n\n\n\nStrengthening respiratory and immune systems \n\n\n\n\nChoral singing can also improve heart function\, increase pain thresholds\, and provide a powerful sense of belonging and social connection.  \n\n\n\nThese articles back up those claims: \n\n\n\n\nChoir singing improves health\, happiness – and is the perfect icebreaker (University of Oxford)\n\n\n\n13 health (physical\, mental\, and social) benefits of choir singing: Choral singing is good for you\, your physical and mental health\, and social life (Interkultur)\n\n\n\nThe Mental-Health Benefits of Singing in a Choir: A body of research finds singing in a group boosts mood\, outlook\, and health (Psychology Today)\n\n\n\n\n\n\n\n\nFrom the Venite\, exultemus (Psalm 95) in the Book of Common Prayer: \n\n\n\n\nCome\, let us sing to the Lord; *     let us shout for joy to the Rock of our salvation.Let us come before his presence with thanksgiving *     and raise a loud shout to him with psalms.
URL:https://redeemer-kenmore.org/event/remington-drive-irregulars-practice-2/2026-01-13/
LOCATION:Nave and Sanctuary at Church of the Redeemer\, 6220 Northeast 181st Street\, Kenmore\, WA\, 98028\, United States
CATEGORIES:Music Rehearsal
ATTACH;FMTTYPE=image/webp:https://redeemer-kenmore.org/wp-content/uploads/2025/08/Church-Events-57-Remington-Drive-Irregulars.avif
ORGANIZER;CN="Bob Chapman":MAILTO:bchapman@redeemer-kenmore.org
GEO:47.7594575;-122.2595651
X-APPLE-STRUCTURED-LOCATION;VALUE=URI;X-ADDRESS=Nave and Sanctuary at Church of the Redeemer 6220 Northeast 181st Street Kenmore WA 98028 United States;X-APPLE-RADIUS=500;X-TITLE=6220 Northeast 181st Street:geo:-122.2595651,47.7594575
END:VEVENT
END:VCALENDAR