BEGIN:VCALENDAR
VERSION:2.0
PRODID:-//Episcopal Church of the Redeemer - ECPv6.15.20//NONSGML v1.0//EN
CALSCALE:GREGORIAN
METHOD:PUBLISH
X-ORIGINAL-URL:https://redeemer-kenmore.org
X-WR-CALDESC:Events for Episcopal Church of the Redeemer
REFRESH-INTERVAL;VALUE=DURATION:PT1H
X-Robots-Tag:noindex
X-PUBLISHED-TTL:PT1H
BEGIN:VTIMEZONE
TZID:America/Los_Angeles
BEGIN:DAYLIGHT
TZOFFSETFROM:-0800
TZOFFSETTO:-0700
TZNAME:PDT
DTSTART:20250309T100000
END:DAYLIGHT
BEGIN:STANDARD
TZOFFSETFROM:-0700
TZOFFSETTO:-0800
TZNAME:PST
DTSTART:20251102T090000
END:STANDARD
BEGIN:DAYLIGHT
TZOFFSETFROM:-0800
TZOFFSETTO:-0700
TZNAME:PDT
DTSTART:20260308T100000
END:DAYLIGHT
BEGIN:STANDARD
TZOFFSETFROM:-0700
TZOFFSETTO:-0800
TZNAME:PST
DTSTART:20261101T090000
END:STANDARD
BEGIN:DAYLIGHT
TZOFFSETFROM:-0800
TZOFFSETTO:-0700
TZNAME:PDT
DTSTART:20270314T100000
END:DAYLIGHT
BEGIN:STANDARD
TZOFFSETFROM:-0700
TZOFFSETTO:-0800
TZNAME:PST
DTSTART:20271107T090000
END:STANDARD
END:VTIMEZONE
BEGIN:VEVENT
DTSTART;TZID=America/Los_Angeles:20260219T190000
DTEND;TZID=America/Los_Angeles:20260219T203000
DTSTAMP:20260424T031755
CREATED:20251107T090543Z
LAST-MODIFIED:20260303T223401Z
UID:10005673-1771527600-1771533000@redeemer-kenmore.org
SUMMARY:Vestry meeting
DESCRIPTION:The Vestry of Episcopal Church of the Redeemer meets monthly on the 3rd Tuesday\, unless otherwise changed. All general meetings are open for the congregation to attend. Meetings are at 7:00 pm in the Parish Hall. \n\n\n\nYou may bring any concerns or ideas you have to any member. \n\n\n\n\n\nVestry\n\n\n\nThe vestry is the legal representative of the parish with regard to all matters pertaining to its corporate property. The number of members and the term of office varies from parish to parish. The annual parish meeting usually elects the members. \n\n\n\nThe presiding officer is the rector [or priest in charge]. There are usually two wardens. The senior warden leads the parish between rectors and is a support person for the rector. The junior warden often has responsibility for church property and buildings. A treasurer and a secretary or clerk may be chosen. These officers may or may not be vestry members.  \n\n\n\nThe basic responsibilities of the vestry are to do the following: \n\n\n\n\nHelp define and articulate the mission of the congregation.\n\n\n\nSupport the church’s mission by word and deed.\n\n\n\nSelect the rector.\n\n\n\nEnsure effective organization and planning.\n\n\n\nManage resources and finances.\n\n\n\n\n[Description adapted from An Episcopal Dictionary of the Church.]
URL:https://redeemer-kenmore.org/event/vestry-meeting/2026-02-19/
LOCATION:Parish Hall at Church of the Redeemer\, Ground Floor of the main building on the campus at 6220 Northeast 181st Street\, Kenmore\, WA\, 98028\, United States
CATEGORIES:Vestry
ATTACH;FMTTYPE=image/webp:https://redeemer-kenmore.org/wp-content/uploads/2025/11/Church-Events-65-Vestry-meeting.avif
GEO:47.7594575;-122.2595651
X-APPLE-STRUCTURED-LOCATION;VALUE=URI;X-ADDRESS=Parish Hall at Church of the Redeemer Ground Floor of the main building on the campus at 6220 Northeast 181st Street Kenmore WA 98028 United States;X-APPLE-RADIUS=500;X-TITLE=Ground Floor of the main building on the campus at 6220 Northeast 181st Street:geo:-122.2595651,47.7594575
END:VEVENT
END:VCALENDAR