BEGIN:VCALENDAR
VERSION:2.0
PRODID:-//Episcopal Church of the Redeemer - ECPv6.15.20//NONSGML v1.0//EN
CALSCALE:GREGORIAN
METHOD:PUBLISH
X-ORIGINAL-URL:https://redeemer-kenmore.org
X-WR-CALDESC:Events for Episcopal Church of the Redeemer
REFRESH-INTERVAL;VALUE=DURATION:PT1H
X-Robots-Tag:noindex
X-PUBLISHED-TTL:PT1H
BEGIN:VTIMEZONE
TZID:America/Los_Angeles
BEGIN:DAYLIGHT
TZOFFSETFROM:-0800
TZOFFSETTO:-0700
TZNAME:PDT
DTSTART:20240310T100000
END:DAYLIGHT
BEGIN:STANDARD
TZOFFSETFROM:-0700
TZOFFSETTO:-0800
TZNAME:PST
DTSTART:20241103T090000
END:STANDARD
BEGIN:DAYLIGHT
TZOFFSETFROM:-0800
TZOFFSETTO:-0700
TZNAME:PDT
DTSTART:20250309T100000
END:DAYLIGHT
BEGIN:STANDARD
TZOFFSETFROM:-0700
TZOFFSETTO:-0800
TZNAME:PST
DTSTART:20251102T090000
END:STANDARD
BEGIN:DAYLIGHT
TZOFFSETFROM:-0800
TZOFFSETTO:-0700
TZNAME:PDT
DTSTART:20260308T100000
END:DAYLIGHT
BEGIN:STANDARD
TZOFFSETFROM:-0700
TZOFFSETTO:-0800
TZNAME:PST
DTSTART:20261101T090000
END:STANDARD
END:VTIMEZONE
BEGIN:VEVENT
DTSTART;TZID=America/Los_Angeles:20250907T000000
DTEND;TZID=America/Los_Angeles:20250907T235959
DTSTAMP:20260423T225822
CREATED:20250711T020035Z
LAST-MODIFIED:20250909T005349Z
UID:10004879-1757203200-1757289599@redeemer-kenmore.org
SUMMARY:13th Sunday after Pentecost (Proper 18C)
DESCRIPTION:Prayers\n\n\n\nGrant us\, O Lord\, to trust in you with all our hearts; for\, as you always resist the proud who confide in their own strength\, so you never forsake those who make their boast of your mercy; through Jesus Christ our Lord\, who lives and reigns with you and the Holy Spirit\, one God\, now and for ever. Amen. \n\n\n\nAnglican Cycle of Prayer\n\n\n\n\nThe See of Canterbury and selection of the next Archbishop of Canterbury\n\n\n\nThe Anglican Church of Southern Africa\n\n\n\n\nEpiscopal Church\n\n\n\n\nThe Most Rev. Sean Rowe\, XXVIII Presiding Bishop of the Episcopal Church\n\n\n\nChurch Publishing Inc. (CPI)\, College for Bishops\n\n\n\nDioceses of South Dakota\, Wyoming\n\n\n\n\nDiocese of Olympia\n\n\n\n\nThe Rt. Rev. Philip N. LaBelle\, IX Bishop of the Diocese of Olympia\n\n\n\nBrotherhood of St. Andrew; The Order of Saint Francis; Earth Ministry\n\n\n\n\nThose in authority\n\n\n\n\nDonald J. Trump\, President of the United States\n\n\n\nRobert Ferguson\, Governor of Washington\n\n\n\nTeri Gobin\, Chair of the Tulalip Tribes\n\n\n\nCecile Hanson\, Chair of the Duwamish Nation\n\n\n\n\nLessons\n\n\n\nLessons appointed for use for this day from the Revised Common Lectionary (Episcopal version). \n\n\n\nDeuteronomy 30:15-20 (NRSV)\n\n\n\nSee\, I have set before you today life and prosperity\, death and adversity. If you obey the commandments of the Lord your God that I am commanding you today\, by loving the Lord your God\, walking in his ways\, and observing his commandments\, decrees\, and ordinances\, then you shall live and become numerous\, and the Lord your God will bless you in the land that you are entering to possess. But if your heart turns away and you do not hear\, but are led astray to bow down to other gods and serve them\, I declare to you today that you shall perish; you shall not live long in the land that you are crossing the Jordan to enter and possess. I call heaven and earth to witness against you today that I have set before you life and death\, blessings and curses. Choose life so that you and your descendants may live\, loving the Lord your God\, obeying him\, and holding fast to him; for that means life to you and length of days\, so that you may live in the land that the Lord swore to give to your ancestors\, to Abraham\, to Isaac\, and to Jacob. \n\n\n\nPsalm 1 (BCP)\n\n\n\nBeatus vir qui non abiit \n\n\n\n1 Happy are they who have not walked in the counsel of the wicked\, *     nor lingered in the way of sinners\, nor sat in the seats of the scornful! \n\n\n\n2 Their delight is in the law of the Lord\, *     and they meditate on his law day and night. \n\n\n\n3 They are like trees planted by streams of water\, bearing fruit in due season\, with leaves that do not wither; *     everything they do shall prosper. \n\n\n\n4 It is not so with the wicked; *     they are like chaff which the wind blows away. \n\n\n\n5 Therefore the wicked shall not stand upright when judgment comes\, *     nor the sinner in the council of the righteous. \n\n\n\n6 For the Lord knows the way of the righteous\, *     but the way of the wicked is doomed. \n\n\n\nPhilemon 1-21 (NRSV)\n\n\n\nPaul\, a prisoner of Christ Jesus\, and Timothy our brother\, To Philemon our dear friend and co-worker\, to Apphia our sister\, to Archippus our fellow soldier\, and to the church in your house: Grace to you and peace from God our Father and the Lord Jesus Christ. When I remember you in my prayers\, I always thank my God because I hear of your love for all the saints and your faith toward the Lord Jesus. I pray that the sharing of your faith may become effective when you perceive all the good that we may do for Christ. I have indeed received much joy and encouragement from your love\, because the hearts of the saints have been refreshed through you\, my brother. For this reason\, though I am bold enough in Christ to command you to do your duty\, yet I would rather appeal to you on the basis of love—and I\, Paul\, do this as an old man\, and now also as a prisoner of Christ Jesus. I am appealing to you for my child\, Onesimus\, whose father I have become during my imprisonment. Formerly he was useless to you\, but now he is indeed useful both to you and to me. I am sending him\, that is\, my own heart\, back to you. I wanted to keep him with me\, so that he might be of service to me in your place during my imprisonment for the gospel; but I preferred to do nothing without your consent\, in order that your good deed might be voluntary and not something forced. Perhaps this is the reason he was separated from you for a while\, so that you might have him back forever\, no longer as a slave but more than a slave\, a beloved brother—especially to me but how much more to you\, both in the flesh and in the Lord. So if you consider me your partner\, welcome him as you would welcome me. If he has wronged you in any way\, or owes you anything\, charge that to my account. I\, Paul\, am writing this with my own hand: I will repay it. I say nothing about your owing me even your own self. Yes\, brother\, let me have this benefit from you in the Lord! Refresh my heart in Christ. Confident of your obedience\, I am writing to you\, knowing that you will do even more than I say. \n\n\n\nLuke 14:25-33 (NRSV)\n\n\n\nNow large crowds were traveling with Jesus; and he turned and said to them\, “Whoever comes to me and does not hate father and mother\, wife and children\, brothers and sisters\, yes\, and even life itself\, cannot be my disciple. Whoever does not carry the cross and follow me cannot be my disciple. For which of you\, intending to build a tower\, does not first sit down and estimate the cost\, to see whether he has enough to complete it? Otherwise\, when he has laid a foundation and is not able to finish\, all who see it will begin to ridicule him\, saying\, ‘This fellow began to build and was not able to finish.’ Or what king\, going out to wage war against another king\, will not sit down first and consider whether he is able with ten thousand to oppose the one who comes against him with twenty thousand? If he cannot\, then\, while the other is still far away\, he sends a delegation and asks for the terms of peace. So therefore\, none of you can become my disciple if you do not give up all your possessions.” \n\n\n\n\n\n\n\nThe Old Testament\, New Testament and Gospel readings are from the New Revised Standard Version Bible: Anglicized Edition\, copyright 1989\, 1995\, Division of Christian Education of the National Council of the Churches of Christ in the United States of America. Used by permission. All rights reserved. \n\n\n\nThe Psalm is from the Book of Common Prayer\, 1979.
URL:https://redeemer-kenmore.org/event/13th-sunday-after-pentecost-proper-18c/
LOCATION:Church of the Redeemer\, Kenmore\, Washington\, 6220 Northeast 181st Street\, PO Box 82677\, Kenmore\, WA\, 98028\, United States
CATEGORIES:After Pentecost
ATTACH;FMTTYPE=image/png:https://redeemer-kenmore.org/wp-content/uploads/2023/05/After-Pentecost.avif
ORGANIZER;CN="Church Office":MAILTO:office@redeemer-kenmore.org
GEO:47.7594575;-122.2595651
X-APPLE-STRUCTURED-LOCATION;VALUE=URI;X-ADDRESS=Church of the Redeemer Kenmore Washington 6220 Northeast 181st Street PO Box 82677 Kenmore WA 98028 United States;X-APPLE-RADIUS=500;X-TITLE=6220 Northeast 181st Street\, PO Box 82677:geo:-122.2595651,47.7594575
END:VEVENT
BEGIN:VEVENT
DTSTART;TZID=America/Los_Angeles:20250907T080000
DTEND;TZID=America/Los_Angeles:20250907T090000
DTSTAMP:20260423T225822
CREATED:20250807T074511Z
LAST-MODIFIED:20250807T074524Z
UID:10001341-1757232000-1757235600@redeemer-kenmore.org
SUMMARY:In-person Holy Eucharist
DESCRIPTION:Everyone is welcome at Church of the Redeemer. We look forward to seeing you at this 8:00 am Sunday service of Holy Eucharist at Church of the Redeemer. It is in-person only. \n\n\n\nAll are welcome to participate fully at Redeemer. \n\n\n\n\nAll races.\n\n\n\nAll religions.\n\n\n\nAll countries of origin.\n\n\n\nAll sexual orientations (including LGBTQ+).\n\n\n\nAll genders.\n\n\n\n\nEucharist\n\n\n\nThe Eucharist is the sacrament of Christ’s body and blood\, and the principal act of Christian worship. The term is from the Greek\, “thanksgiving.” The Episcopal Church invites all baptized Christians to receive communion. \n\n\n\nJesus instituted the Eucharist “on the night when he was betrayed.” At the Last Supper he shared the bread and cup of wine at a sacred meal with his disciples. He identified the bread with his body and the wine with his blood of the new covenant. Jesus commanded his disciples to “do this” in remembrance of him. See these passages in Scripture: \n\n\n\n\n1 Corinthians 11:23-26\n\n\n\nMark 14:22-25\n\n\n\nMatthew 26:26-29\n\n\n\nLuke 22:14-20\n\n\n\n\nThe Book of Common Prayer\n\n\n\nThe Eucharist makes Christ’s sacrifice present. This unites us to Christ’s one self-offering (Book of Common Prayer\, p. 859). The Last Supper provides the basis for the fourfold Eucharistic action of taking\, blessing\, breaking\, and sharing. Christ’s body and blood are really present in the sacrament of the Eucharist and received by faith. We also know Christ’s presence in the gathered eucharistic community. \n\n\n\nThe Book of Common Prayer entitles the whole service the Holy Eucharist. \n\n\n\n\nThe first part of the service is designated the Word of God. It usually includes the entrance rite\, the lessons and gradual psalm\, the gospel\, the sermon\, the Nicene Creed\, the Prayers of the People\, the confession of sin and absolution\, and the Peace.\n\n\n\nThe second portion of the service is designated the Holy Communion. It includes the offertory\, the consecration of the bread and wine in the Great Thanksgiving\, the communion of the people\, and the concluding prayers of thanksgiving and dismissal. A blessing may be given prior to the dismissal.\n\n\n\n\nThe Eucharist is also called the Lord’s Supper\, Holy Communion\, the Divine Liturgy\, the Mass\, and the Great Offertory (BCP\, p. 859). \n\n\n\nThe Hymnal\n\n\n\nThe Hymnal 1982 includes a section with a variety of hymns for the Holy Eucharist (Numbers 300 through 347)\, including the following: \n\n\n\n\n“Come\, risen Lord\, and deign to be our guest” (305 and 306)\n\n\n\n“My God\, thy table now is spread” (321)\n\n\n\n“Now\, my tongue\, the mystery telling” (329 through 331)\n\n\n\n“I am the bread of life” (335)\n\n\n\n\n(Above taken from Eucharist .)
URL:https://redeemer-kenmore.org/event/in-person-holy-eucharist/2025-09-07/
LOCATION:Nave and Sanctuary at Church of the Redeemer\, 6220 Northeast 181st Street\, Kenmore\, WA\, 98028\, United States
CATEGORIES:Liturgy
ATTACH;FMTTYPE=image/png:https://redeemer-kenmore.org/wp-content/uploads/2023/07/Early-Service-Holy-Eucharist.avif
ORGANIZER;CN="Church Office":MAILTO:office@redeemer-kenmore.org
GEO:47.7594575;-122.2595651
X-APPLE-STRUCTURED-LOCATION;VALUE=URI;X-ADDRESS=Nave and Sanctuary at Church of the Redeemer 6220 Northeast 181st Street Kenmore WA 98028 United States;X-APPLE-RADIUS=500;X-TITLE=6220 Northeast 181st Street:geo:-122.2595651,47.7594575
END:VEVENT
BEGIN:VEVENT
DTSTART;TZID=America/Los_Angeles:20250907T103000
DTEND;TZID=America/Los_Angeles:20250907T113000
DTSTAMP:20260423T225822
CREATED:20250807T072044Z
LAST-MODIFIED:20250807T073913Z
UID:10001629-1757241000-1757244600@redeemer-kenmore.org
SUMMARY:In-person and on-line Holy Eucharist
DESCRIPTION:The people at Episcopal Church of the Redeemer welcomes everyone. We look forward to seeing you at this 10:30 am service of Holy Eucharist at Church of the Redeemer.  \n\n\n\nIt is in-person and on-line. The link to the service live cast is on the Welcome page of this website. \n\n\n\nAll are welcome to participate fully at Redeemer. \n\n\n\n\nAll races.\n\n\n\nAll religions.\n\n\n\nAll countries of origin.\n\n\n\nAll sexual orientations (including LGBTQ+).\n\n\n\nAll genders.\n\n\n\n\nEucharist\n\n\n\nThe Eucharist is the sacrament of Christ’s body and blood\, and the principal act of Christian worship. The term is from the Greek\, “thanksgiving.” The Episcopal Church invites all baptized Christians to receive communion. \n\n\n\nJesus instituted the Eucharist “on the night when he was betrayed.” At the Last Supper he shared the bread and cup of wine at a sacred meal with his disciples. He identified the bread with his body and the wine with his blood of the new covenant. Jesus commanded his disciples to “do this” in remembrance of him. See these passages in Scripture: \n\n\n\n\n1 Corinthians 11:23-26\n\n\n\nMark 14:22-25\n\n\n\nMatthew 26:26-29\n\n\n\nLuke 22:14-20\n\n\n\n\nThe Book of Common Prayer\n\n\n\nThe Eucharist makes Christ’s sacrifice present. This unites us to Christ’s one self-offering (Book of Common Prayer\, p. 859). The Last Supper provides the basis for the fourfold Eucharistic action of taking\, blessing\, breaking\, and sharing. Christ’s body and blood are really present in the sacrament of the Eucharist and received by faith. We also know Christ’s presence in the gathered eucharistic community. \n\n\n\nThe Book of Common Prayer entitles the whole service the Holy Eucharist. \n\n\n\n\nThe first part of the service is designated the Word of God. It usually includes the entrance rite\, the lessons and gradual psalm\, the gospel\, the sermon\, the Nicene Creed\, the Prayers of the People\, the confession of sin and absolution\, and the Peace.\n\n\n\nThe second portion of the service is designated the Holy Communion. It includes the offertory\, the consecration of the bread and wine in the Great Thanksgiving\, the communion of the people\, and the concluding prayers of thanksgiving and dismissal. A blessing may be given prior to the dismissal.\n\n\n\n\nThe Eucharist is also called the Lord’s Supper\, Holy Communion\, the Divine Liturgy\, the Mass\, and the Great Offertory (BCP\, p. 859). \n\n\n\nThe Hymnal\n\n\n\nThe Hymnal 1982 includes a section with a variety of hymns for the Holy Eucharist (Numbers 300 through 347)\, including the following: \n\n\n\n\n“Come\, risen Lord\, and deign to be our guest” (305 and 306)\n\n\n\n“My God\, thy table now is spread” (321)\n\n\n\n“Now\, my tongue\, the mystery telling” (329 through 331)\n\n\n\n“I am the bread of life” (335)\n\n\n\n\n(Above taken from Eucharist .)
URL:https://redeemer-kenmore.org/event/in-person-and-on-line-holy-eucharist-2/2025-09-07/
LOCATION:Nave and Sanctuary at Church of the Redeemer\, 6220 Northeast 181st Street\, Kenmore\, WA\, 98028\, United States
CATEGORIES:Liturgy
ATTACH;FMTTYPE=image/png:https://redeemer-kenmore.org/wp-content/uploads/2023/06/Late-Service-Holy-Eucharist.avif
ORGANIZER;CN="Church Office":MAILTO:office@redeemer-kenmore.org
GEO:47.7594575;-122.2595651
X-APPLE-STRUCTURED-LOCATION;VALUE=URI;X-ADDRESS=Nave and Sanctuary at Church of the Redeemer 6220 Northeast 181st Street Kenmore WA 98028 United States;X-APPLE-RADIUS=500;X-TITLE=6220 Northeast 181st Street:geo:-122.2595651,47.7594575
END:VEVENT
BEGIN:VEVENT
DTSTART;TZID=America/Los_Angeles:20250908T103000
DTEND;TZID=America/Los_Angeles:20250908T123000
DTSTAMP:20260423T225822
CREATED:20230610T153626Z
LAST-MODIFIED:20240616T034913Z
UID:10002694-1757327400-1757334600@redeemer-kenmore.org
SUMMARY:Memorial Garden Workparty
DESCRIPTION:Do you need to touch some grass? Do you enjoy gardening?  If so\, we’d love to have you join to help us keep our memorial garden looking beautiful all year round at Church of the Redeemer. All are welcome! \n\n\n\nWe start at 10:30 am. Please bring your own gardening tools and protective equipment. Dress appropriately.  \n\n\n\n\n\n\n\nThe memorial garden is on the north side of the main church building. To enter it\, walk as if you are going to enter the main front doors. Then\, as you approach the building\, walk to the left of those doors down the concrete walk to the back of the building.
URL:https://redeemer-kenmore.org/event/memorial-garden-workparty/2025-09-08/
LOCATION:Memorial Garden at Church of the Redeemer\, 6220 Northeast 181st Street\, Kenmore\, WA\, 98028\, United States
CATEGORIES:Memorial Garden
ATTACH;FMTTYPE=image/png:https://redeemer-kenmore.org/wp-content/uploads/2023/06/Memorial-Garden-Workparty.avif
GEO:47.7594575;-122.2595651
X-APPLE-STRUCTURED-LOCATION;VALUE=URI;X-ADDRESS=Memorial Garden at Church of the Redeemer 6220 Northeast 181st Street Kenmore WA 98028 United States;X-APPLE-RADIUS=500;X-TITLE=6220 Northeast 181st Street:geo:-122.2595651,47.7594575
END:VEVENT
BEGIN:VEVENT
DTSTART;TZID=America/Los_Angeles:20250908T193000
DTEND;TZID=America/Los_Angeles:20250908T203000
DTSTAMP:20260423T225822
CREATED:20230227T222236Z
LAST-MODIFIED:20250821T223100Z
UID:10001899-1757359800-1757363400@redeemer-kenmore.org
SUMMARY:Cocaine Anonymous: Kenmore Keystone (D3)
DESCRIPTION:Church of the Redeemer rents space to Cocaine Anonymous for this meeting. Please contact Cocaine Anonymous for more information. In the spirit of Tradition Six\, C.A. is not allied with any sect\, denomination\, politics\, organization or institution. \n\n\n\nMeeting type: \n\n\n\n\nMeditation: Practices vary\, but typically there is a brief period of meditation prior to any sharing. The meditation may be silent or accompanied by audio intended to help facilitate the practice. Lights may be turned off or dimmed during the meditation.\n\n\n\nCandlelight: The meeting is conducted partly or entirely by candlelight.\n\n\n\n\nAbout C.A.\n\n\n\nCocaine Anonymous is a Fellowship of men and women who share their experience\, strength and hope with each other that they may solve their common problem and help others recover from their addiction. \n\n\n\nThe best way to reach someone is to speak to them on a common level. The members of C.A. are all recovering addicts who maintain their individual sobriety by working with others. We come from various social\, ethnic\, economic and religious backgrounds\, but what we have in common is addiction. \n\n\n\nThe only requirement for membership is a desire to stop using cocaine and all other mind-altering substances. \n\n\n\nAnyone who wants to stop using cocaine and all other mind-altering substances (including alcohol and other drugs) is welcome. \n\n\n\nThere are no dues or fees for membership; we are fully self-supporting through our own contributions. \n\n\n\nWe do ask for voluntary contributions at meetings to cover expenses such as coffee\, rent\, literature and services to help those who are still suffering. However\, newcomers need not feel obligated to contribute. We do not accept donations from organizations or individuals outside the Fellowship. \n\n\n\nWe are not allied with any sect\, denomination\, politics\, organization or institution. \n\n\n\nIn order to maintain our integrity and avoid any possible complications\, we are not affiliated with any outside organization. Although C.A. is a spiritual program\, we do not align ourselves with any religion. Our members are free to define their spirituality as they see fit. Our individual members may have opinions of their own\, but C.A. as a whole has no opinion on outside issues. We are not affiliated with any rehabs\, recovery houses or hospitals\, but many do refer their patients to Cocaine Anonymous to maintain their sobriety. \n\n\n\nOur primary purpose is to stay free from cocaine and all other mind-altering substances and to help others achieve the same freedom. \n\n\n\nThe only purpose of Cocaine Anonymous is to offer recovery to individuals who are suffering from addiction. Our experience has shown that the most effective way to attain and maintain sobriety is to work with others suffering from the same malady. \n\n\n\nWe use the Twelve-Step recovery program because it has already been proven that the Twelve-Step recovery program works. \n\n\n\nCocaine Anonymous\n\n\n\nWelcome to Cocaine Anonymous . We are all here for the same reason—our inability to stop using cocaine and all other mind-altering substances. The first step towards solving any problem is admitting that there is a problem. \n\n\n\n12 steps of Cocaine Anonymous\n\n\n\n\nWe admitted we were powerless over cocaine and all other mind-altering substances—that our lives had become unmanageable.\n\n\n\nCame to believe that a Power greater than ourselves could restore us to sanity.\n\n\n\nMade a decision to turn our will and our lives over to the care of God as we understood Him.\n\n\n\nMade a searching and fearless moral inventory of ourselves.\n\n\n\nAdmitted to God\, to ourselves\, and to another human being the exact nature of our wrongs.\n\n\n\nWere entirely ready to have God remove all these defects of character.\n\n\n\nHumbly asked Him to remove our shortcomings.\n\n\n\nMade a list of all persons we had harmed\, and became willing to make amends to them all.\n\n\n\nMade direct amends to such people wherever possible\, except when to do so would injure them or others.\n\n\n\nContinued to take personal inventory and when we were wrong promptly admitted it.\n\n\n\nSought through prayer and meditation to improve our conscious contact with God as we understood Him\, praying only for knowledge of His will for us and the power to carry that out.\n\n\n\nHaving had a spiritual awakening as the result of these Steps\, we tried to carry this message to addicts\, and to practice these principles in all our affairs.
URL:https://redeemer-kenmore.org/event/cocaine-anonymous-kenmore-keystone-d3-19/2025-09-08/
LOCATION:Parish Hall at Church of the Redeemer\, Ground Floor of the main building on the campus at 6220 Northeast 181st Street\, Kenmore\, WA\, 98028\, United States
CATEGORIES:12 Step Meetings
ATTACH;FMTTYPE=image/jpeg:https://redeemer-kenmore.org/wp-content/uploads/2018/01/Cocaine-Anonymous.avif
GEO:47.7594575;-122.2595651
X-APPLE-STRUCTURED-LOCATION;VALUE=URI;X-ADDRESS=Parish Hall at Church of the Redeemer Ground Floor of the main building on the campus at 6220 Northeast 181st Street Kenmore WA 98028 United States;X-APPLE-RADIUS=500;X-TITLE=Ground Floor of the main building on the campus at 6220 Northeast 181st Street:geo:-122.2595651,47.7594575
END:VEVENT
BEGIN:VEVENT
DTSTART;TZID=America/Los_Angeles:20250912T193000
DTEND;TZID=America/Los_Angeles:20250912T203000
DTSTAMP:20260423T225822
CREATED:20230225T023159Z
LAST-MODIFIED:20230905T050114Z
UID:10000563-1757705400-1757709000@redeemer-kenmore.org
SUMMARY:Alcoholics Anonymous: Kenmore Friday Nighters
DESCRIPTION:Church of the Redeemer rents space to Alcoholics Anonymous for this meeting. Please contact Alcoholics Anonymous for more information. A.A. is not allied with any sect\, denomination\, politics\, organization or institution. \n\n\n\nWhat is Alcoholics Anonymous?\n\n\n\nAlcoholics Anonymous is a fellowship of people who share their experience\, strength and hope with each other that they may solve their common problem and help others to recover from alcoholism. \n\n\n\nThe only requirement for membership is a desire to stop drinking. There are no dues or fees for A.A. membership; we are self-supporting through our own contributions. A.A. is not allied with any sect\, denomination\, politics\, organization or institution; does not wish to engage in any controversy\, neither endorses nor opposes any causes. \n\n\n\nWhat A.A. does do: \n\n\n\n\nOur primary purpose is to stay sober and help other alcoholics to achieve sobriety.\n\n\n\nA.A. members share their experience with anyone seeking help with a drinking problem; they give person-to-person service or “sponsorship” to the alcoholic coming to A.A. from any source.\n\n\n\nThe A.A. program\, set forth in our Twelve Steps\, offers the alcoholic a way to develop a satisfying life without alcohol.\n\n\n\n\nThis program is discussed at A.A. group meetings. \n\n\n\n\nOpen speaker meetings — open to alcoholics and nonalcoholics. (Attendance at an open A.A. meeting is the best way to learn what A.A. is\, what it does\, and what it does not do.) At speaker meetings\, A.A. members “tell their stories.” They describe their experiences with alcohol\, how they came to A.A.\, and how their lives have changed as a result of Alcoholics Anonymous.\n\n\n\nOpen discussion meetings — one member speaks briefly about his or her drinking experience\, and then leads a discussion on A.A. recovery or any drinking-related problem anyone brings up. (Closed meetings are for A.A.s or anyone who may have a drinking problem.)\n\n\n\nClosed discussion meetings — conducted just as open discussions are\, but for alcoholics or prospective A.A.s only.\n\n\n\nStep meetings (usually closed) — discussion of one of the Twelve Steps.
URL:https://redeemer-kenmore.org/event/alcoholics-anonymous-kenmore-friday-nighters-9/2025-09-12/
LOCATION:Parish Hall at Church of the Redeemer\, Ground Floor of the main building on the campus at 6220 Northeast 181st Street\, Kenmore\, WA\, 98028\, United States
CATEGORIES:12 Step Meetings
ATTACH;FMTTYPE=image/jpeg:https://redeemer-kenmore.org/wp-content/uploads/2018/08/Alcohol-Anonymous.jpg
GEO:47.7594575;-122.2595651
X-APPLE-STRUCTURED-LOCATION;VALUE=URI;X-ADDRESS=Parish Hall at Church of the Redeemer Ground Floor of the main building on the campus at 6220 Northeast 181st Street Kenmore WA 98028 United States;X-APPLE-RADIUS=500;X-TITLE=Ground Floor of the main building on the campus at 6220 Northeast 181st Street:geo:-122.2595651,47.7594575
END:VEVENT
BEGIN:VEVENT
DTSTART;TZID=America/Los_Angeles:20250913T100000
DTEND;TZID=America/Los_Angeles:20250913T120000
DTSTAMP:20260423T225822
CREATED:20250905T080100Z
LAST-MODIFIED:20250905T082041Z
UID:10005040-1757757600-1757764800@redeemer-kenmore.org
SUMMARY:Remington Drive Irregulars Practice
DESCRIPTION:A practice for the Remington Drive Irregulars\, the choir for Episcopal Church of the Redeemer\, takes place on Saturday\, September 13\, 2025. This happens in the nave from 10:00 am to 12:00 noon. \n\n\n\nWe welcome all. Please sign up at the link below. \n\n\n\nIf you have any questions\, contact Bob Chapman\, bchapman@redeemer-kenmore.org. \n\n\n\n\nCome\, let us sing to the Lord; *     let us shout for joy to the Rock of our salvation.Let us come before his presence with thanksgiving *     and raise a loud shout to him with psalms. \n\n\n\nFrom the Venite\, exultemus (Psalm 95) in the Book of Common Prayer
URL:https://redeemer-kenmore.org/event/remington-drive-irregulars-practice/
LOCATION:Nave and Sanctuary at Church of the Redeemer\, 6220 Northeast 181st Street\, Kenmore\, WA\, 98028\, United States
CATEGORIES:Music Rehearsal
ATTACH;FMTTYPE=image/webp:https://redeemer-kenmore.org/wp-content/uploads/2025/08/Church-Events-57-Remington-Drive-Irregulars.avif
ORGANIZER;CN="Bob Chapman":MAILTO:bchapman@redeemer-kenmore.org
GEO:47.7594575;-122.2595651
X-APPLE-STRUCTURED-LOCATION;VALUE=URI;X-ADDRESS=Nave and Sanctuary at Church of the Redeemer 6220 Northeast 181st Street Kenmore WA 98028 United States;X-APPLE-RADIUS=500;X-TITLE=6220 Northeast 181st Street:geo:-122.2595651,47.7594575
END:VEVENT
END:VCALENDAR